Workbook
Name ВидС: Установки!$F$34:$F$36
Name ВК01: Установки!$C$9
Name ВК02: Установки!$D$9
Name ВК03: Установки!$E$9
Name ВК04: Установки!$F$9
Name ВК05: Установки!$G$9
Name ВК06: Установки!$H$9
Name ВК07: Установки!$I$9
Name ВК08: Установки!$O$9
Name ВК09: Установки!$P$9
Name ВК10: Установки!$Q$9
Name ВК11: Установки!$R$9
Name ВК12: Установки!#REF!
Name ВК13: Установки!#REF!
Name ВК14: Установки!#REF!
Name ВК15: Установки!#REF!
Name ВК16: Установки!#REF!
Name ВК17: Установки!#REF!
Name ВК18: Установки!#REF!
Name ВК19: Установки!#REF!
Name ВК20: Установки!#REF!
Name ВКсп: Установки!$C$9:$V$9
Name лВК: Взвешивание_02!$J$4
Name лВК: ЗАЯВКА!$H$8
Name лВК: ПротВзвеш!$H$7
Name лВК: #REF!
Name ОТМ: ФИО!$B$3:$B$3362
Name СН_ВидС: Установки!$F$34:$F$36
Name СН_ВК: Установки!$D$34:$D$67
Name СН_Орг: ФИО!$G$3365:$I$3504
Name СН_СММ: Установки!$H$34:$H$56
Name СН_СММ_Прим: Установки!$B$34:$B$63

Sheet Лист1
B1: 50
B2: 55
B3: 60
B4: 66
B5: 74
B6: 84
B7: 96
B8: 120
B9: 42
B10: 46
B11: 50
B12: 54
... B36: 70

Sheet ПротВзвеш
B1: ПРОТКОЛ ВЗВЕШИВАНИЯ
C2: =Установки!C3 -> Первенства РБ U-21 по дзюдо | K2: весовая категория
C3: =Установки!C4 -> среди юниоров
C4: =Установки!C5 -> ДЗЮДО
C5: =Установки!C6&" "&Установки!C7 -> 16-18 января 2020 г. Могилёв
B6: № | C6: Фамилия Имя участника | D6: Чис. | E6: Мес. | F6: Год р. | G6: Разряд | H6: Весовая катег. | I6: Город | J6: Организация, ведомство | K6: Тренер | L6: виза врача
C7: =ФИО!G3&" "&ФИО!H3&" "&ФИО!I3 -> Грищенко Анастасия Анатольевна | D7: =ФИО!J3 -> 30 | E7: =ФИО!K3 -> 03 | F7: =ФИО!L3 -> 2001 | G7: =ФИО!M3 -> кмс | I7: =ФИО!N3 -> Бобруйск | J7: =ФИО!O3&" "&ФИО!P3 -> Динамо | K7: =ФИО!Q3&" "&ФИО!R3&" "&ФИО!S3&" "&ФИО!T3&" "&ФИО!U3 -> Жуковец В.В. Жуковец Н.Н.
C8: =ФИО!G4&" "&ФИО!H4&" "&ФИО!I4 -> Васищева Анна Александровна | D8: =ФИО!J4 -> 18 | E8: =ФИО!K4 -> 04 | F8: =ФИО!L4 -> 2004 | G8: =ФИО!M4 -> 1 | I8: =ФИО!N4 -> Могилев | J8: =ФИО!O4&" "&ФИО!P4 -> СДЮШОР№3 МСиТ | K8: =ФИО!Q4&" "&ФИО!R4&" "&ФИО!S4&" "&ФИО!T4&" "&ФИО!U4 -> Муравская Т.В.
C9: =ФИО!G5&" "&ФИО!H5&" "&ФИО!I5 -> Шевцова Дарья Владимировна | D9: =ФИО!J5 -> 07 | E9: =ФИО!K5 -> 12 | F9: =ФИО!L5 -> 2004 | G9: =ФИО!M5 -> 1 | I9: =ФИО!N5 -> Чериков | J9: =ФИО!O5&" "&ФИО!P5 -> ГУДО"центр творчества и молодежи" МСиТ | K9: =ФИО!Q5&" "&ФИО!R5&" "&ФИО!S5&" "&ФИО!T5&" "&ФИО!U5 -> Соляников А.Н.
D10: =ФИО!J6 -> 13 | E10: =ФИО!K6 -> 11 | F10: =ФИО!L6 -> 2000 | G10: =ФИО!M6 -> кмс | J10: =ФИО!O6&" "&ФИО!P6 -> МГУОР МСиТ | K10: =ФИО!Q6&" "&ФИО!R6&" "&ФИО!S6&" "&ФИО!T6&" "&ФИО!U6 -> Плахов А.В.
C11: =ФИО!G7&" "&ФИО!H7&" "&ФИО!I7 -> Гупало Инесса Сергеевна | D11: =ФИО!J7 -> 18 | E11: =ФИО!K7 -> 08 | F11: =ФИО!L7 -> 2003 | G11: =ФИО!M7 -> кмс | I11: =ФИО!N7 -> Бобруйск | J11: =ФИО!O7&" "&ФИО!P7 -> БГУОР Динамо | K11: =ФИО!Q7&" "&ФИО!R7&" "&ФИО!S7&" "&ФИО!T7&" "&ФИО!U7 -> Жуковец В.В. Жуковец Н.Н.
C12: =ФИО!G8&" "&ФИО!H8&" "&ФИО!I8 -> Буракова Надежда Владимировна | D12: =ФИО!J8 -> 15 | E12: =ФИО!K8 -> 03 | F12: =ФИО!L8 -> 2003 | G12: =ФИО!M8 -> кмс | I12: =ФИО!N8 -> Могилев | J12: =ФИО!O8&" "&ФИО!P8 -> МГУОР МСиТ | K12: =ФИО!Q8&" "&ФИО!R8&" "&ФИО!S8&" "&ФИО!T8&" "&ФИО!U8 -> Михайлов В.П. Будагян Г.А.
C13: =ФИО!G9&" "&ФИО!H9&" "&ФИО!I9 -> Герасименко Кристина Алексеевна | D13: =ФИО!J9 -> 0 | E13: =ФИО!K9 -> 0 | F13: =ФИО!L9 -> 2004 | G13: =ФИО!M9 -> 1 | I13: =ФИО!N9 -> Бобруйск | J13: =ФИО!O9&" "&ФИО!P9 -> БГУОР Динамо | K13: =ФИО!Q9&" "&ФИО!R9&" "&ФИО!S9&" "&ФИО!T9&" "&ФИО!U9 -> Жуковец В.В.
C14: =ФИО!G10&" "&ФИО!H10&" "&ФИО!I10 -> Стригун Ангелина Павловна | D14: =ФИО!J10 -> 11 | E14: =ФИО!K10 -> 08 | F14: =ФИО!L10 -> 2003 | G14: =ФИО!M10 -> 1 | I14: =ФИО!N10 -> Могилев | J14: =ФИО!O10&" "&ФИО!P10 -> МГУОР МСиТ | K14: =ФИО!Q10&" "&ФИО!R10&" "&ФИО!S10&" "&ФИО!T10&" "&ФИО!U10 -> Рыбалко Н.А. Будагян Г.А. Михайлов В.П.
C15: =ФИО!G11&" "&ФИО!H11&" "&ФИО!I11 -> Борисова Александра Николаевна | D15: =ФИО!J11 -> 21 | E15: =ФИО!K11 -> 03 | F15: =ФИО!L11 -> 2002 | G15: =ФИО!M11 -> 1 | I15: =ФИО!N11 -> Могилев | J15: =ФИО!O11&" "&ФИО!P11 -> СДЮШОР №3 МСиТ | K15: =ФИО!Q11&" "&ФИО!R11&" "&ФИО!S11&" "&ФИО!T11&" "&ФИО!U11 -> Старовойтова Т.Н.
C16: =ФИО!G12&" "&ФИО!H12&" "&ФИО!I12 -> Скворцова Анастасия Сергеевна | D16: =ФИО!J12 -> 27 | E16: =ФИО!K12 -> 10 | F16: =ФИО!L12 -> 2002 | G16: =ФИО!M12 -> кмс | I16: =ФИО!N12 -> Могилев | J16: =ФИО!O12&" "&ФИО!P12 -> МГУОР МСиТ | K16: =ФИО!Q12&" "&ФИО!R12&" "&ФИО!S12&" "&ФИО!T12&" "&ФИО!U12 -> Старовойтова Т.Н. Будагян Г.А. Михайлов В.П.
C17: =ФИО!G13&" "&ФИО!H13&" "&ФИО!I13 -> Дубовская Елизавета Юрьевна | D17: =ФИО!J13 -> 15 | E17: =ФИО!K13 -> 09 | F17: =ФИО!L13 -> 2002 | G17: =ФИО!M13 -> кмс | I17: =ФИО!N13 -> Могилев | J17: =ФИО!O13&" "&ФИО!P13 -> МГУОР МСиТ | K17: =ФИО!Q13&" "&ФИО!R13&" "&ФИО!S13&" "&ФИО!T13&" "&ФИО!U13 -> Рыбалко Н.А. Чернякова Е.В. Михайлов В.П. Будагян Г.А.
C18: =ФИО!G14&" "&ФИО!H14&" "&ФИО!I14 -> Романюк Елена | D18: =ФИО!J14 -> 0 | E18: =ФИО!K14 -> 0 | F18: =ФИО!L14 -> 2002 | G18: =ФИО!M14 -> 0 | I18: =ФИО!N14 -> Могилев | J18: =ФИО!O14&" "&ФИО!P14 -> БРУ | K18: =ФИО!Q14&" "&ФИО!R14&" "&ФИО!S14&" "&ФИО!T14&" "&ФИО!U14 -> Перец Н.А.
C19: =ФИО!G15&" "&ФИО!H15&" "&ФИО!I15 -> Королькова Ольга Владимировна | D19: =ФИО!J15 -> 23 | E19: =ФИО!K15 -> 03 | F19: =ФИО!L15 -> 2003 | G19: =ФИО!M15 -> кмс | I19: =ФИО!N15 -> Могилев | J19: =ФИО!O15&" "&ФИО!P15 -> РГУОР МСиТ | K19: =ФИО!Q15&" "&ФИО!R15&" "&ФИО!S15&" "&ФИО!T15&" "&ФИО!U15 -> Толкачев Н.А. Рябцев Л.С. Будагян Г.А. Михайлов В.П.
C20: =ФИО!G16&" "&ФИО!H16&" "&ФИО!I16 -> Хрущева Валерия Олеговна | D20: =ФИО!J16 -> 20 | E20: =ФИО!K16 -> 10 | F20: =ФИО!L16 -> 2002 | G20: =ФИО!M16 -> мс | I20: =ФИО!N16 -> Могилев | J20: =ФИО!O16&" "&ФИО!P16 -> БГУОР МСиТ | K20: =ФИО!Q16&" "&ФИО!R16&" "&ФИО!S16&" "&ФИО!T16&" "&ФИО!U16 -> Климко И.В. Чернякова Е.В. Жуковец Н.Н. Жуковец В.В.
C21: =ФИО!G17&" "&ФИО!H17&" "&ФИО!I17 -> Бурачкова Полина Руслановна | D21: =ФИО!J17 -> 06 | E21: =ФИО!K17 -> 04 | F21: =ФИО!L17 -> 2004 | G21: =ФИО!M17 -> 1 | I21: =ФИО!N17 -> Могилев | J21: =ФИО!O17&" "&ФИО!P17 -> МГУОР МСиТ | K21: =ФИО!Q17&" "&ФИО!R17&" "&ФИО!S17&" "&ФИО!T17&" "&ФИО!U17 -> Геращенко А.А. Михайлов В.П. Будагян Г.А.
C22: =ФИО!G18&" "&ФИО!H18&" "&ФИО!I18 -> ТРИНАДЦАТЫЙ ТРИНАДЦАТЫЙ | D22: =ФИО!J18 -> 0 | E22: =ФИО!K18 -> 0 | F22: =ФИО!L18 -> 0 | G22: =ФИО!M18 -> 0 | I22: =ФИО!N18 -> Город 13 | J22: =ФИО!O18&" "&ФИО!P18 -> СДЮШОР 13 | K22: =ФИО!Q18&" "&ФИО!R18&" "&ФИО!S18&" "&ФИО!T18&" "&ФИО!U18
... C26: =ФИО!G22&" "&ФИО!H22&" "&ФИО!I22 -> СЕМНАДЦАТЫЙ СЕМНАДЦАТЫЙ | D26: =ФИО!J22 -> 0 | E26: =ФИО!K22 -> 0 | F26: =ФИО!L22 -> 0 | G26: =ФИО!M22 -> 0 | I26: =ФИО!N22 -> Город 17 | J26: =ФИО!O22&" "&ФИО!P22 -> СДЮШОР 17 | K26: =ФИО!Q22&" "&ФИО!R22&" "&ФИО!S22&" "&ФИО!T22&" "&ФИО!U22
C27: =ФИО!G120&" "&ФИО!H120&" "&ФИО!I120 -> Заленская Ярослава Николаевна | D27: =ФИО!J120 -> 24 | E27: =ФИО!K120 -> 08 | F27: =ФИО!L120 -> 2004 | G27: =ФИО!M120 -> 0 | I27: =ФИО!N120 -> Витебск | J27: =ФИО!O120&" "&ФИО!P120 -> ВГУОР МСиТ | K27: =ФИО!Q120&" "&ФИО!R120&" "&ФИО!S120&" "&ФИО!T120&" "&ФИО!U120 -> Граков А.В. Толяронок Е.А.
C31: =ФИО!G121&" "&ФИО!H121&" "&ФИО!I121 -> Макрецкая Яна Владимировна | D31: =ФИО!J121 -> 07 | E31: =ФИО!K121 -> 07 | F31: =ФИО!L121 -> 2002 | G31: =ФИО!M121 -> 1 дан | I31: =ФИО!N121 -> Н.Полоцк | J31: =ФИО!O121&" "&ФИО!P121 -> НГУОР МСиТ | K31: =ФИО!Q121&" "&ФИО!R121&" "&ФИО!S121&" "&ФИО!T121&" "&ФИО!U121 -> Ковалевский А.В. Роговцова О.В.
C32: =ФИО!G122&" "&ФИО!H122&" "&ФИО!I122 -> Дук Мария Анатольевна | D32: =ФИО!J122 -> 01 | E32: =ФИО!K122 -> 12 | F32: =ФИО!L122 -> 2000 | G32: =ФИО!M122 -> 3 кю | I32: =ФИО!N122 -> Н.Полоцк | J32: =ФИО!O122&" "&ФИО!P122 -> НГУОР МСиТ | K32: =ФИО!Q122&" "&ФИО!R122&" "&ФИО!S122&" "&ФИО!T122&" "&ФИО!U122 -> Ковалевский А.В. Роговцова О.В.
B34: Гл секретарь _____________________ | I34: Гл.судья _____________________

Sheet Взвешивание_02
C1: ПРОТОКОЛ взвешивания и жеребьевки | J1: =Установки!C5 -> ДЗЮДО
G2: =Установки!C3 -> Первенства РБ U-21 по дзюдо
B3: =Установки!C4 -> среди юниоров
F4: =Установки!C6&" "&Установки!C7 -> 16-18 января 2020 г. Могилёв | J4: 48
B5: № | C5: проц. № | D5: №жр. | E5: Фамилия Имя участника | F5: Год р. | G5: Разряд | H5: Город | I5: Организация | J5: Тренер
A6: =IF(лВК=ФИО!D3,лВК,"") | E6: =ФИО!G3&" "&ФИО!H3 -> Грищенко Анастасия | F6: =ФИО!L3 -> 2001 | G6: =ФИО!M3 -> кмс | H6: =ФИО!N3 -> Бобруйск | I6: =ФИО!Q3&" "&ФИО!R3 -> Жуковец В.В. Жуковец Н.Н. | J6: =ФИО!T3&" "&ФИО!U3&" "&ФИО!V3&" "&ФИО!W3&" "&ФИО!X3
A7: =IF(лВК=ФИО!D4,лВК,"") | E7: =ФИО!G4&" "&ФИО!H4 -> Васищева Анна | F7: =ФИО!L4 -> 2004 | G7: =ФИО!M4 -> 1 | H7: =ФИО!N4 -> Могилев | I7: =ФИО!Q4&" "&ФИО!R4 -> Муравская Т.В. | J7: =ФИО!T4&" "&ФИО!U4&" "&ФИО!V4&" "&ФИО!W4&" "&ФИО!X4
A8: =IF(лВК=ФИО!D5,лВК,"") | E8: =ФИО!G5&" "&ФИО!H5 -> Шевцова Дарья | F8: =ФИО!L5 -> 2004 | G8: =ФИО!M5 -> 1 | H8: =ФИО!N5 -> Чериков | I8: =ФИО!Q5&" "&ФИО!R5 -> Соляников А.Н. | J8: =ФИО!T5&" "&ФИО!U5&" "&ФИО!V5&" "&ФИО!W5&" "&ФИО!X5
A9: =IF(лВК=ФИО!D6,лВК,"") | E9: =ФИО!G6&" "&ФИО!H6 -> Песляк Мария | F9: =ФИО!L6 -> 2000 | G9: =ФИО!M6 -> кмс | H9: =ФИО!N6 -> Могилев | I9: =ФИО!Q6&" "&ФИО!R6 -> Плахов А.В. | J9: =ФИО!T6&" "&ФИО!U6&" "&ФИО!V6&" "&ФИО!W6&" "&ФИО!X6
A10: =IF(лВК=ФИО!D7,лВК,"") | E10: =ФИО!G7&" "&ФИО!H7 -> Гупало Инесса | F10: =ФИО!L7 -> 2003 | G10: =ФИО!M7 -> кмс | H10: =ФИО!N7 -> Бобруйск | I10: =ФИО!Q7&" "&ФИО!R7 -> Жуковец В.В. Жуковец Н.Н. | J10: =ФИО!T7&" "&ФИО!U7&" "&ФИО!V7&" "&ФИО!W7&" "&ФИО!X7
A11: =IF(лВК=ФИО!D8,лВК,"") | E11: =ФИО!G8&" "&ФИО!H8 -> Буракова Надежда | F11: =ФИО!L8 -> 2003 | G11: =ФИО!M8 -> кмс | H11: =ФИО!N8 -> Могилев | I11: =ФИО!Q8&" "&ФИО!R8 -> Михайлов В.П. Будагян Г.А. | J11: =ФИО!T8&" "&ФИО!U8&" "&ФИО!V8&" "&ФИО!W8&" "&ФИО!X8
A12: =IF(лВК=ФИО!D9,лВК,"") | E12: =ФИО!G9&" "&ФИО!H9 -> Герасименко Кристина | F12: =ФИО!L9 -> 2004 | G12: =ФИО!M9 -> 1 | H12: =ФИО!N9 -> Бобруйск | I12: =ФИО!Q9&" "&ФИО!R9 -> Жуковец В.В. | J12: =ФИО!T9&" "&ФИО!U9&" "&ФИО!V9&" "&ФИО!W9&" "&ФИО!X9
A13: =IF(лВК=ФИО!D10,лВК,"") -> 48 | E13: =ФИО!G10&" "&ФИО!H10 -> Стригун Ангелина | F13: =ФИО!L10 -> 2003 | G13: =ФИО!M10 -> 1 | H13: =ФИО!N10 -> Могилев | I13: =ФИО!Q10&" "&ФИО!R10 -> Рыбалко Н.А. Будагян Г.А. | J13: =ФИО!T10&" "&ФИО!U10&" "&ФИО!V10&" "&ФИО!W10&" "&ФИО!X10
A14: =IF(лВК=ФИО!D11,лВК,"") | E14: =ФИО!G11&" "&ФИО!H11 -> Борисова Александра | F14: =ФИО!L11 -> 2002 | G14: =ФИО!M11 -> 1 | H14: =ФИО!N11 -> Могилев | I14: =ФИО!Q11&" "&ФИО!R11 -> Старовойтова Т.Н. | J14: =ФИО!T11&" "&ФИО!U11&" "&ФИО!V11&" "&ФИО!W11&" "&ФИО!X11
A15: =IF(лВК=ФИО!D12,лВК,"") | E15: =ФИО!G12&" "&ФИО!H12 -> Скворцова Анастасия | F15: =ФИО!L12 -> 2002 | G15: =ФИО!M12 -> кмс | H15: =ФИО!N12 -> Могилев | I15: =ФИО!Q12&" "&ФИО!R12 -> Старовойтова Т.Н. Будагян Г.А. | J15: =ФИО!T12&" "&ФИО!U12&" "&ФИО!V12&" "&ФИО!W12&" "&ФИО!X12
A16: =IF(лВК=ФИО!D13,лВК,"") | E16: =ФИО!G13&" "&ФИО!H13 -> Дубовская Елизавета | F16: =ФИО!L13 -> 2002 | G16: =ФИО!M13 -> кмс | H16: =ФИО!N13 -> Могилев | I16: =ФИО!Q13&" "&ФИО!R13 -> Рыбалко Н.А. Чернякова Е.В. | J16: =ФИО!T13&" "&ФИО!U13&" "&ФИО!V13&" "&ФИО!W13&" "&ФИО!X13 -> Будагян Г.А.
A17: =IF(лВК=ФИО!D14,лВК,"") -> 48 | E17: =ФИО!G14&" "&ФИО!H14 -> Романюк Елена | F17: =ФИО!L14 -> 2002 | G17: =ФИО!M14 -> 0 | H17: =ФИО!N14 -> Могилев | I17: =ФИО!Q14&" "&ФИО!R14 -> Перец Н.А. | J17: =ФИО!T14&" "&ФИО!U14&" "&ФИО!V14&" "&ФИО!W14&" "&ФИО!X14
... A3238: =IF(лВК=ФИО!D3235,лВК,"") | E3238: =ФИО!G3235&" "&ФИО!H3235 | F3238: =ФИО!L3235 -> 0 | G3238: =ФИО!M3235 -> 0 | H3238: =ФИО!N3235 -> 0 | I3238: =ФИО!Q3235&" "&ФИО!R3235 | J3238: =ФИО!T3235&" "&ФИО!U3235&" "&ФИО!V3235&" "&ФИО!W3235&" "&ФИО!X3235

Sheet 64
G4: № позиция в протоколе | H4: Позиция в рейтинге | T4: Позиция в рейтинге | U4: № позиция в протоколе
G5: 1 | H5: 22 | T5: 24 | U5: 2
G6: 33 | H6: 33 | T6: 34 | U6: 34
G8: 17 | H8: 13 | T8: 14 | U8: 18
G9: 49 | H9: 49 | T9: 50 | U9: 50
G11: 9 | H11: 17 | T11: 18 | U11: 10
G12: 41 | H12: 41 | T12: 42 | U12: 42
G14: 25 | H14: 6 | T14: 5 | U14: 26
G15: 57 | H15: 57 | T15: 58 | U15: 58
G17: 5 | H17: 27 | T17: 25 | U17: 6
G18: 37 | H18: 37 | T18: 38 | U18: 38
G20: 21 | H20: 9 | T20: 10 | U20: 22
G21: 53 | H21: 53 | T21: 54 | U21: 54
... G32: 19 | H32: 15 | T32: 16 | U32: 20
G33: 51 | H33: 51 | U33: 52
G35: 11 | H35: 19 | T35: 20 | U35: 12
G36: 43 | H36: 43 | T36: 44 | U36: 44
G38: 27 | H38: 7 | T38: 8 | U38: 28
G39: 59 | H39: 59 | T39: 60 | U39: 60
G41: 7 | H41: 26 | T41: 28 | U41: 8
G42: 39 | H42: 39 | T42: 40 | U42: 40
G44: 23 | H44: 11 | T44: 12 | U44: 24
G45: 55 | H45: 55 | T45: 56 | U45: 56
G47: 15 | H47: 31 | T47: 32 | U47: 16
G48: 47 | H48: 47 | T48: 48 | U48: 48
G50: 31 | H50: 2 | T50: 1 | U50: 32
G51: 63 | H51: 63 | T51: 64 | U51: 64

Sheet 32
G4: № позиция в протоколе | H4: Позиция в рейтинге | R4: Позиция в рейтинге | S4: № позиция в протоколе
G5: 1 | H5: 11 | R5: 12 | S5: 2
G6: 17 | H6: 17 | R6: 18 | S6: 18
G8: 9 | H8: 6 | R8: 5 | S8: 10
G9: 25 | H9: 25 | R9: 26 | S9: 26
G11: 5 | H11: 9 | R11: 10 | S11: 6
G12: 21 | H12: 21 | R12: 22 | S12: 22
G14: 13 | H14: 3 | R14: 4 | S14: 14
G15: 29 | H15: 29 | R15: 30 | S15: 30
G17: 3 | H17: 14 | R17: 13 | S17: 4
G18: 19 | H18: 19 | R18: 20 | S18: 20
G20: 11 | H20: 7 | R20: 8 | S20: 12
G21: 27 | H21: 27 | R21: 28 | S21: 28
... G27: 31 | H27: 31 | R27: 32 | S27: 32

Sheet 16
G4: № позиция в протоколе | H4: Позиция в рейтинге | P4: Позиция в рейтинге | Q4: № позиция в протоколе
G5: 1 | H5: 6 | P5: 5 | Q5: 2
G6: 9 | H6: 9 | P6: 10 | Q6: 10
G8: 5 | H8: 3 | P8: 4 | Q8: 6
G9: 13 | H9: 13 | P9: 14 | Q9: 14
G11: 3 | H11: 7 | P11: 8 | Q11: 4
G12: 11 | H12: 11 | P12: 12 | Q12: 12
G14: 7 | H14: 2 | P14: 1 | Q14: 8
G15: 15 | H15: 15 | P15: 16 | Q15: 16

Sheet 8
G4: № позиция в протоколе | H4: Позиция в рейтинге | N4: Позиция в рейтинге | O4: № позиция в протоколе
G5: 1 | H5: 3 | N5: 4 | O5: 2
G6: 5 | H6: 6 | N6: 5 | O6: 6
G9: 3 | H9: 2 | N9: 1 | O9: 4
G10: 7 | H10: 7 | N10: 8 | O10: 8

Sheet ПХС_64
C1: =Установки!C3&" "&Установки!C4 -> Первенства РБ U-21 по дзюдо среди юниоров
J2: =Установки!C6&" "&Установки!C7 -> 16-18 января 2020 г. Могилёв | AL2: =Установки!C5 -> ДЗЮДО
B3: 1 | AI3: 46
B4: 2
B5: 3
B6: 4
B7: 5
B8: 6
B9: 7
B10: 8
B11: 9
B12: 10
B13: 11
B14: 12
B15: 13
... B66: 64

Sheet ПХС_32
C1: =Установки!C3&" "&Установки!C4 -> Первенства РБ U-21 по дзюдо среди юниоров
J2: =Установки!C6&" "&Установки!C7 -> 16-18 января 2020 г. Могилёв | AL2: =Установки!C5 -> ДЗЮДО
AI3: 46
B4: 1
B5: 2
B6: 3
B7: 4
B8: 5
B9: 6
B10: 7
B11: 8
B12: 9
B13: 10
B14: 11
B15: 12
... B35: 32

Sheet ПХС_16
C1: =Установки!C3&" "&Установки!C4 -> Первенства РБ U-21 по дзюдо среди юниоров
J2: =Установки!C6&" "&Установки!C7 -> 16-18 января 2020 г. Могилёв | AL2: =Установки!C5 -> ДЗЮДО
AI3: 46
B4: 1
B5: 2
B6: 3
B7: 4
B8: 5
B9: 6
B10: 7
B11: 8
B12: 9
B13: 10
B14: 11
B15: 12
... B19: 16

Sheet ПХС_8
C1: =Установки!C3&" "&Установки!C4 -> Первенства РБ U-21 по дзюдо среди юниоров
C2: =Установки!C6&" "&Установки!C7 -> 16-18 января 2020 г. Могилёв | AC2: =Установки!C5 -> ДЗЮДО
Z3: 46
B4: 1
B5: 2
B6: 3
B7: 4
B8: 5
B9: 6
B10: 7
B11: 8

Sheet Установки
B2: Организация
B3: Наименование | C3: Первенства РБ U-21 по дзюдо
B4: Примечание | C4: среди юниоров
B5: Вид спорта | C5: ДЗЮДО
B6: Дата | C6: 16-18 января 2020
B7: Место | C7: г. Могилёв
C9: 48 | D9: 52 | E9: 57 | F9: 63 | G9: 70 | H9: 78 | I9: .+78 | J9: 60 | K9: 66 | L9: 73 | M9: 81 | N9: 90 | O9: 100 | P9: .+100
C10: 1 | E10: 3 | F10: 4 | G10: 5 | H10: 6 | I10: 7 | J10: 8 | K10: 9 | L10: 10 | M10: 11 | N10: 12 | O10: 13 | P10: 14 | Q10: 15 | R10: 16 | S10: 17 | T10: 18 | U10: 19 | V10: 20
C14: sdushor7@yandex.ru
C16: 650-18-27
D34: 29 | F34: ВОЛЬНАЯ БОРЬБА | H34: Кубок города
B35: среди юниорок | D35: 32 | F35: ДЗЮДО | H35: Кубок области
B36: среди девушек | D36: 35 | F36: ГРЕКО-РИМСКАЯ БОРЬБА | H36: Кубок Республики Беларусь
B37: среди юниоров | D37: 38 | H37: Межгосударственный турнир
B38: среди юношей | D38: 42 | H38: Международный турнир
B39: "Белые ночи" | D39: 46 | H39: Олимпийские дни молодежи города
B40: "Северное сияние" | D40: 50 | H40: Олимпийские Дни Молодежи области
B41: кубок "Азовмаша" | D41: 55 | H41: Олимпийские дни мололодежи Республики Беларусь
B42: на пнизы группы "Альфа" | D42: 60 | H42: Открытое первенство СДЮШОР №7 по спортивным единоборствам
B43: на призы А.Карелина | D43: 66 | H43: Открытое первенство школы
B44: на призы Б.Радкевича | D44: 73 | H44: Первенство г.Минска
B45: на призы Гродненского городского совета депутатов | D45: 74 | H45: Первенство области
B46: на призы ЗМС В.Капытова | D46: 81 | H46: Первенство Республики Беларусь
B47: на призы И.Каныгина | D47: 84 | H47: Первенство Республики Беларусь среди ДЮСШ
B48: на призы С.Лиштвана | D48: 90 | H48: Первенство школы
... B51: памяти А.К.Кораблева | D51: 120 | H51: Спартакиада города среди ДЮСШ
B52: памяти А.Я.Андреева | D52: .+100 | H52: Спартакиада Республики Беларусь среди ДЮСШ
B53: памяти Б.М.Гуревича | D53: 44 | H53: Спартакиада уч-ся молодежи Республики Беларусь
B54: памяти В.Уминского | D54: 48 | H54: Чемпионат города
B55: памяти ЗТ СССР А.Кондрацкого | D55: 51 | H55: Чемпионат области
B56: памяти Л.М.Доватора | D56: 52 | H56: Чемпионат Республики Беларусь
B57: памяти М.Н.Доленко | D57: 57
B58: памяти М.Т.Болбошина | D58: 59
B59: памяти М.Т.Шмакова | D59: 63
B60: памяти О.Караваева | D60: 67
B61: памяти П.М.Машерова | D61: 70
B62: памяти Т.Бородина | D62: 72
B63: памяти Т.С.Бородина | D63: 78
D64: .+78
D65: 52
...

Sheet ФИО
A1: sdushor7@yandex.ru | G1: 650-18-27 | J1: Дата рождения | O1: Первичная Организация и тренеры | Y1: Организация и тренеры в настоящее время
A2: № | B2: отметка | C2: ВидСпорта | D2: Вес | E2: код | F2: пол | G2: Фамилия | H2: Имя | I2: Отчество | J2: чис | K2: мес | L2: год | M2: Разряд | N2: Город | O2: Организация | P2: Ведомство | Q2: Тренр 1 | R2: Тренр 2 | S2: Тренр 3 | T2: Тренр 4 | U2: Тренр 5 | V2: Организация | W2: Ведрмство | X2: Тренр 1 | Y2: Тренр 2 | Z2: Тренр 3 | AA2: Тренр 4 | AB2: Тренр 5 | AC2: Тренр 4 | AD2: Тренр 5
A3: 1 | C3: 1 | D3: .+78 | G3: Грищенко | H3: Анастасия | I3: Анатольевна | J3: 30 | K3: 03 | L3: 2001 | M3: кмс | N3: Бобруйск | O3: Динамо | Q3: Жуковец В.В. | R3: Жуковец Н.Н.
A4: 2 | C4: 1 | D4: 57 | G4: Васищева | H4: Анна | I4: Александровна | J4: 18 | K4: 04 | L4: 2004 | M4: 1 | N4: Могилев | O4: СДЮШОР№3 | P4: МСиТ | Q4: Муравская | R4: Т.В.
A5: 3 | C5: 1 | D5: 52 | G5: Шевцова | H5: Дарья | I5: Владимировна | J5: 07 | K5: 12 | L5: 2004 | M5: 1 | N5: Чериков | O5: ГУДО"центр творчества и молодежи" | P5: МСиТ | Q5: Соляников А.Н.
A6: 4 | C6: 1 | D6: .+78 | G6: Песляк | H6: Мария | I6: Витальевна | J6: 13 | K6: 11 | L6: 2000 | M6: кмс | N6: Могилев | O6: МГУОР | P6: МСиТ | Q6: Плахов А.В.
A7: 5 | C7: 1 | D7: 78 | G7: Гупало | H7: Инесса | I7: Сергеевна | J7: 18 | K7: 08 | L7: 2003 | M7: кмс | N7: Бобруйск | O7: БГУОР | P7: Динамо | Q7: Жуковец В.В. | R7: Жуковец Н.Н.
A8: 6 | C8: 1 | D8: 78 | G8: Буракова | H8: Надежда | I8: Владимировна | J8: 15 | K8: 03 | L8: 2003 | M8: кмс | N8: Могилев | O8: МГУОР | P8: МСиТ | Q8: Михайлов В.П. | R8: Будагян Г.А.
A9: 7 | C9: 1 | D9: 57 | G9: Герасименко | H9: Кристина | I9: Алексеевна | L9: 2004 | M9: 1 | N9: Бобруйск | O9: БГУОР | P9: Динамо | Q9: Жуковец В.В.
A10: 8 | C10: 1 | D10: 48 | G10: Стригун | H10: Ангелина | I10: Павловна | J10: 11 | K10: 08 | L10: 2003 | M10: 1 | N10: Могилев | O10: МГУОР | P10: МСиТ | Q10: Рыбалко Н.А. | R10: Будагян Г.А. | S10: Михайлов В.П.
A11: 9 | C11: 1 | D11: 57 | G11: Борисова | H11: Александра | I11: Николаевна | J11: 21 | K11: 03 | L11: 2002 | M11: 1 | N11: Могилев | O11: СДЮШОР №3 | P11: МСиТ | Q11: Старовойтова Т.Н.
A12: 10 | C12: 1 | D12: 70 | G12: Скворцова | H12: Анастасия | I12: Сергеевна | J12: 27 | K12: 10 | L12: 2002 | M12: кмс | N12: Могилев | O12: МГУОР | P12: МСиТ | Q12: Старовойтова Т.Н. | R12: Будагян Г.А. | S12: Михайлов В.П.
A13: 11 | G13: Дубовская | H13: Елизавета | I13: Юрьевна | J13: 15 | K13: 09 | L13: 2002 | M13: кмс | N13: Могилев | O13: МГУОР | P13: МСиТ | Q13: Рыбалко Н.А. | R13: Чернякова Е.В. | S13: Михайлов В.П. | T13: Будагян Г.А.
A14: 12 | C14: 1 | D14: 48 | G14: Романюк | H14: Елена | L14: 2002 | N14: Могилев | O14: БРУ | R14: Перец Н.А.
A15: 13 | C15: 1 | D15: 52 | G15: Королькова | H15: Ольга | I15: Владимировна | J15: 23 | K15: 03 | L15: 2003 | M15: кмс | N15: Могилев | O15: РГУОР | P15: МСиТ | R15: Толкачев Н.А. | S15: Рябцев Л.С. | T15: Будагян Г.А. | U15: Михайлов В.П.
A16: 14 | C16: 1 | D16: .+78 | G16: Хрущева | H16: Валерия | I16: Олеговна | J16: 20 | K16: 10 | L16: 2002 | M16: мс | N16: Могилев | O16: БГУОР | P16: МСиТ | Q16: Климко И.В. | R16: Чернякова Е.В. | S16: Жуковец Н.Н. | T16: Жуковец В.В.
A17: 15 | C17: 1 | D17: 52 | G17: Бурачкова | H17: Полина | I17: Руслановна | J17: 06 | K17: 04 | L17: 2004 | M17: 1 | N17: Могилев | O17: МГУОР | P17: МСиТ | R17: Геращенко А.А. | S17: Михайлов В.П. | T17: Будагян Г.А.
A18: 16 | C18: 1 | D18: 30 | G18: ТРИНАДЦАТЫЙ | H18: ТРИНАДЦАТЫЙ | N18: Город 13 | O18: СДЮШОР 13
A19: 17 | C19: 1 | D19: 30 | G19: ЧЕТЫРНАДЦАТЫЙ | H19: ЧЕТЫРНАДЦАТЫЙ | N19: Город 14 | O19: СДЮШОР 14
A20: 18 | C20: 1 | D20: 30 | G20: ПЯТНАДЦАТЫЙ | H20: ПЯТНАДЦАТЫЙ | N20: Город 15 | O20: СДЮШОР 15
A21: 19 | C21: 1 | D21: 30 | G21: ШЕСНАДЦАТЫЙ | H21: ШЕСНАДЦАТЫЙ | N21: Город 16 | O21: СДЮШОР 16
A22: 20 | C22: 1 | D22: 30 | G22: СЕМНАДЦАТЫЙ | H22: СЕМНАДЦАТЫЙ | N22: Город 17 | O22: СДЮШОР 17
A23: 21 | C23: 1 | D23: 30 | G23: ВОСЕМНАДЦАТЫЙ | H23: ВОСЕМНАДЦАТЫЙ | N23: Город 18 | O23: СДЮШОР 18
A24: 22 | C24: 1 | D24: 30 | G24: ДЕВЯТНАДЦАТЫЙ | H24: ДЕВЯТНАДЦАТЫЙ | N24: Город 19 | O24: СДЮШОР 19
A25: 23 | C25: 1 | D25: 30 | G25: ДВАДЦАТЫЙ | H25: ДВАДЦАТЫЙ | N25: Город 20 | O25: СДЮШОР 20
A26: 24 | C26: 1 | D26: 30 | G26: ДВАДЦАТЬ | H26: ПЕРВЫЙ | N26: Город 21 | O26: СДЮШОР 21
A27: 25 | C27: 1 | D27: 30 | G27: ДВАДЦАТЬ | H27: ВТОРОЙ | N27: Город 22 | O27: СДЮШОР 22
A28: 26 | C28: 1 | D28: 30 | G28: ДВАДЦАТЬ | H28: ТРЕТИЙ | N28: Город 23 | O28: СДЮШОР 23
A29: 27 | C29: 1 | D29: 30 | G29: ДВАДЦАТЬ | H29: ЧЕТВЕРТЫЙ | N29: Город 24 | O29: СДЮШОР 24
... A69: 67 | C69: 1 | D69: 30 | G69: ШЕСТЬДЕСЯТ | H69: ЧЕТВЕРТЫЙ | N69: Город 64 | O69: СДЮШОР 64
A70: 68 | C70: 1 | G70: Ракуть | H70: Екатерина | N70: Кобрин
A71: 69 | C71: 1 | D71: 33 | G71: ПЕРВЫЙ | H71: ПЕРВЫЙ | N71: Город 1 | O71: СДЮШОР 1
A72: 70 | C72: 1 | D72: 33 | G72: ВТОРОЙ | H72: ВТОРОЙ | N72: Город 2 | O72: СДЮШОР 2
A73: 71 | C73: 1 | D73: 33 | G73: ТРЕТИЙ | H73: ТРЕТИЙ | N73: Город 3 | O73: СДЮШОР 3
A74: 72 | C74: 1 | D74: 33 | G74: ЧЕТВЕРТЫЙ | H74: ЧЕТВЕРТЫЙ | N74: Город 4 | O74: СДЮШОР 4
A75: 73 | C75: 1 | D75: 33 | G75: ПЯТЫЙ | H75: ПЯТЫЙ | N75: Город 5 | O75: СДЮШОР 5
A76: 74 | C76: 1 | D76: 33 | G76: ШЕСТОЙ | H76: ШЕСТОЙ | N76: Город 6 | O76: СДЮШОР 6
A77: 75 | C77: 1 | D77: 33 | G77: СЕДЬМОЙ | H77: СЕДЬМОЙ | N77: Город 7 | O77: СДЮШОР 7
A78: 76 | C78: 1 | D78: 33 | G78: ВОСЬМОЙ | H78: ВОСЬМОЙ | N78: Город 8 | O78: СДЮШОР 8
A79: 77 | C79: 1 | D79: 33 | G79: ДЕВЯТЫЙ | H79: ДЕВЯТЫЙ | N79: Город 9 | O79: СДЮШОР 9
...

Sheet ЗАЯВКА
I1: И М Е Н Н А Я З А Я В К А
C3: =Установки!C3 -> Первенства РБ U-21 по дзюдо
C4: =Установки!C4 -> среди юниоров
C5: =Установки!C5 -> ДЗЮДО
C6: =Установки!C6&" "&Установки!C7 -> 16-18 января 2020 г. Могилёв
B7: № | C7: Фамилия Имя участника | D7: Чис. | E7: Мес. | F7: Год р. | G7: Разряд | H7: Весовая катег. | I7: Город | J7: Организация, ведомство | K7: Тренер | L7: виза врача
C8: =ФИО!G3&" "&ФИО!H3&" "&ФИО!I3 -> Грищенко Анастасия Анатольевна | D8: =ФИО!J3 -> 30 | E8: =ФИО!K3 -> 03 | F8: =ФИО!L3 -> 2001 | G8: =ФИО!M3 -> кмс | I8: =ФИО!N3 -> Бобруйск | J8: =ФИО!O3&" "&ФИО!P3 -> Динамо | K8: =ФИО!Q3&" "&ФИО!R3&" "&ФИО!S3&" "&ФИО!T3&" "&ФИО!U3 -> Жуковец В.В. Жуковец Н.Н.
C9: =ФИО!G4&" "&ФИО!H4&" "&ФИО!I4 -> Васищева Анна Александровна | D9: =ФИО!J4 -> 18 | E9: =ФИО!K4 -> 04 | F9: =ФИО!L4 -> 2004 | G9: =ФИО!M4 -> 1 | I9: =ФИО!N4 -> Могилев | J9: =ФИО!O4&" "&ФИО!P4 -> СДЮШОР№3 МСиТ | K9: =ФИО!Q4&" "&ФИО!R4&" "&ФИО!S4&" "&ФИО!T4&" "&ФИО!U4 -> Муравская Т.В.
C10: =ФИО!G5&" "&ФИО!H5&" "&ФИО!I5 -> Шевцова Дарья Владимировна | D10: =ФИО!J5 -> 07 | E10: =ФИО!K5 -> 12 | F10: =ФИО!L5 -> 2004 | G10: =ФИО!M5 -> 1 | I10: =ФИО!N5 -> Чериков | J10: =ФИО!O5&" "&ФИО!P5 -> ГУДО"центр творчества и молодежи" МСиТ | K10: =ФИО!Q5&" "&ФИО!R5&" "&ФИО!S5&" "&ФИО!T5&" "&ФИО!U5 -> Соляников А.Н.
C11: =ФИО!G6&" "&ФИО!H6&" "&ФИО!I6 -> Песляк Мария Витальевна | D11: =ФИО!J6 -> 13 | E11: =ФИО!K6 -> 11 | F11: =ФИО!L6 -> 2000 | G11: =ФИО!M6 -> кмс | I11: =ФИО!N6 -> Могилев | J11: =ФИО!O6&" "&ФИО!P6 -> МГУОР МСиТ | K11: =ФИО!Q6&" "&ФИО!R6&" "&ФИО!S6&" "&ФИО!T6&" "&ФИО!U6 -> Плахов А.В.
C12: =ФИО!G7&" "&ФИО!H7&" "&ФИО!I7 -> Гупало Инесса Сергеевна | D12: =ФИО!J7 -> 18 | E12: =ФИО!K7 -> 08 | F12: =ФИО!L7 -> 2003 | G12: =ФИО!M7 -> кмс | I12: =ФИО!N7 -> Бобруйск | J12: =ФИО!O7&" "&ФИО!P7 -> БГУОР Динамо | K12: =ФИО!Q7&" "&ФИО!R7&" "&ФИО!S7&" "&ФИО!T7&" "&ФИО!U7 -> Жуковец В.В. Жуковец Н.Н.
C13: =ФИО!G8&" "&ФИО!H8&" "&ФИО!I8 -> Буракова Надежда Владимировна | D13: =ФИО!J8 -> 15 | E13: =ФИО!K8 -> 03 | F13: =ФИО!L8 -> 2003 | G13: =ФИО!M8 -> кмс | I13: =ФИО!N8 -> Могилев | J13: =ФИО!O8&" "&ФИО!P8 -> МГУОР МСиТ | K13: =ФИО!Q8&" "&ФИО!R8&" "&ФИО!S8&" "&ФИО!T8&" "&ФИО!U8 -> Михайлов В.П. Будагян Г.А.
C14: =ФИО!G9&" "&ФИО!H9&" "&ФИО!I9 -> Герасименко Кристина Алексеевна | D14: =ФИО!J9 -> 0 | E14: =ФИО!K9 -> 0 | F14: =ФИО!L9 -> 2004 | G14: =ФИО!M9 -> 1 | I14: =ФИО!N9 -> Бобруйск | J14: =ФИО!O9&" "&ФИО!P9 -> БГУОР Динамо | K14: =ФИО!Q9&" "&ФИО!R9&" "&ФИО!S9&" "&ФИО!T9&" "&ФИО!U9 -> Жуковец В.В.
C15: =ФИО!G10&" "&ФИО!H10&" "&ФИО!I10 -> Стригун Ангелина Павловна | D15: =ФИО!J10 -> 11 | E15: =ФИО!K10 -> 08 | F15: =ФИО!L10 -> 2003 | G15: =ФИО!M10 -> 1 | I15: =ФИО!N10 -> Могилев | J15: =ФИО!O10&" "&ФИО!P10 -> МГУОР МСиТ | K15: =ФИО!Q10&" "&ФИО!R10&" "&ФИО!S10&" "&ФИО!T10&" "&ФИО!U10 -> Рыбалко Н.А. Будагян Г.А. Михайлов В.П.
C16: =ФИО!G11&" "&ФИО!H11&" "&ФИО!I11 -> Борисова Александра Николаевна | D16: =ФИО!J11 -> 21 | E16: =ФИО!K11 -> 03 | F16: =ФИО!L11 -> 2002 | G16: =ФИО!M11 -> 1 | I16: =ФИО!N11 -> Могилев | J16: =ФИО!O11&" "&ФИО!P11 -> СДЮШОР №3 МСиТ | K16: =ФИО!Q11&" "&ФИО!R11&" "&ФИО!S11&" "&ФИО!T11&" "&ФИО!U11 -> Старовойтова Т.Н.
C17: =ФИО!G12&" "&ФИО!H12&" "&ФИО!I12 -> Скворцова Анастасия Сергеевна | D17: =ФИО!J12 -> 27 | E17: =ФИО!K12 -> 10 | F17: =ФИО!L12 -> 2002 | G17: =ФИО!M12 -> кмс | I17: =ФИО!N12 -> Могилев | J17: =ФИО!O12&" "&ФИО!P12 -> МГУОР МСиТ | K17: =ФИО!Q12&" "&ФИО!R12&" "&ФИО!S12&" "&ФИО!T12&" "&ФИО!U12 -> Старовойтова Т.Н. Будагян Г.А. Михайлов В.П.
C18: =ФИО!G13&" "&ФИО!H13&" "&ФИО!I13 -> Дубовская Елизавета Юрьевна | D18: =ФИО!J13 -> 15 | E18: =ФИО!K13 -> 09 | F18: =ФИО!L13 -> 2002 | G18: =ФИО!M13 -> кмс | I18: =ФИО!N13 -> Могилев | J18: =ФИО!O13&" "&ФИО!P13 -> МГУОР МСиТ | K18: =ФИО!Q13&" "&ФИО!R13&" "&ФИО!S13&" "&ФИО!T13&" "&ФИО!U13 -> Рыбалко Н.А. Чернякова Е.В. Михайлов В.П. Будагян Г.А.
C19: =ФИО!G14&" "&ФИО!H14&" "&ФИО!I14 -> Романюк Елена | D19: =ФИО!J14 -> 0 | E19: =ФИО!K14 -> 0 | F19: =ФИО!L14 -> 2002 | G19: =ФИО!M14 -> 0 | I19: =ФИО!N14 -> Могилев | J19: =ФИО!O14&" "&ФИО!P14 -> БРУ | K19: =ФИО!Q14&" "&ФИО!R14&" "&ФИО!S14&" "&ФИО!T14&" "&ФИО!U14 -> Перец Н.А.
... C6434: =ФИО!G6429&" "&ФИО!H6429&" "&ФИО!I6429 | D6434: =ФИО!J6429 -> 0 | E6434: =ФИО!K6429 -> 0 | F6434: =ФИО!L6429 -> 0 | G6434: =ФИО!M6429 -> 0 | I6434: =ФИО!N6429 -> 0 | J6434: =ФИО!O6429&" "&ФИО!P6429 | K6434: =ФИО!Q6429&" "&ФИО!R6429&" "&ФИО!S6429&" "&ФИО!T6429&" "&ФИО!U6429
A6435: новый
A6436: новый
A6437: новый
A6438: новый
A6439: новый
A6440: новый
A6441: новый
A6442: новый
A6443: новый
A6444: новый
B6446: Руководитель организации _____________________ | I6446: Тренер _____________________
B6448: Допущено всего __________________________________________ чел. к участию в соревнованиях
B6450: Врач _____________________

Sheet Круг34
D1: =Установки!$C$3&" "&Установки!$C$4 -> Первенства РБ U-21 по дзюдо среди юниоров | M1: 46
D2: =Установки!$C$6&" "&Установки!$C$7 -> 16-18 января 2020 г. Могилёв | L2: =Установки!$C$5 -> ДЗЮДО
AP3: 1 | AW3: 1
C4: № | D4: Фамилия Имя, Город, Организация | E4: 1 | F4: 2 | G4: 3 | H4: 4 | I4: 5 | J4: 6 | M4: место | AP4: 2 | AW4: 5
C5: 1 | D5: ПЕРВЫЙ ПЕРВЫЙ Город 1 СДЮШОР 1 | AP5: 3 | AW5: 3
C6: 2 | D6: ВТОРОЙ ВТОРОЙ Город 2 СДЮШОР 2 | AP6: 4 | AW6: 7
C7: 3 | D7: ТРЕТИЙ ТРЕТИЙ Город 3 СДЮШОР 3 | AP7: 5 | AW7: 2
C8: 4 | D8: ЧЕТВЕРТЫЙ ЧЕТВЕРТЫЙ Город 4 СДЮШОР 4 | AP8: 6 | AW8: 6
C9: 5 | D9: ПЯТЫЙ ПЯТЫЙ Город 5 СДЮШОР 5 | AP9: 7 | AW9: 4
C10: 6 | D10: ШЕСТОЙ ШЕСТОЙ Город 6 СДЮШОР 6 | AP10: 8 | AW10: 8
C12: № | D12: 1 круг | E12: ippon | G12: waza-ari | I12: yuko | K12: shido | M12: время
C13: =C5 -> 1 | D13: =D5 -> ПЕРВЫЙ ПЕРВЫЙ Город 1 СДЮШОР 1 | AP13: 11 | AX13: Утешительная стадия соревнований
C14: =C6 -> 2 | D14: =D6 -> ВТОРОЙ ВТОРОЙ Город 2 СДЮШОР 2 | AP14: 12
C15: № | D15: 1 круг | E15: ippon | G15: waza-ari | I15: yuko | K15: shido | M15: время
C16: =C7 -> 3 | D16: =D7 -> ТРЕТИЙ ТРЕТИЙ Город 3 СДЮШОР 3 | AP16: 13
C17: =C8 -> 4 | D17: =D8 -> ЧЕТВЕРТЫЙ ЧЕТВЕРТЫЙ Город 4 СДЮШОР 4 | AP17: 14
AP18: 49
C19: № | D19: 2 круг | E19: ippon | G19: waza-ari | I19: yuko | K19: shido | M19: время
C20: =$C$5 -> 1 | D20: =$D$5 -> ПЕРВЫЙ ПЕРВЫЙ Город 1 СДЮШОР 1 | AP20: 18
C21: =$C$7 -> 3 | D21: =$D$7 -> ТРЕТИЙ ТРЕТИЙ Город 3 СДЮШОР 3 | AP21: 20
C22: № | D22: 2 круг | E22: ippon | G22: waza-ari | I22: yuko | K22: shido | M22: время
C23: =$C$6 -> 2 | D23: =$D$6 -> ВТОРОЙ ВТОРОЙ Город 2 СДЮШОР 2 | AP23: 18
C24: =$C$7 -> 3 | D24: =$D$7 -> ТРЕТИЙ ТРЕТИЙ Город 3 СДЮШОР 3 | AP24: 21
AP25: 65
C26: № | D26: 3 круг | E26: ippon | G26: waza-ari | I26: yuko | K26: shido | M26: время
C27: =$C$7 -> 3 | D27: =$D$7 -> ТРЕТИЙ ТРЕТИЙ Город 3 СДЮШОР 3 | AP27: 20
C28: =$C$8 -> 4 | D28: =$D$8 -> ЧЕТВЕРТЫЙ ЧЕТВЕРТЫЙ Город 4 СДЮШОР 4 | AP28: 21
C29: № | D29: 3 круг | E29: ippon | G29: waza-ari | I29: yuko | K29: shido | M29: время
C30: =$C$6 -> 2 | D30: =$D$6 -> ВТОРОЙ ВТОРОЙ Город 2 СДЮШОР 2 | AP30: 19
C31: =$C$7 -> 3 | D31: =$D$7 -> ТРЕТИЙ ТРЕТИЙ Город 3 СДЮШОР 3 | AP31: 20
AP32: 63
AP33: 64
AP34: 63
AP35: 64
AP36: 51
AP37: 63
AP38: 64
AP39: 65
AP40: 52
AP41: 63
...

Sheet Круг56
D1: =Установки!$C$3&" "&Установки!$C$4 -> Первенства РБ U-21 по дзюдо среди юниоров | M1: 46
D2: =Установки!$C$6&" "&Установки!$C$7 -> 16-18 января 2020 г. Могилёв | L2: =Установки!$C$5 -> ДЗЮДО
S3: 1 | Z3: 1 | AA3: № | AB3: Фамилия Имя, Город, Организация | AC3: 1 | AD3: 2 | AE3: 3 | AF3: 4 | AG3: 5 | AH3: 6 | AK3: место
C4: № | D4: Фамилия Имя, Город, Организация | E4: 1 | F4: 2 | G4: 3 | H4: 4 | I4: 5 | J4: 6 | M4: место | S4: 2 | Z4: 5 | AA4: 1 | AB4: ПЕРВЫЙ ПЕРВЫЙ Город 1 СДЮШОР 1
C5: 1 | D5: ПЕРВЫЙ ПЕРВЫЙ Город 1 СДЮШОР 1 | S5: 3 | Z5: 3 | AA5: 2 | AB5: ВТОРОЙ ВТОРОЙ Город 2 СДЮШОР 2
C6: 2 | D6: ВТОРОЙ ВТОРОЙ Город 2 СДЮШОР 2 | S6: 4 | Z6: 7 | AA6: 3 | AB6: ТРЕТИЙ ТРЕТИЙ Город 3 СДЮШОР 3
C7: 3 | D7: ТРЕТИЙ ТРЕТИЙ Город 3 СДЮШОР 3 | S7: 5 | Z7: 2 | AA7: 4 | AB7: ЧЕТВЕРТЫЙ ЧЕТВЕРТЫЙ Город 4 СДЮШОР 4
C8: 4 | D8: ЧЕТВЕРТЫЙ ЧЕТВЕРТЫЙ Город 4 СДЮШОР 4 | S8: 6 | Z8: 6 | AA8: 5 | AB8: ПЯТЫЙ ПЯТЫЙ Город 5 СДЮШОР 5
C9: 5 | D9: ПЯТЫЙ ПЯТЫЙ Город 5 СДЮШОР 5 | S9: 7 | Z9: 4 | AA9: 6 | AB9: ШЕСТОЙ ШЕСТОЙ Город 6 СДЮШОР 6
C10: 6 | D10: ШЕСТОЙ ШЕСТОЙ Город 6 СДЮШОР 6 | S10: 8 | Z10: 8
C12: № | D12: 1 круг | E12: ippon | G12: waza-ari | I12: yuko | K12: shido | M12: время
C13: =C5 -> 1 | D13: =D5 -> ПЕРВЫЙ ПЕРВЫЙ Город 1 СДЮШОР 1 | S13: 11
C14: =C6 -> 2 | D14: =D6 -> ВТОРОЙ ВТОРОЙ Город 2 СДЮШОР 2 | S14: 12
C15: № | D15: 1 круг | E15: ippon | G15: waza-ari | I15: yuko | K15: shido | M15: время
C16: =C7 -> 3 | D16: =D7 -> ТРЕТИЙ ТРЕТИЙ Город 3 СДЮШОР 3 | S16: 13
C17: =C8 -> 4 | D17: =D8 -> ЧЕТВЕРТЫЙ ЧЕТВЕРТЫЙ Город 4 СДЮШОР 4 | S17: 14
C18: № | D18: 1 круг | E18: ippon | G18: waza-ari | I18: yuko | K18: shido | M18: время
C19: =C9 -> 5 | D19: =D9 -> ПЯТЫЙ ПЯТЫЙ Город 5 СДЮШОР 5 | S19: 15
C20: =C10 -> 6 | D20: =D10 -> ШЕСТОЙ ШЕСТОЙ Город 6 СДЮШОР 6 | S20: 16
S21: 49
C22: № | D22: 2 круг | E22: ippon | G22: waza-ari | I22: yuko | K22: shido | M22: время
C23: =$C$5 -> 1 | D23: =$D$5 -> ПЕРВЫЙ ПЕРВЫЙ Город 1 СДЮШОР 1 | S23: 18
C24: =$C$7 -> 3 | D24: =$D$7 -> ТРЕТИЙ ТРЕТИЙ Город 3 СДЮШОР 3 | S24: 20
C25: № | D25: 2 круг | E25: ippon | G25: waza-ari | I25: yuko | K25: shido | M25: время
C26: =$C$8 -> 4 | D26: =$D$8 -> ЧЕТВЕРТЫЙ ЧЕТВЕРТЫЙ Город 4 СДЮШОР 4 | S26: 21
C27: =$C$9 -> 5 | D27: =$D$9 -> ПЯТЫЙ ПЯТЫЙ Город 5 СДЮШОР 5 | S27: 22
C28: № | D28: 2 круг | E28: ippon | G28: waza-ari | I28: yuko | K28: shido | M28: время
C29: =$C$6 -> 2 | D29: =$D$6 -> ВТОРОЙ ВТОРОЙ Город 2 СДЮШОР 2 | S29: 19
C30: =$C$10 -> 6 | D30: =$D$10 -> ШЕСТОЙ ШЕСТОЙ Город 6 СДЮШОР 6 | S30: 23
S31: 50
C32: № | D32: 3 круг | E32: ippon | G32: waza-ari | I32: yuko | K32: shido | M32: время
C33: =$C$6 -> 2 | D33: =$D$6 -> ВТОРОЙ ВТОРОЙ Город 2 СДЮШОР 2 | S33: 18
C34: =$C$7 -> 3 | D34: =$D$7 -> ТРЕТИЙ ТРЕТИЙ Город 3 СДЮШОР 3 | S34: 21
C35: № | D35: 3 круг | E35: ippon | G35: waza-ari | I35: yuko | K35: shido | M35: время
C36: =$C$5 -> 1 | D36: =$D$5 -> ПЕРВЫЙ ПЕРВЫЙ Город 1 СДЮШОР 1 | S36: 19
C37: =$C$8 -> 4 | D37: =$D$8 -> ЧЕТВЕРТЫЙ ЧЕТВЕРТЫЙ Город 4 СДЮШОР 4 | S37: 20
C38: № | D38: 3 круг | E38: ippon | G38: waza-ari | I38: yuko | K38: shido | M38: время
C39: =$C$9 -> 5 | D39: =$D$9 -> ПЯТЫЙ ПЯТЫЙ Город 5 СДЮШОР 5 | S39: 22
C40: =$C$10 -> 6 | D40: =$D$10 -> ШЕСТОЙ ШЕСТОЙ Город 6 СДЮШОР 6 | S40: 23
S41: 51
...

Sheet Дзюдо_64
D1: =Установки!$C$3&" "&Установки!$C$4 -> Первенства РБ U-21 по дзюдо среди юниоров
K2: =Установки!$C$6&" "&Установки!$C$7 -> 16-18 января 2020 г. Могилёв | R2: =Установки!J6&" "&Установки!J7 | AJ2: =Установки!$C$5 -> ДЗЮДО
B3: 22 | C3: 1 | D3: ПЕРВЫЙ ПЕРВЫЙ Город 1 СДЮШОР 1 | E3: 1 | I3: 10 | J3: =IF(I3=I4,"",IF(I3>I4,C3&"-"&D3,C4&"-"&D4)) -> 1-ПЕРВЫЙ ПЕРВЫЙ Город 1 СДЮШОР 1 | Q3: . | AJ3: 30 | AO3: ПЕРВЫЙ ПЕРВЫЙ Город 1 СДЮШОР 1 | AP3: 1 | AW3: 1
A4: ддд | B4: 33 | C4: 33 | D4: ВТОРОЙ ВТОРОЙ Город 2 СДЮШОР 2 | F4: 1 | G4: 2 | H4: 3 | I4: 0 | O4: 10 | Q4: =IF(O4=O6,"",IF(O4>O6,J3,J5)) -> 1-ПЕРВЫЙ ПЕРВЫЙ Город 1 СДЮШОР 1 | AD4: . | AO4: ВТОРОЙ ВТОРОЙ Город 2 СДЮШОР 2 | AP4: 2 | AW4: 33
B5: 13 | C5: 17 | D5: ТРЕТИЙ ТРЕТИЙ Город 3 СДЮШОР 3 | I5: 0 | J5: =IF(I5=I6,"",IF(I5>I6,C5&"-"&D5,C6&"-"&D6)) -> 49-ЧЕТВЕРТЫЙ ЧЕТВЕРТЫЙ Город 4 СДЮШОР 4 | Q5: . | V5: 0 | AO5: ТРЕТИЙ ТРЕТИЙ Город 3 СДЮШОР 3 | AP5: 3 | AW5: 17
B6: 49 | C6: 49 | D6: ЧЕТВЕРТЫЙ ЧЕТВЕРТЫЙ Город 4 СДЮШОР 4 | I6: 7 | O6: 0 | X6: =IF(V5=V9,"",IF(V5>V9,Q4,Q8)) -> 9-ПЯТЫЙ ПЯТЫЙ Город 5 СДЮШОР 5 | AK6: . | AO6: ЧЕТВЕРТЫЙ ЧЕТВЕРТЫЙ Город 4 СДЮШОР 4 | AP6: 4 | AW6: 49
B7: 17 | C7: 9 | D7: ПЯТЫЙ ПЯТЫЙ Город 5 СДЮШОР 5 | I7: 5 | J7: =IF(I7=I8,"",IF(I7>I8,C7&"-"&D7,C8&"-"&D8)) -> 9-ПЯТЫЙ ПЯТЫЙ Город 5 СДЮШОР 5 | Q7: . | AC7: 0 | AO7: ПЯТЫЙ ПЯТЫЙ Город 5 СДЮШОР 5 | AP7: 5 | AW7: 9
B8: 41 | C8: 41 | D8: ШЕСТОЙ ШЕСТОЙ Город 6 СДЮШОР 6 | I8: 0 | O8: 10 | Q8: =IF(O8=N10,"",IF(O8>N10,J7,J9)) -> 9-ПЯТЫЙ ПЯТЫЙ Город 5 СДЮШОР 5 | AD8: . | AO8: ШЕСТОЙ ШЕСТОЙ Город 6 СДЮШОР 6 | AP8: 6 | AW8: 41
B9: 6 | C9: 25 | D9: СЕДЬМОЙ СЕДЬМОЙ Город 7 СДЮШОР 7 | I9: 5 | J9: =IF(I9=I10,"",IF(I9>I10,C9&"-"&D9,C10&"-"&D10)) -> 25-СЕДЬМОЙ СЕДЬМОЙ Город 7 СДЮШОР 7 | Q9: . | V9: 7 | AO9: СЕДЬМОЙ СЕДЬМОЙ Город 7 СДЮШОР 7 | AP9: 7 | AW9: 25
B10: 57 | C10: 57 | D10: ВОСЬМОЙ ВОСЬМОЙ Город 8 СДЮШОР 8 | I10: 0 | O10: 0 | AE10: =IF(AC7=AC15,"",IF(AC7>AC15,X6,X14)) -> 45-ЧЕТЫРНАДЦАТЫЙ ЧЕТЫРНАДЦАТЫЙ Город 14 СДЮШОР 14 | AM10: . | AO10: ВОСЬМОЙ ВОСЬМОЙ Город 8 СДЮШОР 8 | AP10: 8 | AW10: 57
B11: 27 | C11: 5 | D11: ДЕВЯТЫЙ ДЕВЯТЫЙ Город 9 СДЮШОР 9 | I11: 10 | J11: =IF(I11=I12,"",IF(I11>I12,C11&"-"&D11,C12&"-"&D12)) -> 5-ДЕВЯТЫЙ ДЕВЯТЫЙ Город 9 СДЮШОР 9 | Q11: . | AJ11: 10 | AO11: ДЕВЯТЫЙ ДЕВЯТЫЙ Город 9 СДЮШОР 9 | AP11: 9 | AW11: 5
B12: 37 | C12: 37 | D12: ДЕСЯТЫЙ ДЕСЯТЫЙ Город 10 СДЮШОР 10 | I12: 0 | O12: 10 | Q12: =IF(O12=O14,"",IF(O12>O14,J11,J13)) -> 5-ДЕВЯТЫЙ ДЕВЯТЫЙ Город 9 СДЮШОР 9 | AD12: . | AO12: ДЕСЯТЫЙ ДЕСЯТЫЙ Город 10 СДЮШОР 10 | AP12: 10 | AW12: 37
B13: 9 | C13: 21 | D13: ОДИННАДЦАТЫЙ ОДИННАДЦАТЫЙ Город 11 СДЮШОР 11 | E13: 0 | F13: 0 | G13: 0 | H13: 1 | I13: 0 | J13: =IF(I13=I14,"",IF(I13>I14,C13&"-"&D13,C14&"-"&D14)) -> 53-ДВЕНАДЦАТЫЙ ДВЕНАДЦАТЫЙ Город 12 СДЮШОР 12 | Q13: . | V13: 0 | AO13: ОДИННАДЦАТЫЙ ОДИННАДЦАТЫЙ Город 11 СДЮШОР 11 | AP13: 11 | AW13: 21
B14: 53 | C14: 53 | D14: ДВЕНАДЦАТЫЙ ДВЕНАДЦАТЫЙ Город 12 СДЮШОР 12 | E14: 1 | F14: 0 | G14: 0 | H14: 0 | I14: 10 | O14: 0 | X14: =IF(V13=V17,"",IF(V13>V17,Q12,Q16)) -> 45-ЧЕТЫРНАДЦАТЫЙ ЧЕТЫРНАДЦАТЫЙ Город 14 СДЮШОР 14 | AK14: . | AO14: ДВЕНАДЦАТЫЙ ДВЕНАДЦАТЫЙ Город 12 СДЮШОР 12 | AP14: 12 | AW14: 53
B15: 29 | C15: 13 | D15: ТРИНАДЦАТЫЙ ТРИНАДЦАТЫЙ Город 13 СДЮШОР 13 | I15: 0 | J15: =IF(I15=I16,"",IF(I15>I16,C15&"-"&D15,C16&"-"&D16)) -> 45-ЧЕТЫРНАДЦАТЫЙ ЧЕТЫРНАДЦАТЫЙ Город 14 СДЮШОР 14 | Q15: . | AC15: 10 | AO15: ТРИНАДЦАТЫЙ ТРИНАДЦАТЫЙ Город 13 СДЮШОР 13 | AP15: 13 | AW15: 13
B16: 45 | C16: 45 | D16: ЧЕТЫРНАДЦАТЫЙ ЧЕТЫРНАДЦАТЫЙ Город 14 СДЮШОР 14 | I16: 5 | O16: 10 | Q16: =IF(O16=N18,"",IF(O16>N18,J15,J17)) -> 45-ЧЕТЫРНАДЦАТЫЙ ЧЕТЫРНАДЦАТЫЙ Город 14 СДЮШОР 14 | AD16: . | AO16: ЧЕТЫРНАДЦАТЫЙ ЧЕТЫРНАДЦАТЫЙ Город 14 СДЮШОР 14 | AP16: 14 | AW16: 45
B17: 3 | C17: 29 | D17: ПЯТНАДЦАТЫЙ ПЯТНАДЦАТЫЙ Город 15 СДЮШОР 15 | I17: 10 | J17: =IF(I17=I18,"",IF(I17>I18,C17&"-"&D17,C18&"-"&D18)) -> 29-ПЯТНАДЦАТЫЙ ПЯТНАДЦАТЫЙ Город 15 СДЮШОР 15 | Q17: . | V17: 10 | AG17: Полуфинал "А" | AO17: ПЯТНАДЦАТЫЙ ПЯТНАДЦАТЫЙ Город 15 СДЮШОР 15 | AP17: 15 | AW17: 29
B18: 61 | C18: 61 | D18: ШЕСНАДЦАТЫЙ ШЕСНАДЦАТЫЙ Город 16 СДЮШОР 16 | I18: 0 | AO18: ШЕСНАДЦАТЫЙ ШЕСНАДЦАТЫЙ Город 16 СДЮШОР 16 | AP18: 16 | AW18: 61
B19: 23 | C19: 3 | D19: СЕМНАДЦАТЫЙ СЕМНАДЦАТЫЙ Город 17 СДЮШОР 17 | I19: 10 | J19: =IF(I19=I20,"",IF(I19>I20,C19&"-"&D19,C20&"-"&D20)) -> 3-СЕМНАДЦАТЫЙ СЕМНАДЦАТЫЙ Город 17 СДЮШОР 17 | Q19: . | AO19: СЕМНАДЦАТЫЙ СЕМНАДЦАТЫЙ Город 17 СДЮШОР 17 | AP19: 17 | AW19: 3
A20: ддд | B20: 35 | C20: 35 | D20: ВОСЕМНАДЦАТЫЙ ВОСЕМНАДЦАТЫЙ Город 18 СДЮШОР 18 | I20: 0 | O20: 10 | Q20: =IF(O20=O22,"",IF(O20>O22,J19,J21)) -> 3-СЕМНАДЦАТЫЙ СЕМНАДЦАТЫЙ Город 17 СДЮШОР 17 | AD20: . | AO20: ВОСЕМНАДЦАТЫЙ ВОСЕМНАДЦАТЫЙ Город 18 СДЮШОР 18 | AP20: 18 | AW20: 35
B21: 15 | C21: 19 | D21: ДЕВЯТНАДЦАТЫЙ ДЕВЯТНАДЦАТЫЙ Город 19 СДЮШОР 19 | E21: 1 | I21: 10 | J21: =IF(I21=I22,"",IF(I21>I22,C21&"-"&D21,C22&"-"&D22)) -> 19-ДЕВЯТНАДЦАТЫЙ ДЕВЯТНАДЦАТЫЙ Город 19 СДЮШОР 19 | Q21: . | V21: 0 | AO21: ДЕВЯТНАДЦАТЫЙ ДЕВЯТНАДЦАТЫЙ Город 19 СДЮШОР 19 | AP21: 19 | AW21: 19
B22: 51 | C22: 51 | D22: ДВАДЦАТЫЙ ДВАДЦАТЫЙ Город 20 СДЮШОР 20 | E22: 0 | I22: 0 | X22: =IF(V21=V25,"",IF(V21>V25,Q20,Q24)) -> 11-ДВАДЦАТЬ ПЕРВЫЙ Город 21 СДЮШОР 21 | AK22: . | AO22: ДВАДЦАТЫЙ ДВАДЦАТЫЙ Город 20 СДЮШОР 20 | AP22: 20 | AW22: 51
B23: 19 | C23: 11 | D23: ДВАДЦАТЬ ПЕРВЫЙ Город 21 СДЮШОР 21 | I23: 10 | J23: =IF(I23=I24,"",IF(I23>I24,C23&"-"&D23,C24&"-"&D24)) -> 11-ДВАДЦАТЬ ПЕРВЫЙ Город 21 СДЮШОР 21 | Q23: . | AC23: 0 | AO23: ДВАДЦАТЬ ПЕРВЫЙ Город 21 СДЮШОР 21 | AP23: 21 | AW23: 11
B24: 43 | C24: 43 | D24: ДВАДЦАТЬ ВТОРОЙ Город 22 СДЮШОР 22 | I24: 0 | O24: 10 | Q24: =IF(O24=N26,"",IF(O24>N26,J23,J25)) -> 11-ДВАДЦАТЬ ПЕРВЫЙ Город 21 СДЮШОР 21 | AD24: . | AO24: ДВАДЦАТЬ ВТОРОЙ Город 22 СДЮШОР 22 | AP24: 22 | AW24: 43
B25: 7 | C25: 27 | D25: ДВАДЦАТЬ ТРЕТИЙ Город 23 СДЮШОР 23 | I25: 10 | J25: =IF(I25=I26,"",IF(I25>I26,C25&"-"&D25,C26&"-"&D26)) -> 27-ДВАДЦАТЬ ТРЕТИЙ Город 23 СДЮШОР 23 | Q25: . | V25: 10 | AO25: ДВАДЦАТЬ ТРЕТИЙ Город 23 СДЮШОР 23 | AP25: 23 | AW25: 27
B26: 59 | C26: 59 | D26: ДВАДЦАТЬ ЧЕТВЕРТЫЙ Город 24 СДЮШОР 24 | I26: 0 | O26: 0 | AE26: =IF(AC23=AC31,"",IF(AC23>AC31,X22,X30)) -> 15-ДВАДЦАТЬ ДЕВЯТЫЙ Город 29 СДЮШОР 29 | AM26: . | AO26: ДВАДЦАТЬ ЧЕТВЕРТЫЙ Город 24 СДЮШОР 24 | AP26: 24 | AW26: 59
B27: 26 | C27: 7 | D27: ДВАДЦАТЬ ПЯТЫЙ Город 25 СДЮШОР 25 | I27: 10 | J27: =IF(I27=I28,"",IF(I27>I28,C27&"-"&D27,C28&"-"&D28)) -> 7-ДВАДЦАТЬ ПЯТЫЙ Город 25 СДЮШОР 25 | Q27: . | AJ27: 0 | AO27: ДВАДЦАТЬ ПЯТЫЙ Город 25 СДЮШОР 25 | AP27: 25 | AW27: 7
B28: 39 | C28: 39 | D28: ДВАДЦАТЬ ШЕСТОЙ Город 26 СДЮШОР 26 | I28: 0 | O28: 10 | Q28: =IF(O28=O30,"",IF(O28>O30,J27,J29)) -> 7-ДВАДЦАТЬ ПЯТЫЙ Город 25 СДЮШОР 25 | AD28: . | AO28: ДВАДЦАТЬ ШЕСТОЙ Город 26 СДЮШОР 26 | AP28: 26 | AW28: 39
B29: 11 | C29: 23 | D29: ДВАДЦАТЬ СЕДЬМОЙ Город 27 СДЮШОР 27 | I29: 10 | J29: =IF(I29=I30,"",IF(I29>I30,C29&"-"&D29,C30&"-"&D30)) -> 23-ДВАДЦАТЬ СЕДЬМОЙ Город 27 СДЮШОР 27 | Q29: . | V29: 0 | AO29: ДВАДЦАТЬ СЕДЬМОЙ Город 27 СДЮШОР 27 | AP29: 27 | AW29: 23
B30: 55 | C30: 55 | D30: ДВАДЦАТЬ ВОСЬМОЙ Город 28 СДЮШОР 28 | I30: 0 | X30: =IF(V29=V33,"",IF(V29>V33,Q28,Q32)) -> 15-ДВАДЦАТЬ ДЕВЯТЫЙ Город 29 СДЮШОР 29 | AK30: . | AO30: ДВАДЦАТЬ ВОСЬМОЙ Город 28 СДЮШОР 28 | AP30: 28 | AW30: 55
B31: 31 | C31: 15 | D31: ДВАДЦАТЬ ДЕВЯТЫЙ Город 29 СДЮШОР 29 | I31: 10 | J31: =IF(I31=I32,"",IF(I31>I32,C31&"-"&D31,C32&"-"&D32)) -> 15-ДВАДЦАТЬ ДЕВЯТЫЙ Город 29 СДЮШОР 29 | Q31: . | AC31: 5 | AO31: ДВАДЦАТЬ ДЕВЯТЫЙ Город 29 СДЮШОР 29 | AP31: 29 | AW31: 15
B32: 47 | C32: 47 | D32: ТРИДЦАТЫЙ ТРИДЦАТЫЙ Город 30 СДЮШОР 30 | I32: 0 | O32: 10 | Q32: =IF(O32=N34,"",IF(O32>N34,J31,J33)) -> 15-ДВАДЦАТЬ ДЕВЯТЫЙ Город 29 СДЮШОР 29 | AD32: . | AO32: ТРИДЦАТЫЙ ТРИДЦАТЫЙ Город 30 СДЮШОР 30 | AP32: 30 | AW32: 47
B33: 2 | C33: 31 | D33: ТРИДЦАТЬ ПЕРВЫЙ Город 31 СДЮШОР 31 | I33: 10 | J33: =IF(I33=I34,"",IF(I33>I34,C33&"-"&D33,C34&"-"&D34)) -> 31-ТРИДЦАТЬ ПЕРВЫЙ Город 31 СДЮШОР 31 | Q33: . | V33: 7 | AF33: ФИНАЛ | AO33: ТРИДЦАТЬ ПЕРВЫЙ Город 31 СДЮШОР 31 | AP33: 31 | AW33: 31
B34: 63 | C34: 63 | D34: ТРИДЦАТЬ ВТОРОЙ Город 32 СДЮШОР 32 | I34: 0 | O34: 0 | Y34: =IF(AJ11=AJ27,"",IF(AJ11>AJ27,AE10,AF26)) -> 45-ЧЕТЫРНАДЦАТЫЙ ЧЕТЫРНАДЦАТЫЙ Город 14 СДЮШОР 14 | AF34: 0 | AJ34: 10 | AO34: ТРИДЦАТЬ ВТОРОЙ Город 32 СДЮШОР 32 | AP34: 32 | AW34: 63
B35: 24 | C35: 2 | D35: ТРИДЦАТЬ ТРЕТИЙ Город 33 СДЮШОР 33 | I35: 0 | J35: =IF(I35=I36,"",IF(I35>I36,C35&"-"&D35,C36&"-"&D36)) -> 34-ТРИДЦАТЬ ЧЕТВЕРТЫЙ Город 34 СДЮШОР 34 | Q35: . | Y35: =IF(AJ43=AJ59,"",IF(AJ43>AJ59,AE42,AE58)) -> 46-СОРОК ШЕСТОЙ Город 46 СДЮШОР 46 | AF35: 0 | AJ35: 0 | AO35: ТРИДЦАТЬ ТРЕТИЙ Город 33 СДЮШОР 33 | AP35: 33 | AW35: 2
B36: 34 | C36: 34 | D36: ТРИДЦАТЬ ЧЕТВЕРТЫЙ Город 34 СДЮШОР 34 | I36: 10 | O36: 10 | Q36: =IF(O36=O38,"",IF(O36>O38,J35,J37)) -> 34-ТРИДЦАТЬ ЧЕТВЕРТЫЙ Город 34 СДЮШОР 34 | AO36: ТРИДЦАТЬ ЧЕТВЕРТЫЙ Город 34 СДЮШОР 34 | AP36: 34 | AW36: 34
B37: 14 | C37: 18 | D37: ТРИДЦАТЬ ПЯТЫЙ Город 35 СДЮШОР 35 | I37: 0 | J37: =IF(I37=I38,"",IF(I37>I38,C37&"-"&D37,C38&"-"&D38)) -> 50-ТРИДЦАТЬ ШЕСТОЙ Город 36 СДЮШОР 36 | Q37: . | V37: 0 | AO37: ТРИДЦАТЬ ПЯТЫЙ Город 35 СДЮШОР 35 | AP37: 35 | AW37: 18
B38: 50 | C38: 50 | D38: ТРИДЦАТЬ ШЕСТОЙ Город 36 СДЮШОР 36 | I38: 10 | O38: 0 | X38: =IF(V37=V41,"",IF(V37>V41,Q36,Q40)) -> 42-ТРИДЦАТЬ ВОСЬМОЙ Город 38 СДЮШОР 38 | AK38: . | AO38: ТРИДЦАТЬ ШЕСТОЙ Город 36 СДЮШОР 36 | AP38: 36 | AW38: 50
B39: 18 | C39: 10 | D39: ТРИДЦАТЬ СЕДЬМОЙ Город 37 СДЮШОР 37 | I39: 0 | J39: =IF(I39=I40,"",IF(I39>I40,C39&"-"&D39,C40&"-"&D40)) -> 42-ТРИДЦАТЬ ВОСЬМОЙ Город 38 СДЮШОР 38 | K39: =IF(I39=I40,"",IF(I39>I40,C39&"-"&D39,C40&"-"&D40)) -> 42-ТРИДЦАТЬ ВОСЬМОЙ Город 38 СДЮШОР 38 | Q39: . | AC39: 0 | AO39: ТРИДЦАТЬ СЕДЬМОЙ Город 37 СДЮШОР 37 | AP39: 37 | AW39: 10
B40: 42 | C40: 42 | D40: ТРИДЦАТЬ ВОСЬМОЙ Город 38 СДЮШОР 38 | I40: 10 | O40: 10 | Q40: =IF(O40=N42,"",IF(O40>N42,K39,J41)) -> 42-ТРИДЦАТЬ ВОСЬМОЙ Город 38 СДЮШОР 38 | AD40: . | AO40: ТРИДЦАТЬ ВОСЬМОЙ Город 38 СДЮШОР 38 | AP40: 38 | AW40: 42
...

Sheet Дзюдо_32
R2: =Установки!J6&" "&Установки!J7 | AL2: =Установки!$C$5 -> ДЗЮДО
B3: 11 | C3: 1 | J3: =IF(I3=I4,"",IF(I3>I4,C3&"-"&D3,C4&"-"&D4)) | Q3: . | AJ3: 100 | AO3: ПЕРВЫЙ ПЕРВЫЙ Город 1 СДЮШОР 1 | AP3: 1 | AW3: 1
B4: 17 | C4: 17 | O4: 10 | Q4: =IF(O4=O6,"",IF(O4>O6,J3,J5)) | AD4: . | AO4: ВТОРОЙ ВТОРОЙ Город 2 СДЮШОР 2 | AP4: 2 | AW4: 17
B5: 6 | C5: 9 | J5: =IF(I5=I6,"",IF(I5>I6,C5&"-"&D5,C6&"-"&D6)) | Q5: . | V5: 0 | AO5: ТРЕТИЙ ТРЕТИЙ Город 3 СДЮШОР 3 | AP5: 3 | AW5: 9
B6: 25 | C6: 25 | O6: 0 | X6: =IF(V5=V9,"",IF(V5>V9,Q4,Q8)) | AH6: . | AO6: ЧЕТВЕРТЫЙ ЧЕТВЕРТЫЙ Город 4 СДЮШОР 4 | AP6: 4 | AW6: 25
B7: 9 | C7: 5 | J7: =IF(I7=I8,"",IF(I7>I8,C7&"-"&D7,C8&"-"&D8)) | Q7: . | AC7: 0 | AO7: ПЯТЫЙ ПЯТЫЙ Город 5 СДЮШОР 5 | AP7: 5 | AW7: 5
B8: 21 | C8: 21 | O8: 10 | Q8: =IF(O8=N10,"",IF(O8>N10,J7,J9)) | AD8: . | AO8: ШЕСТОЙ ШЕСТОЙ Город 6 СДЮШОР 6 | AP8: 6 | AW8: 21
B9: 3 | C9: 13 | J9: =IF(I9=I10,"",IF(I9>I10,C9&"-"&D9,C10&"-"&D10)) | Q9: . | V9: 7 | AO9: СЕДЬМОЙ СЕДЬМОЙ Город 7 СДЮШОР 7 | AP9: 7 | AW9: 13
B10: 29 | C10: 29 | O10: 0 | AE10: =IF(AC7=AC15,"",IF(AC7>AC15,X6,X14)) | AM10: . | AO10: ВОСЬМОЙ ВОСЬМОЙ Город 8 СДЮШОР 8 | AP10: 8 | AW10: 29
B11: 14 | C11: 3 | J11: =IF(I11=I12,"",IF(I11>I12,C11&"-"&D11,C12&"-"&D12)) | Q11: . | AJ11: 10 | AO11: ДЕВЯТЫЙ ДЕВЯТЫЙ Город 9 СДЮШОР 9 | AP11: 9 | AW11: 3
B12: 19 | C12: 19 | O12: 10 | Q12: =IF(O12=O14,"",IF(O12>O14,J11,J13)) | AD12: . | AO12: ДЕСЯТЫЙ ДЕСЯТЫЙ Город 10 СДЮШОР 10 | AP12: 10 | AW12: 19
B13: 7 | C13: 11 | J13: =IF(I13=I14,"",IF(I13>I14,C13&"-"&D13,C14&"-"&D14)) | Q13: . | V13: 0 | AO13: ОДИННАДЦАТЫЙ ОДИННАДЦАТЫЙ Город 11 СДЮШОР 11 | AP13: 11 | AW13: 11
B14: 27 | C14: 27 | O14: 0 | X14: =IF(V13=V17,"",IF(V13>V17,Q12,Q16)) | AH14: . | AO14: ДВЕНАДЦАТЫЙ ДВЕНАДЦАТЫЙ Город 12 СДЮШОР 12 | AP14: 12 | AW14: 27
B15: 15 | C15: 7 | J15: =IF(I15=I16,"",IF(I15>I16,C15&"-"&D15,C16&"-"&D16)) | Q15: . | AC15: 10 | AO15: ТРИНАДЦАТЫЙ ТРИНАДЦАТЫЙ Город 13 СДЮШОР 13 | AP15: 13 | AW15: 7
B16: 23 | C16: 23 | O16: 10 | Q16: =IF(O16=N18,"",IF(O16>N18,J15,J17)) | AD16: . | AO16: ЧЕТЫРНАДЦАТЫЙ ЧЕТЫРНАДЦАТЫЙ Город 14 СДЮШОР 14 | AP16: 14 | AW16: 23
B17: 2 | C17: 15 | J17: =IF(I17=I18,"",IF(I17>I18,C17&"-"&D17,C18&"-"&D18)) | Q17: . | V17: 10 | AO17: ПЯТНАДЦАТЫЙ ПЯТНАДЦАТЫЙ Город 15 СДЮШОР 15 | AP17: 15 | AW17: 15
B18: 31 | C18: 31 | O18: 0 | AC18: =IF(AJ11=AJ27,"",IF(AJ11>AJ27,AE10,AF26)) | AM18: . | AO18: ШЕСНАДЦАТЫЙ ШЕСНАДЦАТЫЙ Город 16 СДЮШОР 16 | AP18: 16 | AW18: 31
B19: 12 | C19: 2 | J19: =IF(I19=I20,"",IF(I19>I20,C19&"-"&D19,C20&"-"&D20)) | Q19: . | AF19: 1 место | AO19: СЕМНАДЦАТЫЙ СЕМНАДЦАТЫЙ Город 17 СДЮШОР 17 | AP19: 17 | AW19: 2
B20: 18 | C20: 18 | O20: 10 | Q20: =IF(O20=O22,"",IF(O20>O22,J19,J21)) | AD20: . | AO20: ВОСЕМНАДЦАТЫЙ ВОСЕМНАДЦАТЫЙ Город 18 СДЮШОР 18 | AP20: 18 | AW20: 18
B21: 5 | C21: 10 | J21: =IF(I21=I22,"",IF(I21>I22,C21&"-"&D21,C22&"-"&D22)) | Q21: . | V21: 0 | AO21: ДЕВЯТНАДЦАТЫЙ ДЕВЯТНАДЦАТЫЙ Город 19 СДЮШОР 19 | AP21: 19 | AW21: 10
B22: 26 | C22: 26 | O22: 0 | X22: =IF(V21=V25,"",IF(V21>V25,Q20,Q24)) | AH22: . | AO22: ДВАДЦАТЫЙ ДВАДЦАТЫЙ Город 20 СДЮШОР 20 | AP22: 20 | AW22: 26
B23: 10 | C23: 6 | J23: =IF(I23=I24,"",IF(I23>I24,C23&"-"&D23,C24&"-"&D24)) | Q23: . | AC23: 0 | AO23: ДВАДЦАТЬ ПЕРВЫЙ Город 21 СДЮШОР 21 | AP23: 21 | AW23: 6
B24: 22 | C24: 22 | O24: 10 | Q24: =IF(O24=N26,"",IF(O24>N26,J23,J25)) | AD24: . | AO24: ДВАДЦАТЬ ВТОРОЙ Город 22 СДЮШОР 22 | AP24: 22 | AW24: 22
B25: 4 | C25: 14 | J25: =IF(I25=I26,"",IF(I25>I26,C25&"-"&D25,C26&"-"&D26)) | Q25: . | V25: 10 | AO25: ДВАДЦАТЬ ТРЕТИЙ Город 23 СДЮШОР 23 | AP25: 23 | AW25: 14
B26: 30 | C26: 30 | O26: 0 | AE26: =IF(AC23=AC31,"",IF(AC23>AC31,X22,X30)) | AM26: . | AO26: ДВАДЦАТЬ ЧЕТВЕРТЫЙ Город 24 СДЮШОР 24 | AP26: 24 | AW26: 30
B27: 13 | C27: 4 | J27: =IF(I27=I28,"",IF(I27>I28,C27&"-"&D27,C28&"-"&D28)) | Q27: . | AJ27: 0 | AO27: ДВАДЦАТЬ ПЯТЫЙ Город 25 СДЮШОР 25 | AP27: 25 | AW27: 4
B28: 20 | C28: 20 | O28: 10 | Q28: =IF(O28=O30,"",IF(O28>O30,J27,J29)) | AD28: . | AO28: ДВАДЦАТЬ ШЕСТОЙ Город 26 СДЮШОР 26 | AP28: 26 | AW28: 20
B29: 8 | C29: 12 | J29: =IF(I29=I30,"",IF(I29>I30,C29&"-"&D29,C30&"-"&D30)) | Q29: . | V29: 0 | AO29: ДВАДЦАТЬ СЕДЬМОЙ Город 27 СДЮШОР 27 | AP29: 27 | AW29: 12
B30: 28 | C30: 28 | O30: 0 | X30: =IF(V29=V33,"",IF(V29>V33,Q28,Q32)) | AH30: . | AO30: ДВАДЦАТЬ ВОСЬМОЙ Город 28 СДЮШОР 28 | AP30: 28 | AW30: 28
B31: 16 | C31: 8 | J31: =IF(I31=I32,"",IF(I31>I32,C31&"-"&D31,C32&"-"&D32)) | Q31: . | AC31: 5 | AO31: ДВАДЦАТЬ ДЕВЯТЫЙ Город 29 СДЮШОР 29 | AP31: 29 | AW31: 8
B32: 24 | C32: 24 | O32: 10 | Q32: =IF(O32=N34,"",IF(O32>N34,J31,J33)) | AD32: . | AO32: ТРИДЦАТЫЙ ТРИДЦАТЫЙ Город 30 СДЮШОР 30 | AP32: 30 | AW32: 24
B33: 1 | C33: 16 | J33: =IF(I33=I34,"",IF(I33>I34,C33&"-"&D33,C34&"-"&D34)) | Q33: . | V33: 7 | AO33: ТРИДЦАТЬ ПЕРВЫЙ Город 31 СДЮШОР 31 | AP33: 31 | AW33: 16
B34: 32 | C34: 32 | O34: 0 | AO34: ТРИДЦАТЬ ВТОРОЙ Город 32 СДЮШОР 32 | AP34: 32 | AW34: 32
AP35: 33
AP36: 34
D37: Утешительная стадия соревнований | AP37: 35 | AX37: Утешительная стадия соревнований
D38: =IF(X6=C3&"-"&D3,C4&"-"&D4,IF(X6=C4&"-"&D4,C3&"-"&D3, IF(X6=C5&"-"&D5,C6&"-"&D6,IF(X6=C6&"-"&D6,C5&"-"&D5, IF(X6=C7&"-"&D7,C8&"-"&D8,IF(X6=C8&"-"&D8,C7&"-"&D7, IF(X6=C9&"-"&D9,C10&"-"&D10,IF(X6=C10&"-"&D10,C9&"-"&D9,"")))))))) | I38: 10 | J38: =IF(I38=I39,"",IF(I38>I39,D38,D39)) | Q38: . | AP38: 36
D39: =IF(X6=J3,J5,IF(X6=J5,J3, IF(X6=J7,J9,IF(X6=J9,J7, IF(X6=J11,J13,IF(X6=J13,J11, IF(X6=J15,J17,IF(X6=J17,J15,"")))))))) | I39: 0 | O39: 10 | Q39: =IF(O39=O42,"",IF(O39>O42,J38,J41)) | AB39: . | AP39: 37
V40: 0 | AP40: 38
J41: =IF(V5=V9,"",IF(V5>V9,Q8,Q4)) | Q41: . | AP41: 39
...

Sheet Дзюдо_16
AL2: =Установки!$C$5 -> ДЗЮДО
B3: 6 | C3: 1 | I3: 10 | J3: =IF(I3=I4,"",IF(I3>I4,C3&"-"&D3,C4&"-"&D4)) -> 1- | Q3: . | AP3: 1 | AW3: 1
B4: 9 | C4: 9 | I4: 0 | O4: 10 | Q4: =IF(O4=O6,"",IF(O4>O6,J3,J5)) -> 1- | Z4: . | AP4: 2 | AW4: 9
B5: 3 | C5: 5 | I5: 10 | J5: =IF(I5=I6,"",IF(I5>I6,C5&"-"&D5,C6&"-"&D6)) -> 5- | Q5: . | V5: 0 | AP5: 3 | AW5: 5
B6: 13 | C6: 13 | I6: 0 | O6: 0 | X6: =IF(V5=V9,"",IF(V5>V9,Q4,Q8)) -> 3- | AI6: . | AP6: 4 | AW6: 13
B7: 7 | C7: 3 | I7: 10 | J7: =IF(I7=I8,"",IF(I7>I8,C7&"-"&D7,C8&"-"&D8)) -> 3- | Q7: . | AC7: 10 | AP7: 5 | AW7: 3
B8: 11 | C8: 11 | I8: 0 | O8: 10 | Q8: =IF(O8=N10,"",IF(O8>N10,J7,J9)) -> 3- | Z8: . | AP8: 6 | AW8: 11
B9: 2 | C9: 7 | I9: 10 | J9: =IF(I9=I10,"",IF(I9>I10,C9&"-"&D9,C10&"-"&D10)) -> 7- | Q9: . | V9: 10 | AP9: 7 | AW9: 7
B10: 15 | C10: 15 | I10: 0 | O10: 0 | AB10: =IF(AC7=AC15,"",IF(AC7>AC15,X6,X14)) -> 3- | AM10: . | AP10: 8 | AW10: 15
B11: 5 | C11: 2 | I11: 10 | J11: =IF(I11=I12,"",IF(I11>I12,C11&"-"&D11,C12&"-"&D12)) -> 2- | Q11: . | AB11: 1 место | AP11: 9 | AW11: 2
B12: 10 | C12: 10 | I12: 0 | O12: 10 | Q12: =IF(O12=O14,"",IF(O12>O14,J11,J13)) -> 2- | Z12: . | AP12: 10 | AW12: 10
B13: 4 | C13: 6 | I13: 10 | J13: =IF(I13=I14,"",IF(I13>I14,C13&"-"&D13,C14&"-"&D14)) -> 6- | Q13: . | V13: 0 | AP13: 11 | AW13: 6
B14: 14 | C14: 14 | I14: 0 | O14: 0 | X14: =IF(V13=V17,"",IF(V13>V17,Q12,Q16)) -> 4- | AI14: . | AP14: 12 | AW14: 14
B15: 8 | C15: 4 | I15: 10 | J15: =IF(I15=I16,"",IF(I15>I16,C15&"-"&D15,C16&"-"&D16)) -> 4- | Q15: . | AC15: 0 | AP15: 13 | AW15: 4
B16: 12 | C16: 12 | I16: 0 | O16: 10 | Q16: =IF(O16=N18,"",IF(O16>N18,J15,J17)) -> 4- | Z16: . | AP16: 14 | AW16: 12
B17: 1 | C17: 8 | I17: 10 | J17: =IF(I17=I18,"",IF(I17>I18,C17&"-"&D17,C18&"-"&D18)) -> 8- | Q17: . | V17: 10 | AP17: 15 | AW17: 8
B18: 16 | C18: 16 | I18: 0 | O18: 0 | AP18: 16 | AW18: 16
AP19: 17
AP20: 18
D21: Утешительная стадия соревнований | AP21: 19 | AX21: Утешительная стадия соревнований
D22: =IF(Q4=C3&"-"&D3,C4&"-"&D4,IF(Q4=C4&"-"&D4,C3&"-"&D3, IF(Q4=C5&"-"&D5,C6&"-"&D6,IF(Q4=C6&"-"&D6,C5&"-"&D5,"")))) -> 9- | I22: 0 | J22: =IF(I22=I23,"",IF(I22>I23,D22,D23)) -> 5- | V22: . | AP22: 20
D23: =IF(O4=O6,"",IF(O4>O6,J5,J3)) -> 5- | I23: 10 | O23: 10 | AP23: 21
Q24: =IF(O23=O27,"",IF(O23>O27,J22,J26)) -> 5- | AE24: . | AP24: 22
V25: 10 | AP25: 23
D26: =IF(Q8=C7&"-"&D7,C8&"-"&D8,IF(Q8=C8&"-"&D8,C7&"-"&D7, IF(Q8=C9&"-"&D9,C10&"-"&D10,IF(Q8=C10&"-"&D10,C9&"-"&D9,"")))) -> 11- | I26: 0 | J26: =IF(I26=I27,"",IF(I26>I27,D26,D27)) -> 7- | V26: . | AP26: 24
D27: =IF(O8=O10,"",IF(O8>O10,J9,J7)) -> 7- | I27: 10 | O27: 0 | X27: =IF(V25=V30,"",IF(V25>V30,Q24,Q29)) -> 5- | AM27: . | AP27: 25
Y28: 3 место | AP28: 26
Q29: =IF(V13=V17,"",IF(V13>V17,Q16,Q12)) -> 2- | AF29: . | AP29: 27
V30: 0 | AP30: 28
AP31: 29
AP32: 30
A33: 1 | AP33: 31
A34: 2 | D34: =IF(Q12=C11&"-"&D11,C12&"-"&D12,IF(Q12=C12&"-"&D12,C11&"-"&D11, IF(Q12=C13&"-"&D13,C14&"-"&D14,IF(Q12=C14&"-"&D14,C13&"-"&D13,"")))) -> 10- | I34: 0 | J34: =IF(I34=I35,"",IF(I34>I35,D34,D35)) -> 6- | V34: . | AP34: 32
A35: 3 | D35: =IF(O12=O14,"",IF(O12>O14,J13,J11)) -> 6- | I35: 10 | O35: 10 | AP35: 33
A36: 4 | Q36: =IF(O35=O39,"",IF(O35>O39,J34,J38)) -> 6- | AF36: . | AP36: 34
V37: 0 | AP37: 35
D38: =IF(Q16=C15&"-"&D15,C16&"-"&D16,IF(Q16=C16&"-"&D16,C15&"-"&D15, IF(Q16=C17&"-"&D17,C18&"-"&D18,IF(Q16=C18&"-"&D18,C17&"-"&D17,"")))) -> 12- | I38: 0 | J38: =IF(I38=I39,"",IF(I38>I39,D38,D39)) -> 8- | V38: . | AP38: 36
D39: =IF(O16=O18,"",IF(O16>O18,J17,J15)) -> 8- | I39: 7 | O39: 0 | X39: =IF(V37=V42,"",IF(V37>V42,Q36,Q41)) -> 1- | AM39: . | AP39: 37
Y40: 3 место | AP40: 38
Q41: =IF(V5=V9,"",IF(V5>V9,Q8,Q4)) -> 1- | AF41: . | AP41: 39
...

Sheet Дзюдо_8
D1: Кубок А.Мельникова в программе Первенства РБ среди юниорок
F2: 28.02-1.03.2018 | G2: 28.02-1.03.2018 | H2: 28.02-1.03.2018 | I2: 28.02-1.03.2018 | J2: 28.02-1.03.2018 | K2: 28.02-1.03.2018 | L2: 28.02-1.03.2018 | M2: 28.02-1.03.2018 | N2: 28.02-1.03.2018 | O2: 28.02-1.03.2018 | P2: 16-18.01.2020 | AM2: =Установки!$C$5 -> ДЗЮДО
AJ3: 48 | AP3: 1 | AW3: 1
AP4: 2 | AW4: 5
B5: 3 | C5: 1 | D5: Романюк Елена Могилев | I5: 0 | J5: =IF(I5=I6,"",IF(I5>I6,C5&"-"&D5,C6&"-"&D6)) -> 5-Василевская Каролина Гродно | Q5: . | AP5: 3 | AW5: 3
B6: 6 | C6: 5 | D6: Василевская Каролина Гродно | I6: 10 | O6: 0 | Q6: =IF(O6=O8,"",IF(O6>O8,J5,J7)) -> 3-Сингаевская Евгения Ельск | AB6: . | AP6: 4 | AW6: 7
B7: 2 | C7: 3 | D7: Сингаевская Евгения Ельск | I7: 10 | J7: =IF(I7=I8,"",IF(I7>I8,C7&"-"&D7,C8&"-"&D8)) -> 3-Сингаевская Евгения Ельск | Q7: . | V7: 0 | AP7: 5 | AW7: 2
B8: 7 | C8: 7 | I8: 0 | O8: 10 | X8: =IF(V7=V11,"",IF(V7>V11,Q6,Q10)) -> 2-Коновалова Александра Гомель | AM8: . | AP8: 6 | AW8: 6
B9: 4 | C9: 2 | D9: Коновалова Александра Гомель | I9: 10 | J9: =IF(I9=I10,"",IF(I9>I10,C9&"-"&D9,C10&"-"&D10)) -> 2-Коновалова Александра Гомель | Q9: . | Y9: 1 место | AP9: 7 | AW9: 4
B10: 5 | C10: 6 | D10: Щербакова Ульяна Ляховичи | I10: 0 | O10: 10 | Q10: =IF(O10=O12,"",IF(O10>O12,J9,J11)) -> 2-Коновалова Александра Гомель | AB10: . | AP10: 8 | AW10: 8
B11: 1 | C11: 4 | D11: Стригун Ангелина Могилев | I11: 10 | J11: =IF(I11=I12,"",IF(I11>I12,C11&"-"&D11,C12&"-"&D12)) -> 4-Стригун Ангелина Могилев | Q11: . | V11: 10 | AP11: 9
B12: 8 | C12: 8 | I12: 0 | O12: 0 | AP12: 10
AP13: 11 | AX13: Утешительная стадия соревнований
AP14: 12
D15: Утешительная стадия соревнований | AP15: 13
D16: =IF(I5=I6,"",IF(I5>I6,C6&"-"&D6,C5&"-"&D5)) -> 1-Романюк Елена Могилев | I16: 10 | J16: =IF(I16=I17,"",IF(I16>I17,D16,D17)) -> 1-Романюк Елена Могилев | AP16: 14
D17: =IF(I8=I9,"",IF(I8>I9,C9&"-"&D9,C8&"-"&D8)) -> 7- | I17: 0 | O17: 0 | AP17: 15
Q18: =IF(O17=O21,"",IF(O17>O21,J16,J20)) -> 4-Стригун Ангелина Могилев | AP18: 16
R19: 3 место | AP19: 17
J20: =IF(O10=O12,"",IF(O10>O12,J11,J9)) -> 4-Стригун Ангелина Могилев | AP20: 18
O21: 10 | AP21: 19
AP22: 20
AP23: 21
D24: =IF(I8=I9,"",IF(I8>I9,C9&"-"&D9,C10&"-"&D10)) -> 6-Щербакова Ульяна Ляховичи | I24: 10 | J24: =IF(I24=I25,"",IF(I24>I25,D24,D25)) -> 6-Щербакова Ульяна Ляховичи | AP24: 22
D25: =IF(I11=I12,"",IF(I11>I12,C12&"-"&D12,C11&"-"&D11)) -> 8- | I25: 0 | O25: 10 | AP25: 23
Q26: =IF(O25=O29,"",IF(O25>O29,J24,J28)) -> 6-Щербакова Ульяна Ляховичи | AP26: 24
R27: 3 место | AP27: 25
J28: =IF(O6=O8,"",IF(O6>O8,J7,J5)) -> 5-Василевская Каролина Гродно | AP28: 26
O29: 0 | AP29: 27
AP30: 28
AP31: 29
D32: 1-Коновалова Александра Гомель | AP32: 30
D33: 2-Сингаевская Евгения Ельск | O33: . | AP33: 31
D34: 3-Стригун Ангелина Могилев | AP34: 32
D35: 3-Щербакова Ульяна Ляховичи | AP35: 33
D36: 5-Романюк Елена Могилев | AP36: 34
D37: 5-Василевская Каролина Гродно | AP37: 35
AP38: 36
AP39: 37
AP40: 38
...

Sheet Лист2

Sheet Лист3
