Workbook
Name ВидС: Установки!$F$34:$F$36
Name ВК01: Установки!$C$9
Name ВК02: Установки!$D$9
Name ВК03: Установки!$E$9
Name ВК04: Установки!$F$9
Name ВК05: Установки!$G$9
Name ВК06: Установки!$H$9
Name ВК07: Установки!$I$9
Name ВК08: Установки!$O$9
Name ВК09: Установки!$P$9
Name ВК10: Установки!$Q$9
Name ВК11: Установки!$R$9
Name ВК12: Установки!#REF!
Name ВК13: Установки!#REF!
Name ВК14: Установки!#REF!
Name ВК15: Установки!#REF!
Name ВК16: Установки!#REF!
Name ВК17: Установки!#REF!
Name ВК18: Установки!#REF!
Name ВК19: Установки!#REF!
Name ВК20: Установки!#REF!
Name ВКсп: Установки!$C$9:$V$9
Name лВК: Взвешивание_02!$J$4
Name лВК: ЗАЯВКА!$H$8
Name лВК: ПротВзвеш!$H$7
Name лВК: #REF!
Name ОТМ: ФИО!$B$3:$B$3362
Name СН_ВидС: Установки!$F$34:$F$36
Name СН_ВК: Установки!$D$34:$D$67
Name СН_Орг: ФИО!$G$3365:$I$3504
Name СН_СММ: Установки!$H$34:$H$56
Name СН_СММ_Прим: Установки!$B$34:$B$63

Sheet Лист1
B1: 50
B2: 55
B3: 60
B4: 66
B5: 74
B6: 84
B7: 96
B8: 120
B9: 42
B10: 46
B11: 50
B12: 54
... B36: 70

Sheet ПротВзвеш
B1: ПРОТКОЛ ВЗВЕШИВАНИЯ
C2: =Установки!C3 -> Первенства РБ U-21 по дзюдо | K2: весовая категория
C3: =Установки!C4 -> среди юниоров
C4: =Установки!C5 -> ДЗЮДО
C5: =Установки!C6&" "&Установки!C7 -> 16-18 января 2020 г. Могилёв
B6: № | C6: Фамилия Имя участника | D6: Чис. | E6: Мес. | F6: Год р. | G6: Разряд | H6: Весовая катег. | I6: Город | J6: Организация, ведомство | K6: Тренер | L6: виза врача
C7: =ФИО!G3&" "&ФИО!H3&" "&ФИО!I3 -> Грищенко Анастасия Анатольевна | D7: =ФИО!J3 -> 30 | E7: =ФИО!K3 -> 03 | F7: =ФИО!L3 -> 2001 | G7: =ФИО!M3 -> кмс | I7: =ФИО!N3 -> Бобруйск | J7: =ФИО!O3&" "&ФИО!P3 -> Динамо | K7: =ФИО!Q3&" "&ФИО!R3&" "&ФИО!S3&" "&ФИО!T3&" "&ФИО!U3 -> Жуковец В.В. Жуковец Н.Н.
C8: =ФИО!G4&" "&ФИО!H4&" "&ФИО!I4 -> Васищева Анна Александровна | D8: =ФИО!J4 -> 18 | E8: =ФИО!K4 -> 04 | F8: =ФИО!L4 -> 2004 | G8: =ФИО!M4 -> 1 | I8: =ФИО!N4 -> Могилев | J8: =ФИО!O4&" "&ФИО!P4 -> СДЮШОР№3 МСиТ | K8: =ФИО!Q4&" "&ФИО!R4&" "&ФИО!S4&" "&ФИО!T4&" "&ФИО!U4 -> Муравская Т.В.
C9: =ФИО!G5&" "&ФИО!H5&" "&ФИО!I5 -> Шевцова Дарья Владимировна | D9: =ФИО!J5 -> 07 | E9: =ФИО!K5 -> 12 | F9: =ФИО!L5 -> 2004 | G9: =ФИО!M5 -> 1 | I9: =ФИО!N5 -> Чериков | J9: =ФИО!O5&" "&ФИО!P5 -> ГУДО"центр творчества и молодежи" МСиТ | K9: =ФИО!Q5&" "&ФИО!R5&" "&ФИО!S5&" "&ФИО!T5&" "&ФИО!U5 -> Соляников А.Н.
D10: =ФИО!J6 -> 13 | E10: =ФИО!K6 -> 11 | F10: =ФИО!L6 -> 2000 | G10: =ФИО!M6 -> кмс | J10: =ФИО!O6&" "&ФИО!P6 -> МГУОР МСиТ | K10: =ФИО!Q6&" "&ФИО!R6&" "&ФИО!S6&" "&ФИО!T6&" "&ФИО!U6 -> Плахов А.В.
C11: =ФИО!G7&" "&ФИО!H7&" "&ФИО!I7 -> Гупало Инесса Сергеевна | D11: =ФИО!J7 -> 18 | E11: =ФИО!K7 -> 08 | F11: =ФИО!L7 -> 2003 | G11: =ФИО!M7 -> кмс | I11: =ФИО!N7 -> Бобруйск | J11: =ФИО!O7&" "&ФИО!P7 -> БГУОР Динамо | K11: =ФИО!Q7&" "&ФИО!R7&" "&ФИО!S7&" "&ФИО!T7&" "&ФИО!U7 -> Жуковец В.В. Жуковец Н.Н.
C12: =ФИО!G8&" "&ФИО!H8&" "&ФИО!I8 -> Буракова Надежда Владимировна | D12: =ФИО!J8 -> 15 | E12: =ФИО!K8 -> 03 | F12: =ФИО!L8 -> 2003 | G12: =ФИО!M8 -> кмс | I12: =ФИО!N8 -> Могилев | J12: =ФИО!O8&" "&ФИО!P8 -> МГУОР МСиТ | K12: =ФИО!Q8&" "&ФИО!R8&" "&ФИО!S8&" "&ФИО!T8&" "&ФИО!U8 -> Михайлов В.П. Будагян Г.А.
C13: =ФИО!G9&" "&ФИО!H9&" "&ФИО!I9 -> Герасименко Кристина Алексеевна | D13: =ФИО!J9 -> 0 | E13: =ФИО!K9 -> 0 | F13: =ФИО!L9 -> 2004 | G13: =ФИО!M9 -> 1 | I13: =ФИО!N9 -> Бобруйск | J13: =ФИО!O9&" "&ФИО!P9 -> БГУОР Динамо | K13: =ФИО!Q9&" "&ФИО!R9&" "&ФИО!S9&" "&ФИО!T9&" "&ФИО!U9 -> Жуковец В.В.
C14: =ФИО!G10&" "&ФИО!H10&" "&ФИО!I10 -> Стригун Ангелина Павловна | D14: =ФИО!J10 -> 11 | E14: =ФИО!K10 -> 08 | F14: =ФИО!L10 -> 2003 | G14: =ФИО!M10 -> 1 | I14: =ФИО!N10 -> Могилев | J14: =ФИО!O10&" "&ФИО!P10 -> МГУОР МСиТ | K14: =ФИО!Q10&" "&ФИО!R10&" "&ФИО!S10&" "&ФИО!T10&" "&ФИО!U10 -> Рыбалко Н.А. Будагян Г.А. Михайлов В.П.
C15: =ФИО!G11&" "&ФИО!H11&" "&ФИО!I11 -> Борисова Александра Николаевна | D15: =ФИО!J11 -> 21 | E15: =ФИО!K11 -> 03 | F15: =ФИО!L11 -> 2002 | G15: =ФИО!M11 -> 1 | I15: =ФИО!N11 -> Могилев | J15: =ФИО!O11&" "&ФИО!P11 -> СДЮШОР №3 МСиТ | K15: =ФИО!Q11&" "&ФИО!R11&" "&ФИО!S11&" "&ФИО!T11&" "&ФИО!U11 -> Старовойтова Т.Н.
C16: =ФИО!G12&" "&ФИО!H12&" "&ФИО!I12 -> Скворцова Анастасия Сергеевна | D16: =ФИО!J12 -> 27 | E16: =ФИО!K12 -> 10 | F16: =ФИО!L12 -> 2002 | G16: =ФИО!M12 -> кмс | I16: =ФИО!N12 -> Могилев | J16: =ФИО!O12&" "&ФИО!P12 -> МГУОР МСиТ | K16: =ФИО!Q12&" "&ФИО!R12&" "&ФИО!S12&" "&ФИО!T12&" "&ФИО!U12 -> Старовойтова Т.Н. Будагян Г.А. Михайлов В.П.
C17: =ФИО!G13&" "&ФИО!H13&" "&ФИО!I13 -> Дубовская Елизавета Юрьевна | D17: =ФИО!J13 -> 15 | E17: =ФИО!K13 -> 09 | F17: =ФИО!L13 -> 2002 | G17: =ФИО!M13 -> кмс | I17: =ФИО!N13 -> Могилев | J17: =ФИО!O13&" "&ФИО!P13 -> МГУОР МСиТ | K17: =ФИО!Q13&" "&ФИО!R13&" "&ФИО!S13&" "&ФИО!T13&" "&ФИО!U13 -> Рыбалко Н.А. Чернякова Е.В. Михайлов В.П. Будагян Г.А.
C18: =ФИО!G14&" "&ФИО!H14&" "&ФИО!I14 -> Романюк Елена | D18: =ФИО!J14 -> 0 | E18: =ФИО!K14 -> 0 | F18: =ФИО!L14 -> 2002 | G18: =ФИО!M14 -> 0 | I18: =ФИО!N14 -> Могилев | J18: =ФИО!O14&" "&ФИО!P14 -> БРУ | K18: =ФИО!Q14&" "&ФИО!R14&" "&ФИО!S14&" "&ФИО!T14&" "&ФИО!U14 -> Перец Н.А.
C19: =ФИО!G15&" "&ФИО!H15&" "&ФИО!I15 -> Королькова Ольга Владимировна | D19: =ФИО!J15 -> 23 | E19: =ФИО!K15 -> 03 | F19: =ФИО!L15 -> 2003 | G19: =ФИО!M15 -> кмс | I19: =ФИО!N15 -> Могилев | J19: =ФИО!O15&" "&ФИО!P15 -> РГУОР МСиТ | K19: =ФИО!Q15&" "&ФИО!R15&" "&ФИО!S15&" "&ФИО!T15&" "&ФИО!U15 -> Толкачев Н.А. Рябцев Л.С. Будагян Г.А. Михайлов В.П.
C20: =ФИО!G16&" "&ФИО!H16&" "&ФИО!I16 -> Хрущева Валерия Олеговна | D20: =ФИО!J16 -> 20 | E20: =ФИО!K16 -> 10 | F20: =ФИО!L16 -> 2002 | G20: =ФИО!M16 -> мс | I20: =ФИО!N16 -> Могилев | J20: =ФИО!O16&" "&ФИО!P16 -> БГУОР МСиТ | K20: =ФИО!Q16&" "&ФИО!R16&" "&ФИО!S16&" "&ФИО!T16&" "&ФИО!U16 -> Климко И.В. Чернякова Е.В. Жуковец Н.Н. Жуковец В.В.
C21: =ФИО!G17&" "&ФИО!H17&" "&ФИО!I17 -> Бурачкова Полина Руслановна | D21: =ФИО!J17 -> 06 | E21: =ФИО!K17 -> 04 | F21: =ФИО!L17 -> 2004 | G21: =ФИО!M17 -> 1 | I21: =ФИО!N17 -> Могилев | J21: =ФИО!O17&" "&ФИО!P17 -> МГУОР МСиТ | K21: =ФИО!Q17&" "&ФИО!R17&" "&ФИО!S17&" "&ФИО!T17&" "&ФИО!U17 -> Геращенко А.А. Михайлов В.П. Будагян Г.А.
C22: =ФИО!G18&" "&ФИО!H18&" "&ФИО!I18 -> ТРИНАДЦАТЫЙ ТРИНАДЦАТЫЙ | D22: =ФИО!J18 -> 0 | E22: =ФИО!K18 -> 0 | F22: =ФИО!L18 -> 0 | G22: =ФИО!M18 -> 0 | I22: =ФИО!N18 -> Город 13 | J22: =ФИО!O18&" "&ФИО!P18 -> СДЮШОР 13 | K22: =ФИО!Q18&" "&ФИО!R18&" "&ФИО!S18&" "&ФИО!T18&" "&ФИО!U18
... C26: =ФИО!G22&" "&ФИО!H22&" "&ФИО!I22 -> СЕМНАДЦАТЫЙ СЕМНАДЦАТЫЙ | D26: =ФИО!J22 -> 0 | E26: =ФИО!K22 -> 0 | F26: =ФИО!L22 -> 0 | G26: =ФИО!M22 -> 0 | I26: =ФИО!N22 -> Город 17 | J26: =ФИО!O22&" "&ФИО!P22 -> СДЮШОР 17 | K26: =ФИО!Q22&" "&ФИО!R22&" "&ФИО!S22&" "&ФИО!T22&" "&ФИО!U22
C27: =ФИО!G120&" "&ФИО!H120&" "&ФИО!I120 -> Заленская Ярослава Николаевна | D27: =ФИО!J120 -> 24 | E27: =ФИО!K120 -> 08 | F27: =ФИО!L120 -> 2004 | G27: =ФИО!M120 -> 0 | I27: =ФИО!N120 -> Витебск | J27: =ФИО!O120&" "&ФИО!P120 -> ВГУОР МСиТ | K27: =ФИО!Q120&" "&ФИО!R120&" "&ФИО!S120&" "&ФИО!T120&" "&ФИО!U120 -> Граков А.В. Толяронок Е.А.
C31: =ФИО!G121&" "&ФИО!H121&" "&ФИО!I121 -> Макрецкая Яна Владимировна | D31: =ФИО!J121 -> 07 | E31: =ФИО!K121 -> 07 | F31: =ФИО!L121 -> 2002 | G31: =ФИО!M121 -> 1 дан | I31: =ФИО!N121 -> Н.Полоцк | J31: =ФИО!O121&" "&ФИО!P121 -> НГУОР МСиТ | K31: =ФИО!Q121&" "&ФИО!R121&" "&ФИО!S121&" "&ФИО!T121&" "&ФИО!U121 -> Ковалевский А.В. Роговцова О.В.
C32: =ФИО!G122&" "&ФИО!H122&" "&ФИО!I122 -> Дук Мария Анатольевна | D32: =ФИО!J122 -> 01 | E32: =ФИО!K122 -> 12 | F32: =ФИО!L122 -> 2000 | G32: =ФИО!M122 -> 3 кю | I32: =ФИО!N122 -> Н.Полоцк | J32: =ФИО!O122&" "&ФИО!P122 -> НГУОР МСиТ | K32: =ФИО!Q122&" "&ФИО!R122&" "&ФИО!S122&" "&ФИО!T122&" "&ФИО!U122 -> Ковалевский А.В. Роговцова О.В.
B34: Гл секретарь _____________________ | I34: Гл.судья _____________________

Sheet Взвешивание_02
C1: ПРОТОКОЛ взвешивания и жеребьевки | J1: =Установки!C5 -> ДЗЮДО
G2: =Установки!C3 -> Первенства РБ U-21 по дзюдо
B3: =Установки!C4 -> среди юниоров
F4: =Установки!C6&" "&Установки!C7 -> 16-18 января 2020 г. Могилёв | J4: 48
B5: № | C5: проц. № | D5: №жр. | E5: Фамилия Имя участника | F5: Год р. | G5: Разряд | H5: Город | I5: Организация | J5: Тренер
A6: =IF(лВК=ФИО!D3,лВК,"") | E6: =ФИО!G3&" "&ФИО!H3 -> Грищенко Анастасия | F6: =ФИО!L3 -> 2001 | G6: =ФИО!M3 -> кмс | H6: =ФИО!N3 -> Бобруйск | I6: =ФИО!Q3&" "&ФИО!R3 -> Жуковец В.В. Жуковец Н.Н. | J6: =ФИО!T3&" "&ФИО!U3&" "&ФИО!V3&" "&ФИО!W3&" "&ФИО!X3
A7: =IF(лВК=ФИО!D4,лВК,"") | E7: =ФИО!G4&" "&ФИО!H4 -> Васищева Анна | F7: =ФИО!L4 -> 2004 | G7: =ФИО!M4 -> 1 | H7: =ФИО!N4 -> Могилев | I7: =ФИО!Q4&" "&ФИО!R4 -> Муравская Т.В. | J7: =ФИО!T4&" "&ФИО!U4&" "&ФИО!V4&" "&ФИО!W4&" "&ФИО!X4
A8: =IF(лВК=ФИО!D5,лВК,"") | E8: =ФИО!G5&" "&ФИО!H5 -> Шевцова Дарья | F8: =ФИО!L5 -> 2004 | G8: =ФИО!M5 -> 1 | H8: =ФИО!N5 -> Чериков | I8: =ФИО!Q5&" "&ФИО!R5 -> Соляников А.Н. | J8: =ФИО!T5&" "&ФИО!U5&" "&ФИО!V5&" "&ФИО!W5&" "&ФИО!X5
A9: =IF(лВК=ФИО!D6,лВК,"") | E9: =ФИО!G6&" "&ФИО!H6 -> Песляк Мария | F9: =ФИО!L6 -> 2000 | G9: =ФИО!M6 -> кмс | H9: =ФИО!N6 -> Могилев | I9: =ФИО!Q6&" "&ФИО!R6 -> Плахов А.В. | J9: =ФИО!T6&" "&ФИО!U6&" "&ФИО!V6&" "&ФИО!W6&" "&ФИО!X6
A10: =IF(лВК=ФИО!D7,лВК,"") | E10: =ФИО!G7&" "&ФИО!H7 -> Гупало Инесса | F10: =ФИО!L7 -> 2003 | G10: =ФИО!M7 -> кмс | H10: =ФИО!N7 -> Бобруйск | I10: =ФИО!Q7&" "&ФИО!R7 -> Жуковец В.В. Жуковец Н.Н. | J10: =ФИО!T7&" "&ФИО!U7&" "&ФИО!V7&" "&ФИО!W7&" "&ФИО!X7
A11: =IF(лВК=ФИО!D8,лВК,"") | E11: =ФИО!G8&" "&ФИО!H8 -> Буракова Надежда | F11: =ФИО!L8 -> 2003 | G11: =ФИО!M8 -> кмс | H11: =ФИО!N8 -> Могилев | I11: =ФИО!Q8&" "&ФИО!R8 -> Михайлов В.П. Будагян Г.А. | J11: =ФИО!T8&" "&ФИО!U8&" "&ФИО!V8&" "&ФИО!W8&" "&ФИО!X8
A12: =IF(лВК=ФИО!D9,лВК,"") | E12: =ФИО!G9&" "&ФИО!H9 -> Герасименко Кристина | F12: =ФИО!L9 -> 2004 | G12: =ФИО!M9 -> 1 | H12: =ФИО!N9 -> Бобруйск | I12: =ФИО!Q9&" "&ФИО!R9 -> Жуковец В.В. | J12: =ФИО!T9&" "&ФИО!U9&" "&ФИО!V9&" "&ФИО!W9&" "&ФИО!X9
A13: =IF(лВК=ФИО!D10,лВК,"") -> 48 | E13: =ФИО!G10&" "&ФИО!H10 -> Стригун Ангелина | F13: =ФИО!L10 -> 2003 | G13: =ФИО!M10 -> 1 | H13: =ФИО!N10 -> Могилев | I13: =ФИО!Q10&" "&ФИО!R10 -> Рыбалко Н.А. Будагян Г.А. | J13: =ФИО!T10&" "&ФИО!U10&" "&ФИО!V10&" "&ФИО!W10&" "&ФИО!X10
A14: =IF(лВК=ФИО!D11,лВК,"") | E14: =ФИО!G11&" "&ФИО!H11 -> Борисова Александра | F14: =ФИО!L11 -> 2002 | G14: =ФИО!M11 -> 1 | H14: =ФИО!N11 -> Могилев | I14: =ФИО!Q11&" "&ФИО!R11 -> Старовойтова Т.Н. | J14: =ФИО!T11&" "&ФИО!U11&" "&ФИО!V11&" "&ФИО!W11&" "&ФИО!X11
A15: =IF(лВК=ФИО!D12,лВК,"") | E15: =ФИО!G12&" "&ФИО!H12 -> Скворцова Анастасия | F15: =ФИО!L12 -> 2002 | G15: =ФИО!M12 -> кмс | H15: =ФИО!N12 -> Могилев | I15: =ФИО!Q12&" "&ФИО!R12 -> Старовойтова Т.Н. Будагян Г.А. | J15: =ФИО!T12&" "&ФИО!U12&" "&ФИО!V12&" "&ФИО!W12&" "&ФИО!X12
A16: =IF(лВК=ФИО!D13,лВК,"") | E16: =ФИО!G13&" "&ФИО!H13 -> Дубовская Елизавета | F16: =ФИО!L13 -> 2002 | G16: =ФИО!M13 -> кмс | H16: =ФИО!N13 -> Могилев | I16: =ФИО!Q13&" "&ФИО!R13 -> Рыбалко Н.А. Чернякова Е.В. | J16: =ФИО!T13&" "&ФИО!U13&" "&ФИО!V13&" "&ФИО!W13&" "&ФИО!X13 -> Будагян Г.А.
A17: =IF(лВК=ФИО!D14,лВК,"") -> 48 | E17: =ФИО!G14&" "&ФИО!H14 -> Романюк Елена | F17: =ФИО!L14 -> 2002 | G17: =ФИО!M14 -> 0 | H17: =ФИО!N14 -> Могилев | I17: =ФИО!Q14&" "&ФИО!R14 -> Перец Н.А. | J17: =ФИО!T14&" "&ФИО!U14&" "&ФИО!V14&" "&ФИО!W14&" "&ФИО!X14
... A3238: =IF(лВК=ФИО!D3235,лВК,"") | E3238: =ФИО!G3235&" "&ФИО!H3235 | F3238: =ФИО!L3235 -> 0 | G3238: =ФИО!M3235 -> 0 | H3238: =ФИО!N3235 -> 0 | I3238: =ФИО!Q3235&" "&ФИО!R3235 | J3238: =ФИО!T3235&" "&ФИО!U3235&" "&ФИО!V3235&" "&ФИО!W3235&" "&ФИО!X3235

Sheet 64
G4: № позиция в протоколе | H4: Позиция в рейтинге | T4: Позиция в рейтинге | U4: № позиция в протоколе
G5: 1 | H5: 22 | T5: 24 | U5: 2
G6: 33 | H6: 33 | T6: 34 | U6: 34
G8: 17 | H8: 13 | T8: 14 | U8: 18
G9: 49 | H9: 49 | T9: 50 | U9: 50
G11: 9 | H11: 17 | T11: 18 | U11: 10
G12: 41 | H12: 41 | T12: 42 | U12: 42
G14: 25 | H14: 6 | T14: 5 | U14: 26
G15: 57 | H15: 57 | T15: 58 | U15: 58
G17: 5 | H17: 27 | T17: 25 | U17: 6
G18: 37 | H18: 37 | T18: 38 | U18: 38
G20: 21 | H20: 9 | T20: 10 | U20: 22
G21: 53 | H21: 53 | T21: 54 | U21: 54
... G32: 19 | H32: 15 | T32: 16 | U32: 20
G33: 51 | H33: 51 | U33: 52
G35: 11 | H35: 19 | T35: 20 | U35: 12
G36: 43 | H36: 43 | T36: 44 | U36: 44
G38: 27 | H38: 7 | T38: 8 | U38: 28
G39: 59 | H39: 59 | T39: 60 | U39: 60
G41: 7 | H41: 26 | T41: 28 | U41: 8
G42: 39 | H42: 39 | T42: 40 | U42: 40
G44: 23 | H44: 11 | T44: 12 | U44: 24
G45: 55 | H45: 55 | T45: 56 | U45: 56
G47: 15 | H47: 31 | T47: 32 | U47: 16
G48: 47 | H48: 47 | T48: 48 | U48: 48
G50: 31 | H50: 2 | T50: 1 | U50: 32
G51: 63 | H51: 63 | T51: 64 | U51: 64

Sheet 32
G4: № позиция в протоколе | H4: Позиция в рейтинге | R4: Позиция в рейтинге | S4: № позиция в протоколе
G5: 1 | H5: 11 | R5: 12 | S5: 2
G6: 17 | H6: 17 | R6: 18 | S6: 18
G8: 9 | H8: 6 | R8: 5 | S8: 10
G9: 25 | H9: 25 | R9: 26 | S9: 26
G11: 5 | H11: 9 | R11: 10 | S11: 6
G12: 21 | H12: 21 | R12: 22 | S12: 22
G14: 13 | H14: 3 | R14: 4 | S14: 14
G15: 29 | H15: 29 | R15: 30 | S15: 30
G17: 3 | H17: 14 | R17: 13 | S17: 4
G18: 19 | H18: 19 | R18: 20 | S18: 20
G20: 11 | H20: 7 | R20: 8 | S20: 12
G21: 27 | H21: 27 | R21: 28 | S21: 28
... G27: 31 | H27: 31 | R27: 32 | S27: 32

Sheet 16
G4: № позиция в протоколе | H4: Позиция в рейтинге | P4: Позиция в рейтинге | Q4: № позиция в протоколе
G5: 1 | H5: 6 | P5: 5 | Q5: 2
G6: 9 | H6: 9 | P6: 10 | Q6: 10
G8: 5 | H8: 3 | P8: 4 | Q8: 6
G9: 13 | H9: 13 | P9: 14 | Q9: 14
G11: 3 | H11: 7 | P11: 8 | Q11: 4
G12: 11 | H12: 11 | P12: 12 | Q12: 12
G14: 7 | H14: 2 | P14: 1 | Q14: 8
G15: 15 | H15: 15 | P15: 16 | Q15: 16

Sheet 8
G4: № позиция в протоколе | H4: Позиция в рейтинге | N4: Позиция в рейтинге | O4: № позиция в протоколе
G5: 1 | H5: 3 | N5: 4 | O5: 2
G6: 5 | H6: 6 | N6: 5 | O6: 6
G9: 3 | H9: 2 | N9: 1 | O9: 4
G10: 7 | H10: 7 | N10: 8 | O10: 8

Sheet ПХС_64
C1: =Установки!C3&" "&Установки!C4 -> Первенства РБ U-21 по дзюдо среди юниоров
J2: =Установки!C6&" "&Установки!C7 -> 16-18 января 2020 г. Могилёв | AL2: =Установки!C5 -> ДЗЮДО
B3: 1 | AI3: 46
B4: 2
B5: 3
B6: 4
B7: 5
B8: 6
B9: 7
B10: 8
B11: 9
B12: 10
B13: 11
B14: 12
B15: 13
... B66: 64

Sheet ПХС_32
C1: =Установки!C3&" "&Установки!C4 -> Первенства РБ U-21 по дзюдо среди юниоров
J2: =Установки!C6&" "&Установки!C7 -> 16-18 января 2020 г. Могилёв | AL2: =Установки!C5 -> ДЗЮДО
AI3: 46
B4: 1
B5: 2
B6: 3
B7: 4
B8: 5
B9: 6
B10: 7
B11: 8
B12: 9
B13: 10
B14: 11
B15: 12
... B35: 32

Sheet ПХС_16
C1: =Установки!C3&" "&Установки!C4 -> Первенства РБ U-21 по дзюдо среди юниоров
J2: =Установки!C6&" "&Установки!C7 -> 16-18 января 2020 г. Могилёв | AL2: =Установки!C5 -> ДЗЮДО
AI3: 46
B4: 1
B5: 2
B6: 3
B7: 4
B8: 5
B9: 6
B10: 7
B11: 8
B12: 9
B13: 10
B14: 11
B15: 12
... B19: 16

Sheet ПХС_8
C1: =Установки!C3&" "&Установки!C4 -> Первенства РБ U-21 по дзюдо среди юниоров
C2: =Установки!C6&" "&Установки!C7 -> 16-18 января 2020 г. Могилёв | AC2: =Установки!C5 -> ДЗЮДО
Z3: 46
B4: 1
B5: 2
B6: 3
B7: 4
B8: 5
B9: 6
B10: 7
B11: 8

Sheet Установки
B2: Организация
B3: Наименование | C3: Первенства РБ U-21 по дзюдо
B4: Примечание | C4: среди юниоров
B5: Вид спорта | C5: ДЗЮДО
B6: Дата | C6: 16-18 января 2020
B7: Место | C7: г. Могилёв
C9: 48 | D9: 52 | E9: 57 | F9: 63 | G9: 70 | H9: 78 | I9: .+78 | J9: 60 | K9: 66 | L9: 73 | M9: 81 | N9: 90 | O9: 100 | P9: .+100
C10: 1 | E10: 3 | F10: 4 | G10: 5 | H10: 6 | I10: 7 | J10: 8 | K10: 9 | L10: 10 | M10: 11 | N10: 12 | O10: 13 | P10: 14 | Q10: 15 | R10: 16 | S10: 17 | T10: 18 | U10: 19 | V10: 20
C14: sdushor7@yandex.ru
C16: 650-18-27
D34: 29 | F34: ВОЛЬНАЯ БОРЬБА | H34: Кубок города
B35: среди юниорок | D35: 32 | F35: ДЗЮДО | H35: Кубок области
B36: среди девушек | D36: 35 | F36: ГРЕКО-РИМСКАЯ БОРЬБА | H36: Кубок Республики Беларусь
B37: среди юниоров | D37: 38 | H37: Межгосударственный турнир
B38: среди юношей | D38: 42 | H38: Международный турнир
B39: "Белые ночи" | D39: 46 | H39: Олимпийские дни молодежи города
B40: "Северное сияние" | D40: 50 | H40: Олимпийские Дни Молодежи области
B41: кубок "Азовмаша" | D41: 55 | H41: Олимпийские дни мололодежи Республики Беларусь
B42: на пнизы группы "Альфа" | D42: 60 | H42: Открытое первенство СДЮШОР №7 по спортивным единоборствам
B43: на призы А.Карелина | D43: 66 | H43: Открытое первенство школы
B44: на призы Б.Радкевича | D44: 73 | H44: Первенство г.Минска
B45: на призы Гродненского городского совета депутатов | D45: 74 | H45: Первенство области
B46: на призы ЗМС В.Капытова | D46: 81 | H46: Первенство Республики Беларусь
B47: на призы И.Каныгина | D47: 84 | H47: Первенство Республики Беларусь среди ДЮСШ
B48: на призы С.Лиштвана | D48: 90 | H48: Первенство школы
... B51: памяти А.К.Кораблева | D51: 120 | H51: Спартакиада города среди ДЮСШ
B52: памяти А.Я.Андреева | D52: .+100 | H52: Спартакиада Республики Беларусь среди ДЮСШ
B53: памяти Б.М.Гуревича | D53: 44 | H53: Спартакиада уч-ся молодежи Республики Беларусь
B54: памяти В.Уминского | D54: 48 | H54: Чемпионат города
B55: памяти ЗТ СССР А.Кондрацкого | D55: 51 | H55: Чемпионат области
B56: памяти Л.М.Доватора | D56: 52 | H56: Чемпионат Республики Беларусь
B57: памяти М.Н.Доленко | D57: 57
B58: памяти М.Т.Болбошина | D58: 59
B59: памяти М.Т.Шмакова | D59: 63
B60: памяти О.Караваева | D60: 67
B61: памяти П.М.Машерова | D61: 70
B62: памяти Т.Бородина | D62: 72
B63: памяти Т.С.Бородина | D63: 78
D64: .+78
D65: 52
D66: 56
D67: 60
D68: 65
D69: 70

Sheet ФИО
A1: sdushor7@yandex.ru | G1: 650-18-27 | J1: Дата рождения | O1: Первичная Организация и тренеры | Y1: Организация и тренеры в настоящее время
A2: № | B2: отметка | C2: ВидСпорта | D2: Вес | E2: код | F2: пол | G2: Фамилия | H2: Имя | I2: Отчество | J2: чис | K2: мес | L2: год | M2: Разряд | N2: Город | O2: Организация | P2: Ведомство | Q2: Тренр 1 | R2: Тренр 2 | S2: Тренр 3 | T2: Тренр 4 | U2: Тренр 5 | V2: Организация | W2: Ведрмство | X2: Тренр 1 | Y2: Тренр 2 | Z2: Тренр 3 | AA2: Тренр 4 | AB2: Тренр 5 | AC2: Тренр 4 | AD2: Тренр 5
A3: 1 | C3: 1 | D3: .+78 | G3: Грищенко | H3: Анастасия | I3: Анатольевна | J3: 30 | K3: 03 | L3: 2001 | M3: кмс | N3: Бобруйск | O3: Динамо | Q3: Жуковец В.В. | R3: Жуковец Н.Н.
A4: 2 | C4: 1 | D4: 57 | G4: Васищева | H4: Анна | I4: Александровна | J4: 18 | K4: 04 | L4: 2004 | M4: 1 | N4: Могилев | O4: СДЮШОР№3 | P4: МСиТ | Q4: Муравская | R4: Т.В.
A5: 3 | C5: 1 | D5: 52 | G5: Шевцова | H5: Дарья | I5: Владимировна | J5: 07 | K5: 12 | L5: 2004 | M5: 1 | N5: Чериков | O5: ГУДО"центр творчества и молодежи" | P5: МСиТ | Q5: Соляников А.Н.
A6: 4 | C6: 1 | D6: .+78 | G6: Песляк | H6: Мария | I6: Витальевна | J6: 13 | K6: 11 | L6: 2000 | M6: кмс | N6: Могилев | O6: МГУОР | P6: МСиТ | Q6: Плахов А.В.
A7: 5 | C7: 1 | D7: 78 | G7: Гупало | H7: Инесса | I7: Сергеевна | J7: 18 | K7: 08 | L7: 2003 | M7: кмс | N7: Бобруйск | O7: БГУОР | P7: Динамо | Q7: Жуковец В.В. | R7: Жуковец Н.Н.
A8: 6 | C8: 1 | D8: 78 | G8: Буракова | H8: Надежда | I8: Владимировна | J8: 15 | K8: 03 | L8: 2003 | M8: кмс | N8: Могилев | O8: МГУОР | P8: МСиТ | Q8: Михайлов В.П. | R8: Будагян Г.А.
A9: 7 | C9: 1 | D9: 57 | G9: Герасименко | H9: Кристина | I9: Алексеевна | L9: 2004 | M9: 1 | N9: Бобруйск | O9: БГУОР | P9: Динамо | Q9: Жуковец В.В.
A10: 8 | C10: 1 | D10: 48 | G10: Стригун | H10: Ангелина | I10: Павловна | J10: 11 | K10: 08 | L10: 2003 | M10: 1 | N10: Могилев | O10: МГУОР | P10: МСиТ | Q10: Рыбалко Н.А. | R10: Будагян Г.А. | S10: Михайлов В.П.
A11: 9 | C11: 1 | D11: 57 | G11: Борисова | H11: Александра | I11: Николаевна | J11: 21 | K11: 03 | L11: 2002 | M11: 1 | N11: Могилев | O11: СДЮШОР №3 | P11: МСиТ | Q11: Старовойтова Т.Н.
A12: 10 | C12: 1 | D12: 70 | G12: Скворцова | H12: Анастасия | I12: Сергеевна | J12: 27 | K12: 10 | L12: 2002 | M12: кмс | N12: Могилев | O12: МГУОР | P12: МСиТ | Q12: Старовойтова Т.Н. | R12: Будагян Г.А. | S12: Михайлов В.П.
A13: 11 | G13: Дубовская | H13: Елизавета | I13: Юрьевна | J13: 15 | K13: 09 | L13: 2002 | M13: кмс | N13: Могилев | O13: МГУОР | P13: МСиТ | Q13: Рыбалко Н.А. | R13: Чернякова Е.В. | S13: Михайлов В.П. | T13: Будагян Г.А.
A14: 12 | C14: 1 | D14: 48 | G14: Романюк | H14: Елена | L14: 2002 | N14: Могилев | O14: БРУ | R14: Перец Н.А.
A15: 13 | C15: 1 | D15: 52 | G15: Королькова | H15: Ольга | I15: Владимировна | J15: 23 | K15: 03 | L15: 2003 | M15: кмс | N15: Могилев | O15: РГУОР | P15: МСиТ | R15: Толкачев Н.А. | S15: Рябцев Л.С. | T15: Будагян Г.А. | U15: Михайлов В.П.
A16: 14 | C16: 1 | D16: .+78 | G16: Хрущева | H16: Валерия | I16: Олеговна | J16: 20 | K16: 10 | L16: 2002 | M16: мс | N16: Могилев | O16: БГУОР | P16: МСиТ | Q16: Климко И.В. | R16: Чернякова Е.В. | S16: Жуковец Н.Н. | T16: Жуковец В.В.
A17: 15 | C17: 1 | D17: 52 | G17: Бурачкова | H17: Полина | I17: Руслановна | J17: 06 | K17: 04 | L17: 2004 | M17: 1 | N17: Могилев | O17: МГУОР | P17: МСиТ | R17: Геращенко А.А. | S17: Михайлов В.П. | T17: Будагян Г.А.
A18: 16 | C18: 1 | D18: 30 | G18: ТРИНАДЦАТЫЙ | H18: ТРИНАДЦАТЫЙ | N18: Город 13 | O18: СДЮШОР 13
A19: 17 | C19: 1 | D19: 30 | G19: ЧЕТЫРНАДЦАТЫЙ | H19: ЧЕТЫРНАДЦАТЫЙ | N19: Город 14 | O19: СДЮШОР 14
A20: 18 | C20: 1 | D20: 30 | G20: ПЯТНАДЦАТЫЙ | H20: ПЯТНАДЦАТЫЙ | N20: Город 15 | O20: СДЮШОР 15
A21: 19 | C21: 1 | D21: 30 | G21: ШЕСНАДЦАТЫЙ | H21: ШЕСНАДЦАТЫЙ | N21: Город 16 | O21: СДЮШОР 16
A22: 20 | C22: 1 | D22: 30 | G22: СЕМНАДЦАТЫЙ | H22: СЕМНАДЦАТЫЙ | N22: Город 17 | O22: СДЮШОР 17
A23: 21 | C23: 1 | D23: 30 | G23: ВОСЕМНАДЦАТЫЙ | H23: ВОСЕМНАДЦАТЫЙ | N23: Город 18 | O23: СДЮШОР 18
A24: 22 | C24: 1 | D24: 30 | G24: ДЕВЯТНАДЦАТЫЙ | H24: ДЕВЯТНАДЦАТЫЙ | N24: Город 19 | O24: СДЮШОР 19
A25: 23 | C25: 1 | D25: 30 | G25: ДВАДЦАТЫЙ | H25: ДВАДЦАТЫЙ | N25: Город 20 | O25: СДЮШОР 20
A26: 24 | C26: 1 | D26: 30 | G26: ДВАДЦАТЬ | H26: ПЕРВЫЙ | N26: Город 21 | O26: СДЮШОР 21
A27: 25 | C27: 1 | D27: 30 | G27: ДВАДЦАТЬ | H27: ВТОРОЙ | N27: Город 22 | O27: СДЮШОР 22
A28: 26 | C28: 1 | D28: 30 | G28: ДВАДЦАТЬ | H28: ТРЕТИЙ | N28: Город 23 | O28: СДЮШОР 23
A29: 27 | C29: 1 | D29: 30 | G29: ДВАДЦАТЬ | H29: ЧЕТВЕРТЫЙ | N29: Город 24 | O29: СДЮШОР 24
... A69: 67 | C69: 1 | D69: 30 | G69: ШЕСТЬДЕСЯТ | H69: ЧЕТВЕРТЫЙ | N69: Город 64 | O69: СДЮШОР 64
A70: 68 | C70: 1 | G70: Ракуть | H70: Екатерина | N70: Кобрин
A71: 69 | C71: 1 | D71: 33 | G71: ПЕРВЫЙ | H71: ПЕРВЫЙ | N71: Город 1 | O71: СДЮШОР 1
A72: 70 | C72: 1 | D72: 33 | G72: ВТОРОЙ | H72: ВТОРОЙ | N72: Город 2 | O72: СДЮШОР 2
A73: 71 | C73: 1 | D73: 33 | G73: ТРЕТИЙ | H73: ТРЕТИЙ | N73: Город 3 | O73: СДЮШОР 3
A74: 72 | C74: 1 | D74: 33 | G74: ЧЕТВЕРТЫЙ | H74: ЧЕТВЕРТЫЙ | N74: Город 4 | O74: СДЮШОР 4
A75: 73 | C75: 1 | D75: 33 | G75: ПЯТЫЙ | H75: ПЯТЫЙ | N75: Город 5 | O75: СДЮШОР 5
A76: 74 | C76: 1 | D76: 33 | G76: ШЕСТОЙ | H76: ШЕСТОЙ | N76: Город 6 | O76: СДЮШОР 6
A77: 75 | C77: 1 | D77: 33 | G77: СЕДЬМОЙ | H77: СЕДЬМОЙ | N77: Город 7 | O77: СДЮШОР 7
A78: 76 | C78: 1 | D78: 33 | G78: ВОСЬМОЙ | H78: ВОСЬМОЙ | N78: Город 8 | O78: СДЮШОР 8
A79: 77 | C79: 1 | D79: 33 | G79: ДЕВЯТЫЙ | H79: ДЕВЯТЫЙ | N79: Город 9 | O79: СДЮШОР 9
A80: 78 | C80: 1 | D80: 33 | G80: ДЕСЯТЫЙ | H80: ДЕСЯТЫЙ | N80: Город 10 | O80: СДЮШОР 10
A81: 79 | C81: 1 | D81: 33 | G81: ОДИННАДЦАТЫЙ | H81: ОДИННАДЦАТЫЙ | N81: Город 11 | O81: СДЮШОР 11
A82: 80 | C82: 1 | D82: 33 | G82: ДВЕНАДЦАТЫЙ | H82: ДВЕНАДЦАТЫЙ | N82: Город 12 | O82: СДЮШОР 12
... A102: 100 | C102: 1 | D102: 33 | G102: ТРИДЦАТЬ | H102: ВТОРОЙ | N102: Город 32 | O102: СДЮШОР 32
A103: 101 | C103: 1 | D103: .+100 | G103: Пинчук | H103: Павел | L103: 2003 | N103: Гомель | P103: Динамо СДЮШОР№1 | Q103: Васильев А.А.
A104: 102 | C104: 1 | D104: 66 | G104: Черненький | H104: Алексей | L104: 2002 | N104: аг.Урицкое(Гомельская обл) | O104: УСиТ | Q104: Худяков В.И.
A105: 103 | C105: 1 | D105: 66 | G105: Поливач | H105: Станислав | L105: 2000 | N105: аг.Урицкое(Гомельская обл) | O105: УСиТ | Q105: Худяков В.И.
A106: 104 | C106: 1 | D106: 73 | G106: Седун | H106: Илья | L106: 2002 | N106: Кобрин | P106: КСДЮШОР | Q106: Боярский М.С. | R106: Данилюк А.В. | S106: Рысь В.С.
A107: 105 | C107: 1 | D107: 60 | G107: Павловский | H107: Максим | L107: 2002 | N107: Кобрин | P107: КСДЮШОР | R107: Данилюк А.В.
A108: 106 | C108: 1 | D108: 60 | G108: Кальман | H108: Егор | L108: 2002 | N108: Кобрин | P108: КСДЮШОР | R108: Данилюк А.В. | S108: Рысь В.С.
A109: 107 | C109: 1
A110: 108 | C110: 1 | D110: 81 | G110: Евстафьев | H110: Максим | L110: 2002 | N110: Бобруйск | O110: СК ФПБ | P110: УМО СДЮШОР Профсоюзов"Спартак 2006" | S110: Назаров К.В.
A111: 109 | C111: 1 | D111: 66 | G111: Кучеренко | H111: Иван | L111: 2003 | N111: Бобруйск | O111: СК ФПБ | P111: УМО СДЮШОР Профсоюзов"Спартак 2006" | S111: Дашдамиров Р.Ш.
A112: 110 | C112: 1 | D112: 60 | G112: Кашкин | H112: Артем | L112: 2002 | N112: Бобруйск | O112: СК ФПБ | P112: УМО СДЮШОР Профсоюзов"Спартак 2006" | S112: Матюшенок В.Л.
A113: 111 | C113: 1
A114: 112 | C114: 1 | D114: 52 | G114: Почерняева | H114: Диана | L114: 2002 | N114: Бобруйск | O114: СК ФПБ | P114: УМО СДЮШОР Профсоюзов"Спартак 2006" | S114: Матюшенок В.Л.
A115: 113 | C115: 1
A116: 114 | C116: 1 | D116: 57 | G116: Подолячникова(Подолячина) | H116: Анастасия | I116: Александровна | J116: 20 | K116: 07 | L116: 2002 | N116: Витебск | O116: ВГУОР | P116: МСиТ | Q116: Граков А.В.
A117: 115 | C117: 1 | D117: 57 | G117: Гракова | H117: Мария | I117: Алексеевна | J117: 13 | K117: 02 | L117: 2003 | N117: Витебск | O117: ВГУОР | P117: МСиТ | Q117: Граков А.В.
A118: 116 | C118: 1 | D118: 63 | G118: Семенюк | H118: Дарина | I118: Сергеевна | J118: 15 | K118: 08 | L118: 2003 | N118: Витебск | O118: ВГУОР | P118: МСиТ | Q118: Граков А.В.
A119: 117 | C119: 1 | D119: 70 | G119: Колбасова | H119: Диана | I119: Дмитриевна | J119: 12 | K119: 09 | L119: 2003 | N119: Витебск | O119: ВГУОР | P119: МСиТ | Q119: Граков А.В. | R119: Залецкая А.В. | S119: Кускова О.В.
A120: 118 | C120: 1 | D120: 52 | G120: Заленская | H120: Ярослава | I120: Николаевна | J120: 24 | K120: 08 | L120: 2004 | N120: Витебск | O120: ВГУОР | P120: МСиТ | Q120: Граков А.В. | R120: Толяронок Е.А.
A121: 119 | C121: 1 | D121: 63 | G121: Макрецкая | H121: Яна | I121: Владимировна | J121: 07 | K121: 07 | L121: 2002 | M121: 1 дан | N121: Н.Полоцк | O121: НГУОР | P121: МСиТ | Q121: Ковалевский А.В. | R121: Роговцова О.В.
A122: 120 | C122: 1 | D122: .+78 | G122: Дук | H122: Мария | I122: Анатольевна | J122: 01 | K122: 12 | L122: 2000 | M122: 3 кю | N122: Н.Полоцк | O122: НГУОР | P122: МСиТ | Q122: Ковалевский А.В. | R122: Роговцова О.В.
A123: 121 | C123: 1 | D123: 57 | G123: Дворакова | H123: Анастасия | I123: Валерьевна | J123: 26 | K123: 06 | L123: 2003 | M123: 3 кю | N123: Н.Полоцк | O123: НГУОР | P123: МСиТ | Q123: Пирог А.П. | R123: Роговцова О.В.
A124: 122 | C124: 1 | D124: 63 | G124: Иванова | H124: Ульяна | I124: Игоревна | J124: 12 | K124: 09 | L124: 2002 | M124: 3 кю | N124: Витебск | O124: ВОЦОРЕ | P124: МСиТ | Q124: Якимов Г.В. | R124: Ушаков С.А.
A125: 123 | C125: 1 | D125: .+78 | G125: Черепанова | H125: Снежана | I125: Гедминосова | J125: 22 | K125: 09 | L125: 2002 | M125: 1 дан | N125: Витебск | O125: ВОЦОРЕ | P125: МСиТ | Q125: Якимов Г.В. | R125: Залецкая А.В. | S125: УшаковмС.А.
A126: 124 | C126: 1 | D126: 70 | G126: Костюк | H126: Елена | I126: Александровна | J126: 03 | K126: 07 | L126: 2001 | M126: 1 дан | N126: Витебск | O126: ВОЦОРЕ | P126: МСиТ | Q126: Якимов Г.В. | R126: Залецкая А.В. | S126: УшаковмС.А.
A127: 125 | C127: 1 | D127: 60 | G127: Колосов | H127: Артем | I127: Алексеевич | J127: 31 | K127: 05 | L127: 2001 | M127: МСМК | N127: Н.Полоцк | O127: НГУОР | P127: МСиТ | Q127: Роговцова О.В. Тимощик А.Д. | S127: Фандо А.Г.
A128: 126 | C128: 1 | D128: 60 | G128: Скалепов | H128: Илья | I128: Владимирович | J128: 05 | K128: 07 | L128: 2002 | M128: 1 дан | N128: Витебск | O128: ВОЦОРЕ | P128: МСиТ | Q128: Фандо А.Г. | R128: Якимов Г.В. | S128: Ушаков С.А.
A129: 127 | C129: 1 | D129: 81 | G129: Швецов | H129: Владислав | I129: Сергеевич | J129: 06 | K129: 08 | L129: 2000 | M129: 1 дан | N129: Витебск | O129: ВОЦОРЕ | P129: МСиТ | Q129: Фандо А.Г. | R129: Якимов Г.В. | S129: Ушаков С.А.
A130: 128 | C130: 1 | D130: 66 | G130: Ляшук | H130: Антон | I130: Витальевич | J130: 01 | K130: 10 | L130: 2000 | M130: 1 дан | N130: Н.Полоцк | O130: СДЮШОР | P130: МСиТ | Q130: Панкратьев В.М. | R130: Фандо А.Г.
A131: 129 | C131: 1 | D131: 73 | G131: Михеев | H131: Вадим | I131: Иванович | J131: 11 | K131: 03 | L131: 2002 | M131: 1 дан | N131: Витебск | O131: ВОЦОРЕ | P131: МСиТ | Q131: Фандо А.Г. | R131: Якимов Г.В. | S131: Ушаков А.С.
A132: 130 | C132: 1 | D132: 60 | G132: Федоренко | H132: Роман | I132: Алексеевич | J132: 01 | K132: 10 | L132: 2002 | M132: 2 кю | N132: Полоцк | O132: СДЮШОР | P132: МСиТ | Q132: Ковалевский А.В.
A133: 131 | C133: 1 | D133: 66 | G133: Халтурин | H133: Денис | I133: Алексеевич | J133: 04 | K133: 03 | L133: 2002 | M133: 3 кю | N133: Орша | O133: СДЮШОР | P133: МСиТ | Q133: Сазонов В.Н.
A134: 132 | C134: 1 | D134: 81 | G134: Ширкевич | H134: Владимир | I134: Владимирович | J134: 12 | K134: 09 | L134: 2000 | M134: 1 дан | N134: Орша | O134: СДЮШОР | P134: МСиТ | Q134: Комаров И.В. | R134: Комарова И.В.
A135: 133 | C135: 1 | D135: 81 | G135: Плешков | H135: Евгений | I135: Владимирович | J135: 05 | K135: 12 | L135: 2000 | M135: 1 дан | N135: Орша | O135: Богатырь | P135: МСиТ | Q135: Щемелев В.М. | R135: Троян А.А. | S135: Барановский В.П.
A136: 134 | C136: 1 | D136: 66 | G136: Козел | H136: Захар | I136: Александрович | J136: 11 | K136: 12 | L136: 2002 | M136: 1 дан | N136: Новая Гута(Гомельская обл) | O136: РГУОР | P136: МСиТ | Q136: Рябцев Л.С.
A137: 135 | C137: 1 | D137: 63 | G137: Боровик | H137: Валерия | I137: Алексеевна | J137: 27 | K137: 12 | L137: 2000 | M137: МС | N137: Минск Минская обл | O137: РГУОР | P137: МСиТ | Q137: Шушурихин С.М.
A138: 136 | C138: 1 | D138: 60 | G138: Зеленко | H138: Дмитрий | I138: Константинович | J138: 27 | K138: 06 | L138: 2002 | M138: 2 кю | N138: Н.Полоцк (Витебская обл) | O138: РГУОР | P138: МСиТ | Q138: Кунцевич Д.В. | R138: Кунцевич Т.И.
A139: 137 | C139: 1 | D139: 66 | G139: Степура | H139: Максим | L139: 2000 | N139: Минск | O139: БГУФК | P139: МСиТ | Q139: Секевич В.Н.
A140: 138 | C140: 1 | D140: 81 | G140: Дубровский | H140: Михаил | L140: 2001 | N140: Минск | O140: БГУФК | P140: МСиТ | Q140: Шушурыхин С.М.
A141: 139 | C141: 1 | D141: 60 | G141: Концевой | H141: Вадим | I141: Дмитриевич | J141: 01 | K141: 09 | L141: 2003 | M141: 1 | N141: Могилев | O141: СДЮШОР№3 | P141: МСиТ | Q141: Старовойтова Т.Н.
A142: 140 | C142: 1 | D142: 60 | G142: Белявский | H142: Рустам | I142: Ровшанович | J142: 26 | K142: 10 | L142: 2002 | M142: 1 | N142: Могилев | O142: СДЮШОР№3 | P142: МСиТ | Q142: Старовойтова Т.Н.
A143: 141 | C143: 1 | D143: 73 | G143: Батища | H143: Игорь | I143: Николаевич | J143: 08 | K143: 03 | L143: 2002 | M143: кмс | N143: Могилев | O143: МГУОР | P143: МСиТ | Q143: Скамьянова И.А. | R143: Будагян Г.А. | S143: Михайлов В.П.
A144: 142 | C144: 1 | D144: 60 | G144: Крылов | H144: Дмитрий | I144: Александрович | J144: 28 | K144: 03 | L144: 2001 | M144: кмс | N144: Могилев | O144: МГУОР | P144: МСиТ | R144: Будагян Г.А. | S144: Михайлов В.П.
A145: 143 | C145: 1 | D145: 90 | G145: Казаченко | H145: Артем | I145: Дмитриевич | J145: 13 | K145: 03 | L145: 2001 | M145: кмс | N145: Могилев | O145: МГУОР | P145: МСиТ | Q145: Муравская Т.В. | R145: Будагян Г.А. | S145: Михайлов В.П.
A146: 144 | C146: 1 | D146: 60 | G146: Ислевский | H146: Назар | L146: 2004 | M146: 1 | N146: Могилев | O146: СДЮШОР" Спарта" | P146: МСиТ | Q146: Филимоненко А.Н.
A147: 145 | C147: 1 | D147: 60 | G147: Арлахов | H147: Дмитрий | L147: 2003 | M147: 1 | N147: Бобруйск | O147: СДЮШОР" Спартак 2006" | P147: МСиТ | Q147: Жуковец В.В. | R147: Жуковец Н.Н.
A148: 146 | C148: 1 | D148: 66 | G148: Лукашов | H148: Иван | L148: 2004 | M148: 1 | N148: Бобруйск | O148: СДЮШОР"Динамо" | P148: МСиТ | Q148: Жуковец В.В. | R148: Жуковец Н.Н.
A149: 147 | C149: 1 | D149: 66 | G149: Науменко | H149: Виктор | L149: 2004 | M149: 1 | N149: Могилев | O149: СДЮШОР №3 | P149: МСиТ | Q149: Климко И.В.
A150: 148 | C150: 1 | D150: 73 | G150: Санкович | H150: Николай | I150: Юрьевич | J150: 17 | K150: 05 | L150: 2000 | M150: кмс | N150: Могилев | O150: СДЮШОР" Спарта" | P150: МСиТ | Q150: Михайлов В.П. | R150: Будагян Г.А.
A151: 149 | C151: 1 | D151: 73 | G151: Шаренков | H151: Кирилл | I151: Владимирович | J151: 02 | K151: 01 | L151: 2002 | M151: кмс | N151: Могилев | O151: СДЮШОР№3 | P151: МСиТ | Q151: Климко И.В. | R151: Старовойтова Т.Н.
A152: 150 | C152: 1 | D152: 81 | G152: Шуваров | H152: Никита | L152: 2002 | M152: кмс | N152: Могилев | O152: СДЮШОР№3 | P152: МСиТ | Q152: Старовойтова Т.Н.
A153: 151 | C153: 1 | D153: 81 | G153: Будкевич | H153: Вадим | L153: 2001 | M153: 1 | N153: Могилев | O153: БРУ | Q153: Перец Н.А.
A154: 152 | C154: 1 | D154: 90 | G154: Евстафьев | H154: Денис | L154: 2004 | M154: кмс | N154: Бобруйск | O154: СДЮШОР"Спартак 2006" | P154: СК ФПБ | Q154: Назаров В.В.
A155: 153 | C155: 1 | D155: 60 | G155: Колосов | H155: Артем | I155: Алексеевич | J155: 31 | K155: 05 | L155: 2001 | M155: МСМК | N155: Могилев | O155: НГУОР,СДЮШОР№3 | P155: МСиТ | Q155: Чернякова Е.В. | R155: Климко И.В. | S155: Роговцова О.В. | T155: Фандо А.Г.
A156: 154 | C156: 1 | D156: 73 | G156: Кричко | H156: Герман | I156: Гизоевич | J156: 09 | K156: 02 | L156: 2003 | M156: 1 | N156: Бобруйск | O156: Динамо | Q156: Жуковец В.В. | R156: Жуковец Н.Н.
A157: 155 | C157: 1 | D157: 81 | G157: Бородич | H157: Владислав | L157: 2001 | M157: кмс | N157: Бобруйск | O157: СДЮШОР№3 | P157: МСиТ | Q157: Асадчий М.Г.
A158: 156 | C158: 1 | D158: 73 | G158: Стельмах | H158: Глеб | L158: 2003 | M158: кмс | N158: Бобруйск | O158: СДЮШОР№3 | P158: МСиТ | Q158: Асадчий М.Г.
...

Sheet ЗАЯВКА
I1: И М Е Н Н А Я З А Я В К А
C3: =Установки!C3 -> Первенства РБ U-21 по дзюдо
C4: =Установки!C4 -> среди юниоров
C5: =Установки!C5 -> ДЗЮДО
C6: =Установки!C6&" "&Установки!C7 -> 16-18 января 2020 г. Могилёв
B7: № | C7: Фамилия Имя участника | D7: Чис. | E7: Мес. | F7: Год р. | G7: Разряд | H7: Весовая катег. | I7: Город | J7: Организация, ведомство | K7: Тренер | L7: виза врача
C8: =ФИО!G3&" "&ФИО!H3&" "&ФИО!I3 -> Грищенко Анастасия Анатольевна | D8: =ФИО!J3 -> 30 | E8: =ФИО!K3 -> 03 | F8: =ФИО!L3 -> 2001 | G8: =ФИО!M3 -> кмс | I8: =ФИО!N3 -> Бобруйск | J8: =ФИО!O3&" "&ФИО!P3 -> Динамо | K8: =ФИО!Q3&" "&ФИО!R3&" "&ФИО!S3&" "&ФИО!T3&" "&ФИО!U3 -> Жуковец В.В. Жуковец Н.Н.
C9: =ФИО!G4&" "&ФИО!H4&" "&ФИО!I4 -> Васищева Анна Александровна | D9: =ФИО!J4 -> 18 | E9: =ФИО!K4 -> 04 | F9: =ФИО!L4 -> 2004 | G9: =ФИО!M4 -> 1 | I9: =ФИО!N4 -> Могилев | J9: =ФИО!O4&" "&ФИО!P4 -> СДЮШОР№3 МСиТ | K9: =ФИО!Q4&" "&ФИО!R4&" "&ФИО!S4&" "&ФИО!T4&" "&ФИО!U4 -> Муравская Т.В.
C10: =ФИО!G5&" "&ФИО!H5&" "&ФИО!I5 -> Шевцова Дарья Владимировна | D10: =ФИО!J5 -> 07 | E10: =ФИО!K5 -> 12 | F10: =ФИО!L5 -> 2004 | G10: =ФИО!M5 -> 1 | I10: =ФИО!N5 -> Чериков | J10: =ФИО!O5&" "&ФИО!P5 -> ГУДО"центр творчества и молодежи" МСиТ | K10: =ФИО!Q5&" "&ФИО!R5&" "&ФИО!S5&" "&ФИО!T5&" "&ФИО!U5 -> Соляников А.Н.
C11: =ФИО!G6&" "&ФИО!H6&" "&ФИО!I6 -> Песляк Мария Витальевна | D11: =ФИО!J6 -> 13 | E11: =ФИО!K6 -> 11 | F11: =ФИО!L6 -> 2000 | G11: =ФИО!M6 -> кмс | I11: =ФИО!N6 -> Могилев | J11: =ФИО!O6&" "&ФИО!P6 -> МГУОР МСиТ | K11: =ФИО!Q6&" "&ФИО!R6&" "&ФИО!S6&" "&ФИО!T6&" "&ФИО!U6 -> Плахов А.В.
C12: =ФИО!G7&" "&ФИО!H7&" "&ФИО!I7 -> Гупало Инесса Сергеевна | D12: =ФИО!J7 -> 18 | E12: =ФИО!K7 -> 08 | F12: =ФИО!L7 -> 2003 | G12: =ФИО!M7 -> кмс | I12: =ФИО!N7 -> Бобруйск | J12: =ФИО!O7&" "&ФИО!P7 -> БГУОР Динамо | K12: =ФИО!Q7&" "&ФИО!R7&" "&ФИО!S7&" "&ФИО!T7&" "&ФИО!U7 -> Жуковец В.В. Жуковец Н.Н.
C13: =ФИО!G8&" "&ФИО!H8&" "&ФИО!I8 -> Буракова Надежда Владимировна | D13: =ФИО!J8 -> 15 | E13: =ФИО!K8 -> 03 | F13: =ФИО!L8 -> 2003 | G13: =ФИО!M8 -> кмс | I13: =ФИО!N8 -> Могилев | J13: =ФИО!O8&" "&ФИО!P8 -> МГУОР МСиТ | K13: =ФИО!Q8&" "&ФИО!R8&" "&ФИО!S8&" "&ФИО!T8&" "&ФИО!U8 -> Михайлов В.П. Будагян Г.А.
C14: =ФИО!G9&" "&ФИО!H9&" "&ФИО!I9 -> Герасименко Кристина Алексеевна | D14: =ФИО!J9 -> 0 | E14: =ФИО!K9 -> 0 | F14: =ФИО!L9 -> 2004 | G14: =ФИО!M9 -> 1 | I14: =ФИО!N9 -> Бобруйск | J14: =ФИО!O9&" "&ФИО!P9 -> БГУОР Динамо | K14: =ФИО!Q9&" "&ФИО!R9&" "&ФИО!S9&" "&ФИО!T9&" "&ФИО!U9 -> Жуковец В.В.
C15: =ФИО!G10&" "&ФИО!H10&" "&ФИО!I10 -> Стригун Ангелина Павловна | D15: =ФИО!J10 -> 11 | E15: =ФИО!K10 -> 08 | F15: =ФИО!L10 -> 2003 | G15: =ФИО!M10 -> 1 | I15: =ФИО!N10 -> Могилев | J15: =ФИО!O10&" "&ФИО!P10 -> МГУОР МСиТ | K15: =ФИО!Q10&" "&ФИО!R10&" "&ФИО!S10&" "&ФИО!T10&" "&ФИО!U10 -> Рыбалко Н.А. Будагян Г.А. Михайлов В.П.
C16: =ФИО!G11&" "&ФИО!H11&" "&ФИО!I11 -> Борисова Александра Николаевна | D16: =ФИО!J11 -> 21 | E16: =ФИО!K11 -> 03 | F16: =ФИО!L11 -> 2002 | G16: =ФИО!M11 -> 1 | I16: =ФИО!N11 -> Могилев | J16: =ФИО!O11&" "&ФИО!P11 -> СДЮШОР №3 МСиТ | K16: =ФИО!Q11&" "&ФИО!R11&" "&ФИО!S11&" "&ФИО!T11&" "&ФИО!U11 -> Старовойтова Т.Н.
C17: =ФИО!G12&" "&ФИО!H12&" "&ФИО!I12 -> Скворцова Анастасия Сергеевна | D17: =ФИО!J12 -> 27 | E17: =ФИО!K12 -> 10 | F17: =ФИО!L12 -> 2002 | G17: =ФИО!M12 -> кмс | I17: =ФИО!N12 -> Могилев | J17: =ФИО!O12&" "&ФИО!P12 -> МГУОР МСиТ | K17: =ФИО!Q12&" "&ФИО!R12&" "&ФИО!S12&" "&ФИО!T12&" "&ФИО!U12 -> Старовойтова Т.Н. Будагян Г.А. Михайлов В.П.
C18: =ФИО!G13&" "&ФИО!H13&" "&ФИО!I13 -> Дубовская Елизавета Юрьевна | D18: =ФИО!J13 -> 15 | E18: =ФИО!K13 -> 09 | F18: =ФИО!L13 -> 2002 | G18: =ФИО!M13 -> кмс | I18: =ФИО!N13 -> Могилев | J18: =ФИО!O13&" "&ФИО!P13 -> МГУОР МСиТ | K18: =ФИО!Q13&" "&ФИО!R13&" "&ФИО!S13&" "&ФИО!T13&" "&ФИО!U13 -> Рыбалко Н.А. Чернякова Е.В. Михайлов В.П. Будагян Г.А.
C19: =ФИО!G14&" "&ФИО!H14&" "&ФИО!I14 -> Романюк Елена | D19: =ФИО!J14 -> 0 | E19: =ФИО!K14 -> 0 | F19: =ФИО!L14 -> 2002 | G19: =ФИО!M14 -> 0 | I19: =ФИО!N14 -> Могилев | J19: =ФИО!O14&" "&ФИО!P14 -> БРУ | K19: =ФИО!Q14&" "&ФИО!R14&" "&ФИО!S14&" "&ФИО!T14&" "&ФИО!U14 -> Перец Н.А.
... C6434: =ФИО!G6429&" "&ФИО!H6429&" "&ФИО!I6429 | D6434: =ФИО!J6429 -> 0 | E6434: =ФИО!K6429 -> 0 | F6434: =ФИО!L6429 -> 0 | G6434: =ФИО!M6429 -> 0 | I6434: =ФИО!N6429 -> 0 | J6434: =ФИО!O6429&" "&ФИО!P6429 | K6434: =ФИО!Q6429&" "&ФИО!R6429&" "&ФИО!S6429&" "&ФИО!T6429&" "&ФИО!U6429
A6435: новый
A6436: новый
A6437: новый
A6438: новый
A6439: новый
A6440: новый
A6441: новый
A6442: новый
A6443: новый
A6444: новый
B6446: Руководитель организации _____________________ | I6446: Тренер _____________________
B6448: Допущено всего __________________________________________ чел. к участию в соревнованиях
B6450: Врач _____________________

Sheet Круг34
D1: =Установки!$C$3&" "&Установки!$C$4 -> Первенства РБ U-21 по дзюдо среди юниоров | M1: 46
D2: =Установки!$C$6&" "&Установки!$C$7 -> 16-18 января 2020 г. Могилёв | L2: =Установки!$C$5 -> ДЗЮДО
AP3: 1 | AW3: 1
C4: № | D4: Фамилия Имя, Город, Организация | E4: 1 | F4: 2 | G4: 3 | H4: 4 | I4: 5 | J4: 6 | M4: место | AP4: 2 | AW4: 5
C5: 1 | D5: ПЕРВЫЙ ПЕРВЫЙ Город 1 СДЮШОР 1 | AP5: 3 | AW5: 3
C6: 2 | D6: ВТОРОЙ ВТОРОЙ Город 2 СДЮШОР 2 | AP6: 4 | AW6: 7
C7: 3 | D7: ТРЕТИЙ ТРЕТИЙ Город 3 СДЮШОР 3 | AP7: 5 | AW7: 2
C8: 4 | D8: ЧЕТВЕРТЫЙ ЧЕТВЕРТЫЙ Город 4 СДЮШОР 4 | AP8: 6 | AW8: 6
C9: 5 | D9: ПЯТЫЙ ПЯТЫЙ Город 5 СДЮШОР 5 | AP9: 7 | AW9: 4
C10: 6 | D10: ШЕСТОЙ ШЕСТОЙ Город 6 СДЮШОР 6 | AP10: 8 | AW10: 8
C12: № | D12: 1 круг | E12: ippon | G12: waza-ari | I12: yuko | K12: shido | M12: время
C13: =C5 -> 1 | D13: =D5 -> ПЕРВЫЙ ПЕРВЫЙ Город 1 СДЮШОР 1 | AP13: 11 | AX13: Утешительная стадия соревнований
C14: =C6 -> 2 | D14: =D6 -> ВТОРОЙ ВТОРОЙ Город 2 СДЮШОР 2 | AP14: 12
C15: № | D15: 1 круг | E15: ippon | G15: waza-ari | I15: yuko | K15: shido | M15: время
C16: =C7 -> 3 | D16: =D7 -> ТРЕТИЙ ТРЕТИЙ Город 3 СДЮШОР 3 | AP16: 13
C17: =C8 -> 4 | D17: =D8 -> ЧЕТВЕРТЫЙ ЧЕТВЕРТЫЙ Город 4 СДЮШОР 4 | AP17: 14
AP18: 49
C19: № | D19: 2 круг | E19: ippon | G19: waza-ari | I19: yuko | K19: shido | M19: время
C20: =$C$5 -> 1 | D20: =$D$5 -> ПЕРВЫЙ ПЕРВЫЙ Город 1 СДЮШОР 1 | AP20: 18
C21: =$C$7 -> 3 | D21: =$D$7 -> ТРЕТИЙ ТРЕТИЙ Город 3 СДЮШОР 3 | AP21: 20
C22: № | D22: 2 круг | E22: ippon | G22: waza-ari | I22: yuko | K22: shido | M22: время
C23: =$C$6 -> 2 | D23: =$D$6 -> ВТОРОЙ ВТОРОЙ Город 2 СДЮШОР 2 | AP23: 18
C24: =$C$7 -> 3 | D24: =$D$7 -> ТРЕТИЙ ТРЕТИЙ Город 3 СДЮШОР 3 | AP24: 21
AP25: 65
C26: № | D26: 3 круг | E26: ippon | G26: waza-ari | I26: yuko | K26: shido | M26: время
C27: =$C$7 -> 3 | D27: =$D$7 -> ТРЕТИЙ ТРЕТИЙ Город 3 СДЮШОР 3 | AP27: 20
C28: =$C$8 -> 4 | D28: =$D$8 -> ЧЕТВЕРТЫЙ ЧЕТВЕРТЫЙ Город 4 СДЮШОР 4 | AP28: 21
C29: № | D29: 3 круг | E29: ippon | G29: waza-ari | I29: yuko | K29: shido | M29: время
C30: =$C$6 -> 2 | D30: =$D$6 -> ВТОРОЙ ВТОРОЙ Город 2 СДЮШОР 2 | AP30: 19
C31: =$C$7 -> 3 | D31: =$D$7 -> ТРЕТИЙ ТРЕТИЙ Город 3 СДЮШОР 3 | AP31: 20
AP32: 63
AP33: 64
AP34: 63
AP35: 64
AP36: 51
AP37: 63
AP38: 64
AP39: 65
AP40: 52
AP41: 63
AP42: 63
AP43: 64
... AP67: 65
AX130: СЕКТОР ЖЕРЕБЬЕВКИ
A131: 1 | B131: 3 | AW131: 1
A132: 2 | B132: 6 | AW132: 5
A133: 3 | B133: 2 | AW133: 3
A134: 4 | B134: 7 | AW134: 7
A135: 5 | B135: 4 | AW135: 2
A136: 6 | B136: 5 | AW136: 6
A137: 7 | B137: 1 | AW137: 4
A138: 8 | B138: 8 | D138: СЕКТОР ЖЕРЕБЬЕВКИ | AW138: 8
C139: 1
C140: 5
C141: 3
C142: 7
C143: 2
C144: 6
C145: 4
C146: 8
A199: 1 | AW199: =ФИО!AX3 -> 0 | AX199: =IF($AJ$3=ФИО!AX3,ФИО!BA3&" "&ФИО!BB3&" "&ФИО!BC3,"")
A200: 2 | AW200: =ФИО!AX4 -> 0 | AX200: =IF($AJ$3=ФИО!AX4,ФИО!BA4&" "&ФИО!BB4&" "&ФИО!BC4,"")
A201: 3 | AW201: =ФИО!AX5 -> 0 | AX201: =IF($AJ$3=ФИО!AX5,ФИО!BA5&" "&ФИО!BB5&" "&ФИО!BC5,"")
A202: 4 | AW202: =ФИО!AX6 -> 0 | AX202: =IF($AJ$3=ФИО!AX6,ФИО!BA6&" "&ФИО!BB6&" "&ФИО!BC6,"")
A203: 5 | AW203: =ФИО!AX7 -> 0 | AX203: =IF($AJ$3=ФИО!AX7,ФИО!BA7&" "&ФИО!BB7&" "&ФИО!BC7,"")
A204: 6 | AW204: =ФИО!AX8 -> 0 | AX204: =IF($AJ$3=ФИО!AX8,ФИО!BA8&" "&ФИО!BB8&" "&ФИО!BC8,"")
A205: 7 | AW205: =ФИО!AX9 -> 0 | AX205: =IF($AJ$3=ФИО!AX9,ФИО!BA9&" "&ФИО!BB9&" "&ФИО!BC9,"")
A206: 8 | AW206: =ФИО!AX10 -> 0 | AX206: =IF($AJ$3=ФИО!AX10,ФИО!BA10&" "&ФИО!BB10&" "&ФИО!BC10,"")
A207: 9 | C207: =IF($M$1=ФИО!D3,ФИО!D3,"") | D207: =IF($M$1=ФИО!D3,ФИО!G3&" "&ФИО!H3&" "&ФИО!N3&" "&ФИО!O3,"") | AW207: =ФИО!AX11 -> 0 | AX207: =IF($AJ$3=ФИО!AX11,ФИО!BA11&" "&ФИО!BB11&" "&ФИО!BC11,"")
A208: 10 | C208: =IF($M$1=ФИО!D4,ФИО!D4,"") | D208: =IF($M$1=ФИО!D4,ФИО!G4&" "&ФИО!H4&" "&ФИО!N4&" "&ФИО!O4,"") | AW208: =ФИО!AX12 -> 0 | AX208: =IF($AJ$3=ФИО!AX12,ФИО!BA12&" "&ФИО!BB12&" "&ФИО!BC12,"")
A209: 11 | C209: =IF($M$1=ФИО!D5,ФИО!D5,"") | D209: =IF($M$1=ФИО!D5,ФИО!G5&" "&ФИО!H5&" "&ФИО!N5&" "&ФИО!O5,"") | AW209: =ФИО!AX13 -> 0 | AX209: =IF($AJ$3=ФИО!AX13,ФИО!BA13&" "&ФИО!BB13&" "&ФИО!BC13,"")
A210: 12 | C210: =IF($M$1=ФИО!D6,ФИО!D6,"") | D210: =IF($M$1=ФИО!D6,ФИО!G6&" "&ФИО!H6&" "&ФИО!N6&" "&ФИО!O6,"") | AW210: =ФИО!AX14 -> 0 | AX210: =IF($AJ$3=ФИО!AX14,ФИО!BA14&" "&ФИО!BB14&" "&ФИО!BC14,"")
A211: 13 | C211: =IF($M$1=ФИО!D7,ФИО!D7,"") | D211: =IF($M$1=ФИО!D7,ФИО!G7&" "&ФИО!H7&" "&ФИО!N7&" "&ФИО!O7,"") | AW211: =ФИО!AX15 -> 0 | AX211: =IF($AJ$3=ФИО!AX15,ФИО!BA15&" "&ФИО!BB15&" "&ФИО!BC15,"")
A212: 14 | C212: =IF($M$1=ФИО!D8,ФИО!D8,"") | D212: =IF($M$1=ФИО!D8,ФИО!G8&" "&ФИО!H8&" "&ФИО!N8&" "&ФИО!O8,"") | AW212: =ФИО!AX16 -> 0 | AX212: =IF($AJ$3=ФИО!AX16,ФИО!BA16&" "&ФИО!BB16&" "&ФИО!BC16,"")
A213: 15 | C213: =IF($M$1=ФИО!D9,ФИО!D9,"") | D213: =IF($M$1=ФИО!D9,ФИО!G9&" "&ФИО!H9&" "&ФИО!N9&" "&ФИО!O9,"") | AW213: =ФИО!AX17 -> 0 | AX213: =IF($AJ$3=ФИО!AX17,ФИО!BA17&" "&ФИО!BB17&" "&ФИО!BC17,"")
A214: 16 | C214: =IF($M$1=ФИО!D10,ФИО!D10,"") | D214: =IF($M$1=ФИО!D10,ФИО!G10&" "&ФИО!H10&" "&ФИО!N10&" "&ФИО!O10,"") | AW214: =ФИО!AX18 -> 0 | AX214: =IF($AJ$3=ФИО!AX18,ФИО!BA18&" "&ФИО!BB18&" "&ФИО!BC18,"")
A215: 17 | C215: =IF($M$1=ФИО!D11,ФИО!D11,"") | D215: =IF($M$1=ФИО!D11,ФИО!G11&" "&ФИО!H11&" "&ФИО!N11&" "&ФИО!O11,"") | AW215: =ФИО!AX19 -> 0 | AX215: =IF($AJ$3=ФИО!AX19,ФИО!BA19&" "&ФИО!BB19&" "&ФИО!BC19,"")
A216: 18 | C216: =IF($M$1=ФИО!D12,ФИО!D12,"") | D216: =IF($M$1=ФИО!D12,ФИО!G12&" "&ФИО!H12&" "&ФИО!N12&" "&ФИО!O12,"") | AW216: =ФИО!AX20 -> 0 | AX216: =IF($AJ$3=ФИО!AX20,ФИО!BA20&" "&ФИО!BB20&" "&ФИО!BC20,"")
A217: 19 | C217: =IF($M$1=ФИО!D13,ФИО!D13,"") | D217: =IF($M$1=ФИО!D13,ФИО!G13&" "&ФИО!H13&" "&ФИО!N13&" "&ФИО!O13,"") | AW217: =ФИО!AX21 -> 0 | AX217: =IF($AJ$3=ФИО!AX21,ФИО!BA21&" "&ФИО!BB21&" "&ФИО!BC21,"")
A218: 20 | C218: =IF($M$1=ФИО!D14,ФИО!D14,"") | D218: =IF($M$1=ФИО!D14,ФИО!G14&" "&ФИО!H14&" "&ФИО!N14&" "&ФИО!O14,"") | AW218: =ФИО!AX22 -> 0 | AX218: =IF($AJ$3=ФИО!AX22,ФИО!BA22&" "&ФИО!BB22&" "&ФИО!BC22,"")
... A398: 200 | C398: =IF($M$1=ФИО!D194,ФИО!D194,"") | D398: =IF($M$1=ФИО!D194,ФИО!G194&" "&ФИО!H194&" "&ФИО!N194&" "&ФИО!O194,"") | AW398: =ФИО!AX202 -> 0 | AX398: =IF($AJ$3=ФИО!AX202,ФИО!BA202&" "&ФИО!BB202&" "&ФИО!BC202,"")
C399: =IF($M$1=ФИО!D195,ФИО!D195,"") | D399: =IF($M$1=ФИО!D195,ФИО!G195&" "&ФИО!H195&" "&ФИО!N195&" "&ФИО!O195,"")
C400: =IF($M$1=ФИО!D196,ФИО!D196,"") | D400: =IF($M$1=ФИО!D196,ФИО!G196&" "&ФИО!H196&" "&ФИО!N196&" "&ФИО!O196,"")
C401: =IF($M$1=ФИО!D197,ФИО!D197,"") | D401: =IF($M$1=ФИО!D197,ФИО!G197&" "&ФИО!H197&" "&ФИО!N197&" "&ФИО!O197,"")
C402: =IF($M$1=ФИО!D198,ФИО!D198,"") | D402: =IF($M$1=ФИО!D198,ФИО!G198&" "&ФИО!H198&" "&ФИО!N198&" "&ФИО!O198,"")
C403: =IF($M$1=ФИО!D199,ФИО!D199,"") | D403: =IF($M$1=ФИО!D199,ФИО!G199&" "&ФИО!H199&" "&ФИО!N199&" "&ФИО!O199,"")
C404: =IF($M$1=ФИО!D200,ФИО!D200,"") | D404: =IF($M$1=ФИО!D200,ФИО!G200&" "&ФИО!H200&" "&ФИО!N200&" "&ФИО!O200,"")
C405: =IF($M$1=ФИО!D201,ФИО!D201,"") | D405: =IF($M$1=ФИО!D201,ФИО!G201&" "&ФИО!H201&" "&ФИО!N201&" "&ФИО!O201,"")
C406: =IF($M$1=ФИО!D202,ФИО!D202,"") | D406: =IF($M$1=ФИО!D202,ФИО!G202&" "&ФИО!H202&" "&ФИО!N202&" "&ФИО!O202,"")

Sheet Круг56
D1: =Установки!$C$3&" "&Установки!$C$4 -> Первенства РБ U-21 по дзюдо среди юниоров | M1: 46
D2: =Установки!$C$6&" "&Установки!$C$7 -> 16-18 января 2020 г. Могилёв | L2: =Установки!$C$5 -> ДЗЮДО
S3: 1 | Z3: 1 | AA3: № | AB3: Фамилия Имя, Город, Организация | AC3: 1 | AD3: 2 | AE3: 3 | AF3: 4 | AG3: 5 | AH3: 6 | AK3: место
C4: № | D4: Фамилия Имя, Город, Организация | E4: 1 | F4: 2 | G4: 3 | H4: 4 | I4: 5 | J4: 6 | M4: место | S4: 2 | Z4: 5 | AA4: 1 | AB4: ПЕРВЫЙ ПЕРВЫЙ Город 1 СДЮШОР 1
C5: 1 | D5: ПЕРВЫЙ ПЕРВЫЙ Город 1 СДЮШОР 1 | S5: 3 | Z5: 3 | AA5: 2 | AB5: ВТОРОЙ ВТОРОЙ Город 2 СДЮШОР 2
C6: 2 | D6: ВТОРОЙ ВТОРОЙ Город 2 СДЮШОР 2 | S6: 4 | Z6: 7 | AA6: 3 | AB6: ТРЕТИЙ ТРЕТИЙ Город 3 СДЮШОР 3
C7: 3 | D7: ТРЕТИЙ ТРЕТИЙ Город 3 СДЮШОР 3 | S7: 5 | Z7: 2 | AA7: 4 | AB7: ЧЕТВЕРТЫЙ ЧЕТВЕРТЫЙ Город 4 СДЮШОР 4
C8: 4 | D8: ЧЕТВЕРТЫЙ ЧЕТВЕРТЫЙ Город 4 СДЮШОР 4 | S8: 6 | Z8: 6 | AA8: 5 | AB8: ПЯТЫЙ ПЯТЫЙ Город 5 СДЮШОР 5
C9: 5 | D9: ПЯТЫЙ ПЯТЫЙ Город 5 СДЮШОР 5 | S9: 7 | Z9: 4 | AA9: 6 | AB9: ШЕСТОЙ ШЕСТОЙ Город 6 СДЮШОР 6
C10: 6 | D10: ШЕСТОЙ ШЕСТОЙ Город 6 СДЮШОР 6 | S10: 8 | Z10: 8
C12: № | D12: 1 круг | E12: ippon | G12: waza-ari | I12: yuko | K12: shido | M12: время
C13: =C5 -> 1 | D13: =D5 -> ПЕРВЫЙ ПЕРВЫЙ Город 1 СДЮШОР 1 | S13: 11
C14: =C6 -> 2 | D14: =D6 -> ВТОРОЙ ВТОРОЙ Город 2 СДЮШОР 2 | S14: 12
C15: № | D15: 1 круг | E15: ippon | G15: waza-ari | I15: yuko | K15: shido | M15: время
C16: =C7 -> 3 | D16: =D7 -> ТРЕТИЙ ТРЕТИЙ Город 3 СДЮШОР 3 | S16: 13
C17: =C8 -> 4 | D17: =D8 -> ЧЕТВЕРТЫЙ ЧЕТВЕРТЫЙ Город 4 СДЮШОР 4 | S17: 14
C18: № | D18: 1 круг | E18: ippon | G18: waza-ari | I18: yuko | K18: shido | M18: время
C19: =C9 -> 5 | D19: =D9 -> ПЯТЫЙ ПЯТЫЙ Город 5 СДЮШОР 5 | S19: 15
C20: =C10 -> 6 | D20: =D10 -> ШЕСТОЙ ШЕСТОЙ Город 6 СДЮШОР 6 | S20: 16
S21: 49
C22: № | D22: 2 круг | E22: ippon | G22: waza-ari | I22: yuko | K22: shido | M22: время
C23: =$C$5 -> 1 | D23: =$D$5 -> ПЕРВЫЙ ПЕРВЫЙ Город 1 СДЮШОР 1 | S23: 18
C24: =$C$7 -> 3 | D24: =$D$7 -> ТРЕТИЙ ТРЕТИЙ Город 3 СДЮШОР 3 | S24: 20
C25: № | D25: 2 круг | E25: ippon | G25: waza-ari | I25: yuko | K25: shido | M25: время
C26: =$C$8 -> 4 | D26: =$D$8 -> ЧЕТВЕРТЫЙ ЧЕТВЕРТЫЙ Город 4 СДЮШОР 4 | S26: 21
C27: =$C$9 -> 5 | D27: =$D$9 -> ПЯТЫЙ ПЯТЫЙ Город 5 СДЮШОР 5 | S27: 22
C28: № | D28: 2 круг | E28: ippon | G28: waza-ari | I28: yuko | K28: shido | M28: время
C29: =$C$6 -> 2 | D29: =$D$6 -> ВТОРОЙ ВТОРОЙ Город 2 СДЮШОР 2 | S29: 19
C30: =$C$10 -> 6 | D30: =$D$10 -> ШЕСТОЙ ШЕСТОЙ Город 6 СДЮШОР 6 | S30: 23
S31: 50
C32: № | D32: 3 круг | E32: ippon | G32: waza-ari | I32: yuko | K32: shido | M32: время
C33: =$C$6 -> 2 | D33: =$D$6 -> ВТОРОЙ ВТОРОЙ Город 2 СДЮШОР 2 | S33: 18
C34: =$C$7 -> 3 | D34: =$D$7 -> ТРЕТИЙ ТРЕТИЙ Город 3 СДЮШОР 3 | S34: 21
C35: № | D35: 3 круг | E35: ippon | G35: waza-ari | I35: yuko | K35: shido | M35: время
C36: =$C$5 -> 1 | D36: =$D$5 -> ПЕРВЫЙ ПЕРВЫЙ Город 1 СДЮШОР 1 | S36: 19
C37: =$C$8 -> 4 | D37: =$D$8 -> ЧЕТВЕРТЫЙ ЧЕТВЕРТЫЙ Город 4 СДЮШОР 4 | S37: 20
C38: № | D38: 3 круг | E38: ippon | G38: waza-ari | I38: yuko | K38: shido | M38: время
C39: =$C$9 -> 5 | D39: =$D$9 -> ПЯТЫЙ ПЯТЫЙ Город 5 СДЮШОР 5 | S39: 22
C40: =$C$10 -> 6 | D40: =$D$10 -> ШЕСТОЙ ШЕСТОЙ Город 6 СДЮШОР 6 | S40: 23
S41: 51
C42: № | D42: 4 круг | E42: ippon | G42: waza-ari | I42: yuko | K42: shido | M42: время
C43: =$C$5 -> 1 | D43: =$D$5 -> ПЕРВЫЙ ПЕРВЫЙ Город 1 СДЮШОР 1 | S43: 18
C44: =$C$9 -> 5 | D44: =D27 -> ПЯТЫЙ ПЯТЫЙ Город 5 СДЮШОР 5 | S44: 22
C45: № | D45: 4 круг | E45: ippon | G45: waza-ari | I45: yuko | K45: shido | M45: время
C46: =$C$7 -> 3 | D46: =$D$7 -> ТРЕТИЙ ТРЕТИЙ Город 3 СДЮШОР 3 | S46: 20
C47: =$C$8 -> 4 | D47: =$D$8 -> ЧЕТВЕРТЫЙ ЧЕТВЕРТЫЙ Город 4 СДЮШОР 4 | S47: 21
C48: № | D48: 4 круг | E48: ippon | G48: waza-ari | I48: yuko | K48: shido | M48: время
C49: =$C$6 -> 2 | D49: =$D$6 -> ВТОРОЙ ВТОРОЙ Город 2 СДЮШОР 2 | S49: 19
C50: =$C$10 -> 6 | D50: =$D$10 -> ШЕСТОЙ ШЕСТОЙ Город 6 СДЮШОР 6 | S50: 23
S51: 52
C52: № | D52: 5 круг | E52: ippon | G52: waza-ari | I52: yuko | K52: shido | M52: время
C53: =$C$6 -> 2 | D53: =$D$6 -> ВТОРОЙ ВТОРОЙ Город 2 СДЮШОР 2 | S53: 19
C54: =$C$7 -> 3 | D54: =$D$7 -> ТРЕТИЙ ТРЕТИЙ Город 3 СДЮШОР 3 | S54: 20
C55: № | D55: 5 круг | E55: ippon | G55: waza-ari | I55: yuko | K55: shido | M55: время
C56: =$C$8 -> 4 | D56: =$D$8 -> ЧЕТВЕРТЫЙ ЧЕТВЕРТЫЙ Город 4 СДЮШОР 4 | S56: 21
C57: =$C$9 -> 5 | D57: =$D$9 -> ПЯТЫЙ ПЯТЫЙ Город 5 СДЮШОР 5 | S57: 22
C58: № | D58: 5 круг | E58: ippon | G58: waza-ari | I58: yuko | K58: shido | M58: время
C59: =$C$5 -> 1 | D59: =$D$5 -> ПЕРВЫЙ ПЕРВЫЙ Город 1 СДЮШОР 1 | S59: 18
C60: =$C$10 -> 6 | D60: =$D$10 -> ШЕСТОЙ ШЕСТОЙ Город 6 СДЮШОР 6 | S60: 23
S61: 45
S62: 46
S63: 53
S64: 54
S65: 55
S66: 56
S67: 57
S68: 58
S69: 59
S70: 60
S71: 61
S72: 62
... S75: 65
D138: СЕКТОР ЖЕРЕБЬЕВКИ | AA138: СЕКТОР ЖЕРЕБЬЕВКИ
A139: 1 | B139: 3 | C139: 1 | Z139: 1
A140: 2 | B140: 6 | C140: 5 | Z140: 5
A141: 3 | B141: 2 | C141: 3 | Z141: 3
A142: 4 | B142: 7 | C142: 7 | Z142: 7
A143: 5 | B143: 4 | C143: 2 | Z143: 2
A144: 6 | B144: 5 | C144: 6 | Z144: 6
A145: 7 | B145: 1 | C145: 4 | Z145: 4
A146: 8 | B146: 8 | C146: 8 | Z146: 8
A207: 1 | C207: =IF($M$1=ФИО!D3,ФИО!D3,"") | D207: =IF($M$1=ФИО!D3,ФИО!G3&" "&ФИО!H3&" "&ФИО!N3&" "&ФИО!O3,"") | Z207: =ФИО!AX3 -> 0 | AA207: =IF($M$1=ФИО!AX3,ФИО!BA3&" "&ФИО!BB3&" "&ФИО!BC3,"")
A208: 2 | C208: =IF($M$1=ФИО!D4,ФИО!D4,"") | D208: =IF($M$1=ФИО!D4,ФИО!G4&" "&ФИО!H4&" "&ФИО!N4&" "&ФИО!O4,"") | Z208: =ФИО!AX4 -> 0 | AA208: =IF($M$1=ФИО!AX4,ФИО!BA4&" "&ФИО!BB4&" "&ФИО!BC4,"")
A209: 3 | C209: =IF($M$1=ФИО!D5,ФИО!D5,"") | D209: =IF($M$1=ФИО!D5,ФИО!G5&" "&ФИО!H5&" "&ФИО!N5&" "&ФИО!O5,"") | Z209: =ФИО!AX5 -> 0 | AA209: =IF($M$1=ФИО!AX5,ФИО!BA5&" "&ФИО!BB5&" "&ФИО!BC5,"")
A210: 4 | C210: =IF($M$1=ФИО!D6,ФИО!D6,"") | D210: =IF($M$1=ФИО!D6,ФИО!G6&" "&ФИО!H6&" "&ФИО!N6&" "&ФИО!O6,"") | Z210: =ФИО!AX6 -> 0 | AA210: =IF($M$1=ФИО!AX6,ФИО!BA6&" "&ФИО!BB6&" "&ФИО!BC6,"")
A211: 5 | C211: =IF($M$1=ФИО!D7,ФИО!D7,"") | D211: =IF($M$1=ФИО!D7,ФИО!G7&" "&ФИО!H7&" "&ФИО!N7&" "&ФИО!O7,"") | Z211: =ФИО!AX7 -> 0 | AA211: =IF($M$1=ФИО!AX7,ФИО!BA7&" "&ФИО!BB7&" "&ФИО!BC7,"")
A212: 6 | C212: =IF($M$1=ФИО!D8,ФИО!D8,"") | D212: =IF($M$1=ФИО!D8,ФИО!G8&" "&ФИО!H8&" "&ФИО!N8&" "&ФИО!O8,"") | Z212: =ФИО!AX8 -> 0 | AA212: =IF($M$1=ФИО!AX8,ФИО!BA8&" "&ФИО!BB8&" "&ФИО!BC8,"")
A213: 7 | C213: =IF($M$1=ФИО!D9,ФИО!D9,"") | D213: =IF($M$1=ФИО!D9,ФИО!G9&" "&ФИО!H9&" "&ФИО!N9&" "&ФИО!O9,"") | Z213: =ФИО!AX9 -> 0 | AA213: =IF($M$1=ФИО!AX9,ФИО!BA9&" "&ФИО!BB9&" "&ФИО!BC9,"")
A214: 8 | C214: =IF($M$1=ФИО!D10,ФИО!D10,"") | D214: =IF($M$1=ФИО!D10,ФИО!G10&" "&ФИО!H10&" "&ФИО!N10&" "&ФИО!O10,"") | Z214: =ФИО!AX10 -> 0 | AA214: =IF($M$1=ФИО!AX10,ФИО!BA10&" "&ФИО!BB10&" "&ФИО!BC10,"")
A215: 9 | C215: =IF($M$1=ФИО!D11,ФИО!D11,"") | D215: =IF($M$1=ФИО!D11,ФИО!G11&" "&ФИО!H11&" "&ФИО!N11&" "&ФИО!O11,"") | Z215: =ФИО!AX11 -> 0 | AA215: =IF($M$1=ФИО!AX11,ФИО!BA11&" "&ФИО!BB11&" "&ФИО!BC11,"")
A216: 10 | C216: =IF($M$1=ФИО!D12,ФИО!D12,"") | D216: =IF($M$1=ФИО!D12,ФИО!G12&" "&ФИО!H12&" "&ФИО!N12&" "&ФИО!O12,"") | Z216: =ФИО!AX12 -> 0 | AA216: =IF($M$1=ФИО!AX12,ФИО!BA12&" "&ФИО!BB12&" "&ФИО!BC12,"")
A217: 11 | C217: =IF($M$1=ФИО!D13,ФИО!D13,"") | D217: =IF($M$1=ФИО!D13,ФИО!G13&" "&ФИО!H13&" "&ФИО!N13&" "&ФИО!O13,"") | Z217: =ФИО!AX13 -> 0 | AA217: =IF($M$1=ФИО!AX13,ФИО!BA13&" "&ФИО!BB13&" "&ФИО!BC13,"")
A218: 12 | C218: =IF($M$1=ФИО!D14,ФИО!D14,"") | D218: =IF($M$1=ФИО!D14,ФИО!G14&" "&ФИО!H14&" "&ФИО!N14&" "&ФИО!O14,"") | Z218: =ФИО!AX14 -> 0 | AA218: =IF($M$1=ФИО!AX14,ФИО!BA14&" "&ФИО!BB14&" "&ФИО!BC14,"")
... A406: 200 | C406: =IF($M$1=ФИО!D202,ФИО!D202,"") | D406: =IF($M$1=ФИО!D202,ФИО!G202&" "&ФИО!H202&" "&ФИО!N202&" "&ФИО!O202,"") | Z406: =ФИО!AX202 -> 0 | AA406: =IF($M$1=ФИО!AX202,ФИО!BA202&" "&ФИО!BB202&" "&ФИО!BC202,"")

Sheet Дзюдо_64
D1: =Установки!$C$3&" "&Установки!$C$4 -> Первенства РБ U-21 по дзюдо среди юниоров
K2: =Установки!$C$6&" "&Установки!$C$7 -> 16-18 января 2020 г. Могилёв | R2: =Установки!J6&" "&Установки!J7 | AJ2: =Установки!$C$5 -> ДЗЮДО
B3: 22 | C3: 1 | D3: ПЕРВЫЙ ПЕРВЫЙ Город 1 СДЮШОР 1 | E3: 1 | I3: 10 | J3: =IF(I3=I4,"",IF(I3>I4,C3&"-"&D3,C4&"-"&D4)) -> 1-ПЕРВЫЙ ПЕРВЫЙ Город 1 СДЮШОР 1 | Q3: . | AJ3: 30 | AO3: ПЕРВЫЙ ПЕРВЫЙ Город 1 СДЮШОР 1 | AP3: 1 | AW3: 1
A4: ддд | B4: 33 | C4: 33 | D4: ВТОРОЙ ВТОРОЙ Город 2 СДЮШОР 2 | F4: 1 | G4: 2 | H4: 3 | I4: 0 | O4: 10 | Q4: =IF(O4=O6,"",IF(O4>O6,J3,J5)) -> 1-ПЕРВЫЙ ПЕРВЫЙ Город 1 СДЮШОР 1 | AD4: . | AO4: ВТОРОЙ ВТОРОЙ Город 2 СДЮШОР 2 | AP4: 2 | AW4: 33
B5: 13 | C5: 17 | D5: ТРЕТИЙ ТРЕТИЙ Город 3 СДЮШОР 3 | I5: 0 | J5: =IF(I5=I6,"",IF(I5>I6,C5&"-"&D5,C6&"-"&D6)) -> 49-ЧЕТВЕРТЫЙ ЧЕТВЕРТЫЙ Город 4 СДЮШОР 4 | Q5: . | V5: 0 | AO5: ТРЕТИЙ ТРЕТИЙ Город 3 СДЮШОР 3 | AP5: 3 | AW5: 17
B6: 49 | C6: 49 | D6: ЧЕТВЕРТЫЙ ЧЕТВЕРТЫЙ Город 4 СДЮШОР 4 | I6: 7 | O6: 0 | X6: =IF(V5=V9,"",IF(V5>V9,Q4,Q8)) -> 9-ПЯТЫЙ ПЯТЫЙ Город 5 СДЮШОР 5 | AK6: . | AO6: ЧЕТВЕРТЫЙ ЧЕТВЕРТЫЙ Город 4 СДЮШОР 4 | AP6: 4 | AW6: 49
B7: 17 | C7: 9 | D7: ПЯТЫЙ ПЯТЫЙ Город 5 СДЮШОР 5 | I7: 5 | J7: =IF(I7=I8,"",IF(I7>I8,C7&"-"&D7,C8&"-"&D8)) -> 9-ПЯТЫЙ ПЯТЫЙ Город 5 СДЮШОР 5 | Q7: . | AC7: 0 | AO7: ПЯТЫЙ ПЯТЫЙ Город 5 СДЮШОР 5 | AP7: 5 | AW7: 9
B8: 41 | C8: 41 | D8: ШЕСТОЙ ШЕСТОЙ Город 6 СДЮШОР 6 | I8: 0 | O8: 10 | Q8: =IF(O8=N10,"",IF(O8>N10,J7,J9)) -> 9-ПЯТЫЙ ПЯТЫЙ Город 5 СДЮШОР 5 | AD8: . | AO8: ШЕСТОЙ ШЕСТОЙ Город 6 СДЮШОР 6 | AP8: 6 | AW8: 41
B9: 6 | C9: 25 | D9: СЕДЬМОЙ СЕДЬМОЙ Город 7 СДЮШОР 7 | I9: 5 | J9: =IF(I9=I10,"",IF(I9>I10,C9&"-"&D9,C10&"-"&D10)) -> 25-СЕДЬМОЙ СЕДЬМОЙ Город 7 СДЮШОР 7 | Q9: . | V9: 7 | AO9: СЕДЬМОЙ СЕДЬМОЙ Город 7 СДЮШОР 7 | AP9: 7 | AW9: 25
B10: 57 | C10: 57 | D10: ВОСЬМОЙ ВОСЬМОЙ Город 8 СДЮШОР 8 | I10: 0 | O10: 0 | AE10: =IF(AC7=AC15,"",IF(AC7>AC15,X6,X14)) -> 45-ЧЕТЫРНАДЦАТЫЙ ЧЕТЫРНАДЦАТЫЙ Город 14 СДЮШОР 14 | AM10: . | AO10: ВОСЬМОЙ ВОСЬМОЙ Город 8 СДЮШОР 8 | AP10: 8 | AW10: 57
B11: 27 | C11: 5 | D11: ДЕВЯТЫЙ ДЕВЯТЫЙ Город 9 СДЮШОР 9 | I11: 10 | J11: =IF(I11=I12,"",IF(I11>I12,C11&"-"&D11,C12&"-"&D12)) -> 5-ДЕВЯТЫЙ ДЕВЯТЫЙ Город 9 СДЮШОР 9 | Q11: . | AJ11: 10 | AO11: ДЕВЯТЫЙ ДЕВЯТЫЙ Город 9 СДЮШОР 9 | AP11: 9 | AW11: 5
B12: 37 | C12: 37 | D12: ДЕСЯТЫЙ ДЕСЯТЫЙ Город 10 СДЮШОР 10 | I12: 0 | O12: 10 | Q12: =IF(O12=O14,"",IF(O12>O14,J11,J13)) -> 5-ДЕВЯТЫЙ ДЕВЯТЫЙ Город 9 СДЮШОР 9 | AD12: . | AO12: ДЕСЯТЫЙ ДЕСЯТЫЙ Город 10 СДЮШОР 10 | AP12: 10 | AW12: 37
B13: 9 | C13: 21 | D13: ОДИННАДЦАТЫЙ ОДИННАДЦАТЫЙ Город 11 СДЮШОР 11 | E13: 0 | F13: 0 | G13: 0 | H13: 1 | I13: 0 | J13: =IF(I13=I14,"",IF(I13>I14,C13&"-"&D13,C14&"-"&D14)) -> 53-ДВЕНАДЦАТЫЙ ДВЕНАДЦАТЫЙ Город 12 СДЮШОР 12 | Q13: . | V13: 0 | AO13: ОДИННАДЦАТЫЙ ОДИННАДЦАТЫЙ Город 11 СДЮШОР 11 | AP13: 11 | AW13: 21
B14: 53 | C14: 53 | D14: ДВЕНАДЦАТЫЙ ДВЕНАДЦАТЫЙ Город 12 СДЮШОР 12 | E14: 1 | F14: 0 | G14: 0 | H14: 0 | I14: 10 | O14: 0 | X14: =IF(V13=V17,"",IF(V13>V17,Q12,Q16)) -> 45-ЧЕТЫРНАДЦАТЫЙ ЧЕТЫРНАДЦАТЫЙ Город 14 СДЮШОР 14 | AK14: . | AO14: ДВЕНАДЦАТЫЙ ДВЕНАДЦАТЫЙ Город 12 СДЮШОР 12 | AP14: 12 | AW14: 53
B15: 29 | C15: 13 | D15: ТРИНАДЦАТЫЙ ТРИНАДЦАТЫЙ Город 13 СДЮШОР 13 | I15: 0 | J15: =IF(I15=I16,"",IF(I15>I16,C15&"-"&D15,C16&"-"&D16)) -> 45-ЧЕТЫРНАДЦАТЫЙ ЧЕТЫРНАДЦАТЫЙ Город 14 СДЮШОР 14 | Q15: . | AC15: 10 | AO15: ТРИНАДЦАТЫЙ ТРИНАДЦАТЫЙ Город 13 СДЮШОР 13 | AP15: 13 | AW15: 13
B16: 45 | C16: 45 | D16: ЧЕТЫРНАДЦАТЫЙ ЧЕТЫРНАДЦАТЫЙ Город 14 СДЮШОР 14 | I16: 5 | O16: 10 | Q16: =IF(O16=N18,"",IF(O16>N18,J15,J17)) -> 45-ЧЕТЫРНАДЦАТЫЙ ЧЕТЫРНАДЦАТЫЙ Город 14 СДЮШОР 14 | AD16: . | AO16: ЧЕТЫРНАДЦАТЫЙ ЧЕТЫРНАДЦАТЫЙ Город 14 СДЮШОР 14 | AP16: 14 | AW16: 45
B17: 3 | C17: 29 | D17: ПЯТНАДЦАТЫЙ ПЯТНАДЦАТЫЙ Город 15 СДЮШОР 15 | I17: 10 | J17: =IF(I17=I18,"",IF(I17>I18,C17&"-"&D17,C18&"-"&D18)) -> 29-ПЯТНАДЦАТЫЙ ПЯТНАДЦАТЫЙ Город 15 СДЮШОР 15 | Q17: . | V17: 10 | AG17: Полуфинал "А" | AO17: ПЯТНАДЦАТЫЙ ПЯТНАДЦАТЫЙ Город 15 СДЮШОР 15 | AP17: 15 | AW17: 29
B18: 61 | C18: 61 | D18: ШЕСНАДЦАТЫЙ ШЕСНАДЦАТЫЙ Город 16 СДЮШОР 16 | I18: 0 | AO18: ШЕСНАДЦАТЫЙ ШЕСНАДЦАТЫЙ Город 16 СДЮШОР 16 | AP18: 16 | AW18: 61
B19: 23 | C19: 3 | D19: СЕМНАДЦАТЫЙ СЕМНАДЦАТЫЙ Город 17 СДЮШОР 17 | I19: 10 | J19: =IF(I19=I20,"",IF(I19>I20,C19&"-"&D19,C20&"-"&D20)) -> 3-СЕМНАДЦАТЫЙ СЕМНАДЦАТЫЙ Город 17 СДЮШОР 17 | Q19: . | AO19: СЕМНАДЦАТЫЙ СЕМНАДЦАТЫЙ Город 17 СДЮШОР 17 | AP19: 17 | AW19: 3
A20: ддд | B20: 35 | C20: 35 | D20: ВОСЕМНАДЦАТЫЙ ВОСЕМНАДЦАТЫЙ Город 18 СДЮШОР 18 | I20: 0 | O20: 10 | Q20: =IF(O20=O22,"",IF(O20>O22,J19,J21)) -> 3-СЕМНАДЦАТЫЙ СЕМНАДЦАТЫЙ Город 17 СДЮШОР 17 | AD20: . | AO20: ВОСЕМНАДЦАТЫЙ ВОСЕМНАДЦАТЫЙ Город 18 СДЮШОР 18 | AP20: 18 | AW20: 35
B21: 15 | C21: 19 | D21: ДЕВЯТНАДЦАТЫЙ ДЕВЯТНАДЦАТЫЙ Город 19 СДЮШОР 19 | E21: 1 | I21: 10 | J21: =IF(I21=I22,"",IF(I21>I22,C21&"-"&D21,C22&"-"&D22)) -> 19-ДЕВЯТНАДЦАТЫЙ ДЕВЯТНАДЦАТЫЙ Город 19 СДЮШОР 19 | Q21: . | V21: 0 | AO21: ДЕВЯТНАДЦАТЫЙ ДЕВЯТНАДЦАТЫЙ Город 19 СДЮШОР 19 | AP21: 19 | AW21: 19
B22: 51 | C22: 51 | D22: ДВАДЦАТЫЙ ДВАДЦАТЫЙ Город 20 СДЮШОР 20 | E22: 0 | I22: 0 | X22: =IF(V21=V25,"",IF(V21>V25,Q20,Q24)) -> 11-ДВАДЦАТЬ ПЕРВЫЙ Город 21 СДЮШОР 21 | AK22: . | AO22: ДВАДЦАТЫЙ ДВАДЦАТЫЙ Город 20 СДЮШОР 20 | AP22: 20 | AW22: 51
B23: 19 | C23: 11 | D23: ДВАДЦАТЬ ПЕРВЫЙ Город 21 СДЮШОР 21 | I23: 10 | J23: =IF(I23=I24,"",IF(I23>I24,C23&"-"&D23,C24&"-"&D24)) -> 11-ДВАДЦАТЬ ПЕРВЫЙ Город 21 СДЮШОР 21 | Q23: . | AC23: 0 | AO23: ДВАДЦАТЬ ПЕРВЫЙ Город 21 СДЮШОР 21 | AP23: 21 | AW23: 11
B24: 43 | C24: 43 | D24: ДВАДЦАТЬ ВТОРОЙ Город 22 СДЮШОР 22 | I24: 0 | O24: 10 | Q24: =IF(O24=N26,"",IF(O24>N26,J23,J25)) -> 11-ДВАДЦАТЬ ПЕРВЫЙ Город 21 СДЮШОР 21 | AD24: . | AO24: ДВАДЦАТЬ ВТОРОЙ Город 22 СДЮШОР 22 | AP24: 22 | AW24: 43
B25: 7 | C25: 27 | D25: ДВАДЦАТЬ ТРЕТИЙ Город 23 СДЮШОР 23 | I25: 10 | J25: =IF(I25=I26,"",IF(I25>I26,C25&"-"&D25,C26&"-"&D26)) -> 27-ДВАДЦАТЬ ТРЕТИЙ Город 23 СДЮШОР 23 | Q25: . | V25: 10 | AO25: ДВАДЦАТЬ ТРЕТИЙ Город 23 СДЮШОР 23 | AP25: 23 | AW25: 27
B26: 59 | C26: 59 | D26: ДВАДЦАТЬ ЧЕТВЕРТЫЙ Город 24 СДЮШОР 24 | I26: 0 | O26: 0 | AE26: =IF(AC23=AC31,"",IF(AC23>AC31,X22,X30)) -> 15-ДВАДЦАТЬ ДЕВЯТЫЙ Город 29 СДЮШОР 29 | AM26: . | AO26: ДВАДЦАТЬ ЧЕТВЕРТЫЙ Город 24 СДЮШОР 24 | AP26: 24 | AW26: 59
B27: 26 | C27: 7 | D27: ДВАДЦАТЬ ПЯТЫЙ Город 25 СДЮШОР 25 | I27: 10 | J27: =IF(I27=I28,"",IF(I27>I28,C27&"-"&D27,C28&"-"&D28)) -> 7-ДВАДЦАТЬ ПЯТЫЙ Город 25 СДЮШОР 25 | Q27: . | AJ27: 0 | AO27: ДВАДЦАТЬ ПЯТЫЙ Город 25 СДЮШОР 25 | AP27: 25 | AW27: 7
B28: 39 | C28: 39 | D28: ДВАДЦАТЬ ШЕСТОЙ Город 26 СДЮШОР 26 | I28: 0 | O28: 10 | Q28: =IF(O28=O30,"",IF(O28>O30,J27,J29)) -> 7-ДВАДЦАТЬ ПЯТЫЙ Город 25 СДЮШОР 25 | AD28: . | AO28: ДВАДЦАТЬ ШЕСТОЙ Город 26 СДЮШОР 26 | AP28: 26 | AW28: 39
B29: 11 | C29: 23 | D29: ДВАДЦАТЬ СЕДЬМОЙ Город 27 СДЮШОР 27 | I29: 10 | J29: =IF(I29=I30,"",IF(I29>I30,C29&"-"&D29,C30&"-"&D30)) -> 23-ДВАДЦАТЬ СЕДЬМОЙ Город 27 СДЮШОР 27 | Q29: . | V29: 0 | AO29: ДВАДЦАТЬ СЕДЬМОЙ Город 27 СДЮШОР 27 | AP29: 27 | AW29: 23
B30: 55 | C30: 55 | D30: ДВАДЦАТЬ ВОСЬМОЙ Город 28 СДЮШОР 28 | I30: 0 | X30: =IF(V29=V33,"",IF(V29>V33,Q28,Q32)) -> 15-ДВАДЦАТЬ ДЕВЯТЫЙ Город 29 СДЮШОР 29 | AK30: . | AO30: ДВАДЦАТЬ ВОСЬМОЙ Город 28 СДЮШОР 28 | AP30: 28 | AW30: 55
B31: 31 | C31: 15 | D31: ДВАДЦАТЬ ДЕВЯТЫЙ Город 29 СДЮШОР 29 | I31: 10 | J31: =IF(I31=I32,"",IF(I31>I32,C31&"-"&D31,C32&"-"&D32)) -> 15-ДВАДЦАТЬ ДЕВЯТЫЙ Город 29 СДЮШОР 29 | Q31: . | AC31: 5 | AO31: ДВАДЦАТЬ ДЕВЯТЫЙ Город 29 СДЮШОР 29 | AP31: 29 | AW31: 15
B32: 47 | C32: 47 | D32: ТРИДЦАТЫЙ ТРИДЦАТЫЙ Город 30 СДЮШОР 30 | I32: 0 | O32: 10 | Q32: =IF(O32=N34,"",IF(O32>N34,J31,J33)) -> 15-ДВАДЦАТЬ ДЕВЯТЫЙ Город 29 СДЮШОР 29 | AD32: . | AO32: ТРИДЦАТЫЙ ТРИДЦАТЫЙ Город 30 СДЮШОР 30 | AP32: 30 | AW32: 47
B33: 2 | C33: 31 | D33: ТРИДЦАТЬ ПЕРВЫЙ Город 31 СДЮШОР 31 | I33: 10 | J33: =IF(I33=I34,"",IF(I33>I34,C33&"-"&D33,C34&"-"&D34)) -> 31-ТРИДЦАТЬ ПЕРВЫЙ Город 31 СДЮШОР 31 | Q33: . | V33: 7 | AF33: ФИНАЛ | AO33: ТРИДЦАТЬ ПЕРВЫЙ Город 31 СДЮШОР 31 | AP33: 31 | AW33: 31
B34: 63 | C34: 63 | D34: ТРИДЦАТЬ ВТОРОЙ Город 32 СДЮШОР 32 | I34: 0 | O34: 0 | Y34: =IF(AJ11=AJ27,"",IF(AJ11>AJ27,AE10,AF26)) -> 45-ЧЕТЫРНАДЦАТЫЙ ЧЕТЫРНАДЦАТЫЙ Город 14 СДЮШОР 14 | AF34: 0 | AJ34: 10 | AO34: ТРИДЦАТЬ ВТОРОЙ Город 32 СДЮШОР 32 | AP34: 32 | AW34: 63
B35: 24 | C35: 2 | D35: ТРИДЦАТЬ ТРЕТИЙ Город 33 СДЮШОР 33 | I35: 0 | J35: =IF(I35=I36,"",IF(I35>I36,C35&"-"&D35,C36&"-"&D36)) -> 34-ТРИДЦАТЬ ЧЕТВЕРТЫЙ Город 34 СДЮШОР 34 | Q35: . | Y35: =IF(AJ43=AJ59,"",IF(AJ43>AJ59,AE42,AE58)) -> 46-СОРОК ШЕСТОЙ Город 46 СДЮШОР 46 | AF35: 0 | AJ35: 0 | AO35: ТРИДЦАТЬ ТРЕТИЙ Город 33 СДЮШОР 33 | AP35: 33 | AW35: 2
B36: 34 | C36: 34 | D36: ТРИДЦАТЬ ЧЕТВЕРТЫЙ Город 34 СДЮШОР 34 | I36: 10 | O36: 10 | Q36: =IF(O36=O38,"",IF(O36>O38,J35,J37)) -> 34-ТРИДЦАТЬ ЧЕТВЕРТЫЙ Город 34 СДЮШОР 34 | AO36: ТРИДЦАТЬ ЧЕТВЕРТЫЙ Город 34 СДЮШОР 34 | AP36: 34 | AW36: 34
B37: 14 | C37: 18 | D37: ТРИДЦАТЬ ПЯТЫЙ Город 35 СДЮШОР 35 | I37: 0 | J37: =IF(I37=I38,"",IF(I37>I38,C37&"-"&D37,C38&"-"&D38)) -> 50-ТРИДЦАТЬ ШЕСТОЙ Город 36 СДЮШОР 36 | Q37: . | V37: 0 | AO37: ТРИДЦАТЬ ПЯТЫЙ Город 35 СДЮШОР 35 | AP37: 35 | AW37: 18
B38: 50 | C38: 50 | D38: ТРИДЦАТЬ ШЕСТОЙ Город 36 СДЮШОР 36 | I38: 10 | O38: 0 | X38: =IF(V37=V41,"",IF(V37>V41,Q36,Q40)) -> 42-ТРИДЦАТЬ ВОСЬМОЙ Город 38 СДЮШОР 38 | AK38: . | AO38: ТРИДЦАТЬ ШЕСТОЙ Город 36 СДЮШОР 36 | AP38: 36 | AW38: 50
B39: 18 | C39: 10 | D39: ТРИДЦАТЬ СЕДЬМОЙ Город 37 СДЮШОР 37 | I39: 0 | J39: =IF(I39=I40,"",IF(I39>I40,C39&"-"&D39,C40&"-"&D40)) -> 42-ТРИДЦАТЬ ВОСЬМОЙ Город 38 СДЮШОР 38 | K39: =IF(I39=I40,"",IF(I39>I40,C39&"-"&D39,C40&"-"&D40)) -> 42-ТРИДЦАТЬ ВОСЬМОЙ Город 38 СДЮШОР 38 | Q39: . | AC39: 0 | AO39: ТРИДЦАТЬ СЕДЬМОЙ Город 37 СДЮШОР 37 | AP39: 37 | AW39: 10
B40: 42 | C40: 42 | D40: ТРИДЦАТЬ ВОСЬМОЙ Город 38 СДЮШОР 38 | I40: 10 | O40: 10 | Q40: =IF(O40=N42,"",IF(O40>N42,K39,J41)) -> 42-ТРИДЦАТЬ ВОСЬМОЙ Город 38 СДЮШОР 38 | AD40: . | AO40: ТРИДЦАТЬ ВОСЬМОЙ Город 38 СДЮШОР 38 | AP40: 38 | AW40: 42
B41: 5 | C41: 26 | D41: ТРИДЦАТЬ ДЕВЯТЫЙ Город 39 СДЮШОР 39 | I41: 0 | J41: =IF(I41=I42,"",IF(I41>I42,C41&"-"&D41,C42&"-"&D42)) -> 58-СОРОКОВОЙ СОРОКОВОЙ Город 40 СДЮШОР 40 | Q41: . | V41: 7 | AO41: ТРИДЦАТЬ ДЕВЯТЫЙ Город 39 СДЮШОР 39 | AP41: 39 | AW41: 26
B42: 58 | C42: 58 | D42: СОРОКОВОЙ СОРОКОВОЙ Город 40 СДЮШОР 40 | I42: 10 | O42: 0 | AE42: =IF(AC39=AC47,"",IF(AC39>AC47,X38,X46)) -> 46-СОРОК ШЕСТОЙ Город 46 СДЮШОР 46 | AM42: . | AO42: СОРОКОВОЙ СОРОКОВОЙ Город 40 СДЮШОР 40 | AP42: 40 | AW42: 58
B43: 25 | C43: 6 | D43: СОРОК ПЕРВЫЙ Город 41 СДЮШОР 41 | I43: 0 | J43: =IF(I43=I44,"",IF(I43>I44,C43&"-"&D43,C44&"-"&D44)) -> 38-СОРОК ВТОРОЙ Город 42 СДЮШОР 42 | Q43: . | AJ43: 10 | AO43: СОРОК ПЕРВЫЙ Город 41 СДЮШОР 41 | AP43: 41 | AW43: 6
B44: 38 | C44: 38 | D44: СОРОК ВТОРОЙ Город 42 СДЮШОР 42 | I44: 10 | O44: 10 | Q44: =IF(O44=O46,"",IF(O44>O46,J43,J45)) -> 38-СОРОК ВТОРОЙ Город 42 СДЮШОР 42 | AD44: . | AO44: СОРОК ВТОРОЙ Город 42 СДЮШОР 42 | AP44: 42 | AW44: 38
B45: 10 | C45: 22 | D45: СОРОК ТРЕТИЙ Город 43 СДЮШОР 43 | I45: 0 | J45: =IF(I45=I46,"",IF(I45>I46,C45&"-"&D45,C46&"-"&D46)) -> 54-СОРОК ЧЕТВЕРТЫЙ Город 44 СДЮШОР 44 | Q45: . | V45: 0 | AO45: СОРОК ТРЕТИЙ Город 43 СДЮШОР 43 | AP45: 43 | AW45: 22
B46: 54 | C46: 54 | D46: СОРОК ЧЕТВЕРТЫЙ Город 44 СДЮШОР 44 | I46: 10 | O46: 0 | X46: =IF(V45=V49,"",IF(V45>V49,Q44,Q48)) -> 46-СОРОК ШЕСТОЙ Город 46 СДЮШОР 46 | AK46: . | AO46: СОРОК ЧЕТВЕРТЫЙ Город 44 СДЮШОР 44 | AP46: 44 | AW46: 54
B47: 30 | C47: 14 | D47: СОРОК ПЯТЫЙ Город 45 СДЮШОР 45 | I47: 0 | J47: =IF(I47=I48,"",IF(I47>I48,C47&"-"&D47,C48&"-"&D48)) -> 46-СОРОК ШЕСТОЙ Город 46 СДЮШОР 46 | Q47: . | AC47: 10 | AO47: СОРОК ПЯТЫЙ Город 45 СДЮШОР 45 | AP47: 45 | AW47: 14
B48: 46 | C48: 46 | D48: СОРОК ШЕСТОЙ Город 46 СДЮШОР 46 | I48: 10 | O48: 10 | Q48: =IF(O48=N50,"",IF(O48>N50,J47,J49)) -> 46-СОРОК ШЕСТОЙ Город 46 СДЮШОР 46 | AD48: . | AO48: СОРОК ШЕСТОЙ Город 46 СДЮШОР 46 | AP48: 46 | AW48: 46
B49: 4 | C49: 30 | D49: СОРОК СЕДЬМОЙ Город 47 СДЮШОР 47 | I49: 0 | J49: =IF(I49=I50,"",IF(I49>I50,C49&"-"&D49,C50&"-"&D50)) -> 62-СОРОК ВОСЬМОЙ Город 48 СДЮШОР 48 | Q49: . | V49: 10 | AO49: СОРОК СЕДЬМОЙ Город 47 СДЮШОР 47 | AP49: 47 | AW49: 30
B50: 62 | C50: 62 | D50: СОРОК ВОСЬМОЙ Город 48 СДЮШОР 48 | I50: 10 | O50: 0 | AF50: Полуфинал "В" | AO50: СОРОК ВОСЬМОЙ Город 48 СДЮШОР 48 | AP50: 48 | AW50: 62
B51: 21 | C51: 4 | D51: СОРОК ДЕВЯТЫЙ Город 49 СДЮШОР 49 | I51: 0 | J51: =IF(I51=I52,"",IF(I51>I52,C51&"-"&D51,C52&"-"&D52)) -> 36-ПЯТИДЕСЯТЫЙ ПЯТИДЕСЯТЫЙ Город 50 СДЮШОР 50 | Q51: . | AO51: СОРОК ДЕВЯТЫЙ Город 49 СДЮШОР 49 | AP51: 49 | AW51: 4
B52: 36 | C52: 36 | D52: ПЯТИДЕСЯТЫЙ ПЯТИДЕСЯТЫЙ Город 50 СДЮШОР 50 | I52: 10 | O52: 10 | Q52: =IF(O52=O54,"",IF(O52>O54,J51,J53)) -> 36-ПЯТИДЕСЯТЫЙ ПЯТИДЕСЯТЫЙ Город 50 СДЮШОР 50 | AD52: . | AO52: ПЯТИДЕСЯТЫЙ ПЯТИДЕСЯТЫЙ Город 50 СДЮШОР 50 | AP52: 50 | AW52: 36
B53: 16 | C53: 20 | D53: ПЯТЬДЕСЯТ ПЕРВЫЙ Город 51 СДЮШОР 51 | I53: 0 | J53: =IF(I53=I54,"",IF(I53>I54,C53&"-"&D53,C54&"-"&D54)) -> 52-ПЯТЬДЕСЯТ ВТОРОЙ Город 52 СДЮШОР 52 | Q53: . | V53: 0 | AO53: ПЯТЬДЕСЯТ ПЕРВЫЙ Город 51 СДЮШОР 51 | AP53: 51 | AW53: 20
C54: 52 | D54: ПЯТЬДЕСЯТ ВТОРОЙ Город 52 СДЮШОР 52 | I54: 10 | X54: =IF(V53=V57,"",IF(V53>V57,Q52,Q56)) -> 44-ПЯТЬДЕСЯТ ЧЕТВЕРТЫЙ Город 54 СДЮШОР 54 | AK54: . | AO54: ПЯТЬДЕСЯТ ВТОРОЙ Город 52 СДЮШОР 52 | AP54: 52 | AW54: 52
B55: 20 | C55: 12 | D55: ПЯТЬДЕСЯТ ТРЕТИЙ Город 53 СДЮШОР 53 | I55: 0 | J55: =IF(I55=I56,"",IF(I55>I56,C55&"-"&D55,C56&"-"&D56)) -> 44-ПЯТЬДЕСЯТ ЧЕТВЕРТЫЙ Город 54 СДЮШОР 54 | Q55: . | AC55: 0 | AO55: ПЯТЬДЕСЯТ ТРЕТИЙ Город 53 СДЮШОР 53 | AP55: 53 | AW55: 12
B56: 44 | C56: 44 | D56: ПЯТЬДЕСЯТ ЧЕТВЕРТЫЙ Город 54 СДЮШОР 54 | I56: 10 | O56: 10 | Q56: =IF(O56=N58,"",IF(O56>N58,J55,J57)) -> 44-ПЯТЬДЕСЯТ ЧЕТВЕРТЫЙ Город 54 СДЮШОР 54 | AD56: . | AO56: ПЯТЬДЕСЯТ ЧЕТВЕРТЫЙ Город 54 СДЮШОР 54 | AP56: 54 | AW56: 44
B57: 8 | C57: 28 | D57: ПЯТЬДЕСЯТ ПЯТЫЙ Город 55 СДЮШОР 55 | I57: 0 | J57: =IF(I57=I58,"",IF(I57>I58,C57&"-"&D57,C58&"-"&D58)) -> 60-ПЯТЬДЕСЯТ ШЕСТОЙ Город 56 СДЮШОР 56 | Q57: . | V57: 10 | AO57: ПЯТЬДЕСЯТ ПЯТЫЙ Город 55 СДЮШОР 55 | AP57: 55 | AW57: 28
B58: 60 | C58: 60 | D58: ПЯТЬДЕСЯТ ШЕСТОЙ Город 56 СДЮШОР 56 | I58: 10 | O58: 0 | AE58: =IF(AC55=AC63,"",IF(AC55>AC63,X54,X62)) -> 48-ШЕСТЬДЕСЯТ ВТОРОЙ Город 62 СДЮШОР 62 | AM58: . | AO58: ПЯТЬДЕСЯТ ШЕСТОЙ Город 56 СДЮШОР 56 | AP58: 56 | AW58: 60
B59: 28 | C59: 8 | D59: ПЯТЬДЕСЯТ СЕДЬМОЙ Город 57 СДЮШОР 57 | I59: 0 | J59: =IF(I59=I60,"",IF(I59>I60,C59&"-"&D59,C60&"-"&D60)) -> 40-ПЯТЬДЕСЯТ ВОСЬМОЙ Город 58 СДЮШОР 58 | Q59: . | AJ59: 0 | AO59: ПЯТЬДЕСЯТ СЕДЬМОЙ Город 57 СДЮШОР 57 | AP59: 57 | AW59: 8
B60: 40 | C60: 40 | D60: ПЯТЬДЕСЯТ ВОСЬМОЙ Город 58 СДЮШОР 58 | I60: 10 | O60: 10 | Q60: =IF(O60=O62,"",IF(O60>O62,J59,J61)) -> 40-ПЯТЬДЕСЯТ ВОСЬМОЙ Город 58 СДЮШОР 58 | AD60: . | AO60: ПЯТЬДЕСЯТ ВОСЬМОЙ Город 58 СДЮШОР 58 | AP60: 58 | AW60: 40
B61: 12 | C61: 24 | D61: ПЯТЬДЕСЯТ ДЕВЯТЫЙ Город 59 СДЮШОР 59 | I61: 0 | J61: =IF(I61=I62,"",IF(I61>I62,C61&"-"&D61,C62&"-"&D62)) -> 56-ШЕСТИДЕСЯТЫЙ ШЕСТИДЕСЯТЫЙ Город 60 СДЮШОР 60 | Q61: . | V61: 0 | AO61: ПЯТЬДЕСЯТ ДЕВЯТЫЙ Город 59 СДЮШОР 59 | AP61: 59 | AW61: 24
B62: 56 | C62: 56 | D62: ШЕСТИДЕСЯТЫЙ ШЕСТИДЕСЯТЫЙ Город 60 СДЮШОР 60 | I62: 10 | O62: 0 | X62: =IF(V61=V65,"",IF(V61>V65,Q60,Q64)) -> 48-ШЕСТЬДЕСЯТ ВТОРОЙ Город 62 СДЮШОР 62 | AK62: . | AO62: ШЕСТИДЕСЯТЫЙ ШЕСТИДЕСЯТЫЙ Город 60 СДЮШОР 60 | AP62: 60 | AW62: 56
B63: 32 | C63: 16 | D63: ШЕСТЬДЕСЯТ ПЕРВЫЙ Город 61 СДЮШОР 61 | I63: 0 | J63: =IF(I63=I64,"",IF(I63>I64,C63&"-"&D63,C64&"-"&D64)) -> 48-ШЕСТЬДЕСЯТ ВТОРОЙ Город 62 СДЮШОР 62 | Q63: . | AC63: 5 | AO63: ШЕСТЬДЕСЯТ ПЕРВЫЙ Город 61 СДЮШОР 61 | AP63: 61 | AW63: 16
B64: 48 | C64: 48 | D64: ШЕСТЬДЕСЯТ ВТОРОЙ Город 62 СДЮШОР 62 | I64: 10 | O64: 10 | Q64: =IF(O64=N66,"",IF(O64>N66,J63,J65)) -> 48-ШЕСТЬДЕСЯТ ВТОРОЙ Город 62 СДЮШОР 62 | AD64: . | AO64: ШЕСТЬДЕСЯТ ВТОРОЙ Город 62 СДЮШОР 62 | AP64: 62 | AW64: 48
B65: 1 | C65: 32 | D65: ШЕСТЬДЕСЯТ ТРЕТИЙ Город 63 СДЮШОР 63 | I65: 0 | J65: =IF(I65=I66,"",IF(I65>I66,C65&"-"&D65,C66&"-"&D66)) -> 64-ШЕСТЬДЕСЯТ ЧЕТВЕРТЫЙ Город 64 СДЮШОР 64 | Q65: . | V65: 7 | AO65: ШЕСТЬДЕСЯТ ТРЕТИЙ Город 63 СДЮШОР 63 | AP65: 63 | AW65: 32
B66: 64 | C66: 64 | D66: ШЕСТЬДЕСЯТ ЧЕТВЕРТЫЙ Город 64 СДЮШОР 64 | I66: 10 | O66: 0 | AO66: ШЕСТЬДЕСЯТ ЧЕТВЕРТЫЙ Город 64 СДЮШОР 64 | AP66: 64 | AW66: 64
AP67: 65
C72: =Установки!$C$3&" "&Установки!$C$4 -> Первенства РБ U-21 по дзюдо среди юниоров
J73: =Установки!$C$6&" "&Установки!$C$7 -> 16-18 января 2020 г. Могилёв | Q73: =Установки!I77&" "&Установки!I78 | AM73: =Установки!$C$5 -> ДЗЮДО
AJ74: =$AJ$3 -> 30
D76: Утешительная стадия соревнований | AX76: Утешительная стадия соревнований
D77: =IF(AE10=C3&"-"&D3,C4&"-"&D4,IF(AE10=C4&"-"&D4,C3&"-"&D3, IF(AE10=C5&"-"&D5,C6&"-"&D6,IF(AE10=C6&"-"&D6,C5&"-"&D5, IF(AE10=C7&"-"&D7,C8&"-"&D8,IF(AE10=C8&"-"&D8,C7&"-"&D7, IF(AE10=C9&"-"&D9,C10&"-"&D10,IF(AE10=C10&"-"&D10,C9&"-"&D9,"")))))))) & IF(AE10=C11&"-"&D11,C12&"-"&D12,IF(AE10=C12&"-"&D12,C11&"-"&D11, IF(AE10=C13&"-"&D13,C14&"-"&D14,IF(AE10=C14&"-"&D14,C13&"-"&D13, IF(AE10=C15&"-"&D15,C16&"-"&D16,IF(AE10=C16&"-"&D16,C15&"-"&D15, IF(AE10=C17&"-"&D17,C18&"-"&D18,IF(AE10=C18&"-"&D18,C17&"-"&D17,"")))))))) -> 13-ТРИНАДЦАТЫЙ ТРИНАДЦАТЫЙ Город 13 СДЮШОР 13 | I77: 10 | J77: =IF(I77=I78,"",IF(I77>I78,C77&"-"&D77,C78&"-"&D78)) -> -13-ТРИНАДЦАТЫЙ ТРИНАДЦАТЫЙ Город 13 СДЮШОР 13 | W77: .
A78: 1 | D78: =IF(AE10=J3,J5,IF(AE10=J5,J3,IF(AE10=J7,J9,IF(AE10=J9,J7,IF(AE10=J11,J13,IF(AE10=J13,J11,IF(AE10=J15,J17,IF(AE10=J17,J15,"")))))))) -> 29-ПЯТНАДЦАТЫЙ ПЯТНАДЦАТЫЙ Город 15 СДЮШОР 15 | I78: 0 | O78: 10 | Q78: =IF(O78=O81,"",IF(O78>O81,J77,J80)) -> -13-ТРИНАДЦАТЫЙ ТРИНАДЦАТЫЙ Город 13 СДЮШОР 13 | AD78: .
A79: 2 | V79: 0
A80: 3 | J80: =IF(AE10=Q4,Q8,IF(AE10=Q4,Q8,IF(AE10=Q12,Q16,IF(AE10=Q16,Q12,"")))) -> 5-ДЕВЯТЫЙ ДЕВЯТЫЙ Город 9 СДЮШОР 9 | W80: . | X80: =IF(V79=V83,"",IF(V79>V83,Q78,Q82)) -> 9-ПЯТЫЙ ПЯТЫЙ Город 5 СДЮШОР 5 | AK80: .
A81: 4 | O81: 0 | AC81: 10
A82: 5 | D82: А | Q82: =IF(AC7=AC15,"",IF(AC7>AC15,X14,X6)) -> 9-ПЯТЫЙ ПЯТЫЙ Город 5 СДЮШОР 5 | AD82: .
A83: 6 | V83: 10
A84: 7
A85: 8 | AE85: =IF(AC81=AC90,"",IF(AC81>AC90,X80,X89)) -> 9-ПЯТЫЙ ПЯТЫЙ Город 5 СДЮШОР 5 | AM85: .
A86: 9 | D86: =IF(AE26=C19&"-"&D19,C20&"-"&D20,IF(AE26=C20&"-"&D20,C19&"-"&D19, IF(AE26=C21&"-"&D21,C22&"-"&D22,IF(AE26=C22&"-"&D22,C21&"-"&D21, IF(AE26=C23&"-"&D23,C24&"-"&D24,IF(AE26=C24&"-"&D24,C23&"-"&D23, IF(AE26=C25&"-"&D25,C26&"-"&D26,IF(AE26=C26&"-"&D26,C25&"-"&D25,"")))))))) & IF(AE26=C27&"-"&D27,C28&"-"&D28,IF(AE26=C28&"-"&D28,C27&"-"&D27, IF(AE26=C29&"-"&D29,C30&"-"&D30,IF(AE26=C30&"-"&D30,C29&"-"&D29, IF(AE26=C31&"-"&D31,C32&"-"&D32,IF(AE26=C32&"-"&D32,C31&"-"&D31, IF(AE26=C33&"-"&D33,C34&"-"&D34,IF(AE26=C34&"-"&D34,C33&"-"&D33,"")))))))) -> 47-ТРИДЦАТЫЙ ТРИДЦАТЫЙ Город 30 СДЮШОР 30 | I86: 10 | J86: =IF(I86=I87,"",IF(I86>I87,C86&"-"&D86,C87&"-"&D87)) -> -47-ТРИДЦАТЫЙ ТРИДЦАТЫЙ Город 30 СДЮШОР 30 | W86: . | AJ86: 0
A87: 10 | D87: =IF(AE26=J19,J21,IF(AE26=J21,J19,IF(AE26=J23,J25,IF(AE26=J25,J23,IF(AE26=J27,J29,IF(AE26=J29,J27,IF(AE26=J31,J33,IF(AE26=J33,J31,"")))))))) -> 31-ТРИДЦАТЬ ПЕРВЫЙ Город 31 СДЮШОР 31 | I87: 0 | O87: 0 | Q87: =IF(O87=O90,"",IF(O87>O90,J86,J89)) -> 7-ДВАДЦАТЬ ПЯТЫЙ Город 25 СДЮШОР 25 | AD87: .
A88: 11 | V88: 0
A89: 12 | J89: =IF(AE26=Q20,Q24,IF(AE26=Q20,Q24,IF(AE26=Q28,Q32,IF(AE26=Q32,Q28,"")))) -> 7-ДВАДЦАТЬ ПЯТЫЙ Город 25 СДЮШОР 25 | W89: . | X89: =IF(V88=V92,"",IF(V88>V92,Q87,Q91)) -> 11-ДВАДЦАТЬ ПЕРВЫЙ Город 21 СДЮШОР 21 | AK89: .
A90: 13 | O90: 10 | AC90: 0
A91: 14 | Q91: =IF(AC23=AC31,"",IF(AC23>AC31,X30,X22)) -> 11-ДВАДЦАТЬ ПЕРВЫЙ Город 21 СДЮШОР 21 | AD91: . | AF91: =IF(AJ86=AJ96,"",IF(AJ86>AJ96,AE85,AE95)) -> 48-ШЕСТЬДЕСЯТ ВТОРОЙ Город 62 СДЮШОР 62 | AM91: .
A92: 15 | V92: 10 | AG92: 3 место
A93: 16
A94: 1
A95: 2 | AE95: =IF(AJ43=AJ59,"",IF(AJ43>AJ59,AE58,AE42)) -> 48-ШЕСТЬДЕСЯТ ВТОРОЙ Город 62 СДЮШОР 62 | AM95: .
A96: 3 | AJ96: 10
A97: 4
A98: 5
A99: 6 | D99: Утешительная стадия соревнований
A100: 7 | D100: =IF(AE42=C35&"-"&D35,C36&"-"&D36,IF(AE42=C36&"-"&D36,C35&"-"&D35, IF(AE42=C37&"-"&D37,C38&"-"&D38,IF(AE42=C38&"-"&D38,C37&"-"&D37, IF(AE42=C39&"-"&D39,C40&"-"&D40,IF(AE42=C40&"-"&D40,C39&"-"&D39, IF(AE42=C41&"-"&D41,C42&"-"&D42,IF(AE42=C42&"-"&D42,C41&"-"&D41,"")))))))) & IF(AE42=C43&"-"&D43,C44&"-"&D44,IF(AE42=C44&"-"&D44,C43&"-"&D43, IF(AE42=C45&"-"&D45,C46&"-"&D46,IF(AE42=C46&"-"&D46,C45&"-"&D45, IF(AE42=C47&"-"&D47,C48&"-"&D48,IF(AE42=C48&"-"&D48,C47&"-"&D47, IF(AE42=C49&"-"&D49,C50&"-"&D50,IF(AE42=C50&"-"&D50,C49&"-"&D49,"")))))))) -> 14-СОРОК ПЯТЫЙ Город 45 СДЮШОР 45 | I100: 10 | J100: =IF(I100=I101,"",IF(I100>I101,C100&"-"&D100,C101&"-"&D101)) -> -14-СОРОК ПЯТЫЙ Город 45 СДЮШОР 45 | W100: .
A101: 1 | D101: =IF(AE42=J35,J37,IF(AE42=J37,J35,IF(AE42=J39,J41,IF(AE42=J41,J39,IF(AE42=J43,J45,IF(AE42=J45,J43,IF(AE42=J47,J49,IF(AE42=J49,J47,"")))))))) -> 62-СОРОК ВОСЬМОЙ Город 48 СДЮШОР 48 | I101: 0 | O101: 10 | Q101: =IF(O101=O104,"",IF(O101>O104,J100,J103)) -> -14-СОРОК ПЯТЫЙ Город 45 СДЮШОР 45 | AD101: .
A102: 2 | V102: 0
A103: 3 | J103: =IF(AE42=Q36,Q40,IF(AE42=Q36,Q40,IF(AE42=Q44,Q48,IF(AE42=Q48,Q44,"")))) -> 38-СОРОК ВТОРОЙ Город 42 СДЮШОР 42 | W103: . | X103: =IF(V102=V106,"",IF(V102>V106,Q101,Q105)) -> 42-ТРИДЦАТЬ ВОСЬМОЙ Город 38 СДЮШОР 38 | AK103: .
A104: 4 | O104: 0 | AC104: 10
A105: 5 | D105: В | Q105: =IF(AC39=AC47,"",IF(AC39>AC47,X46,X38)) -> 42-ТРИДЦАТЬ ВОСЬМОЙ Город 38 СДЮШОР 38 | AD105: .
...

Sheet Дзюдо_32
R2: =Установки!J6&" "&Установки!J7 | AL2: =Установки!$C$5 -> ДЗЮДО
B3: 11 | C3: 1 | J3: =IF(I3=I4,"",IF(I3>I4,C3&"-"&D3,C4&"-"&D4)) | Q3: . | AJ3: 100 | AO3: ПЕРВЫЙ ПЕРВЫЙ Город 1 СДЮШОР 1 | AP3: 1 | AW3: 1
B4: 17 | C4: 17 | O4: 10 | Q4: =IF(O4=O6,"",IF(O4>O6,J3,J5)) | AD4: . | AO4: ВТОРОЙ ВТОРОЙ Город 2 СДЮШОР 2 | AP4: 2 | AW4: 17
B5: 6 | C5: 9 | J5: =IF(I5=I6,"",IF(I5>I6,C5&"-"&D5,C6&"-"&D6)) | Q5: . | V5: 0 | AO5: ТРЕТИЙ ТРЕТИЙ Город 3 СДЮШОР 3 | AP5: 3 | AW5: 9
B6: 25 | C6: 25 | O6: 0 | X6: =IF(V5=V9,"",IF(V5>V9,Q4,Q8)) | AH6: . | AO6: ЧЕТВЕРТЫЙ ЧЕТВЕРТЫЙ Город 4 СДЮШОР 4 | AP6: 4 | AW6: 25
B7: 9 | C7: 5 | J7: =IF(I7=I8,"",IF(I7>I8,C7&"-"&D7,C8&"-"&D8)) | Q7: . | AC7: 0 | AO7: ПЯТЫЙ ПЯТЫЙ Город 5 СДЮШОР 5 | AP7: 5 | AW7: 5
B8: 21 | C8: 21 | O8: 10 | Q8: =IF(O8=N10,"",IF(O8>N10,J7,J9)) | AD8: . | AO8: ШЕСТОЙ ШЕСТОЙ Город 6 СДЮШОР 6 | AP8: 6 | AW8: 21
B9: 3 | C9: 13 | J9: =IF(I9=I10,"",IF(I9>I10,C9&"-"&D9,C10&"-"&D10)) | Q9: . | V9: 7 | AO9: СЕДЬМОЙ СЕДЬМОЙ Город 7 СДЮШОР 7 | AP9: 7 | AW9: 13
B10: 29 | C10: 29 | O10: 0 | AE10: =IF(AC7=AC15,"",IF(AC7>AC15,X6,X14)) | AM10: . | AO10: ВОСЬМОЙ ВОСЬМОЙ Город 8 СДЮШОР 8 | AP10: 8 | AW10: 29
B11: 14 | C11: 3 | J11: =IF(I11=I12,"",IF(I11>I12,C11&"-"&D11,C12&"-"&D12)) | Q11: . | AJ11: 10 | AO11: ДЕВЯТЫЙ ДЕВЯТЫЙ Город 9 СДЮШОР 9 | AP11: 9 | AW11: 3
B12: 19 | C12: 19 | O12: 10 | Q12: =IF(O12=O14,"",IF(O12>O14,J11,J13)) | AD12: . | AO12: ДЕСЯТЫЙ ДЕСЯТЫЙ Город 10 СДЮШОР 10 | AP12: 10 | AW12: 19
B13: 7 | C13: 11 | J13: =IF(I13=I14,"",IF(I13>I14,C13&"-"&D13,C14&"-"&D14)) | Q13: . | V13: 0 | AO13: ОДИННАДЦАТЫЙ ОДИННАДЦАТЫЙ Город 11 СДЮШОР 11 | AP13: 11 | AW13: 11
B14: 27 | C14: 27 | O14: 0 | X14: =IF(V13=V17,"",IF(V13>V17,Q12,Q16)) | AH14: . | AO14: ДВЕНАДЦАТЫЙ ДВЕНАДЦАТЫЙ Город 12 СДЮШОР 12 | AP14: 12 | AW14: 27
B15: 15 | C15: 7 | J15: =IF(I15=I16,"",IF(I15>I16,C15&"-"&D15,C16&"-"&D16)) | Q15: . | AC15: 10 | AO15: ТРИНАДЦАТЫЙ ТРИНАДЦАТЫЙ Город 13 СДЮШОР 13 | AP15: 13 | AW15: 7
B16: 23 | C16: 23 | O16: 10 | Q16: =IF(O16=N18,"",IF(O16>N18,J15,J17)) | AD16: . | AO16: ЧЕТЫРНАДЦАТЫЙ ЧЕТЫРНАДЦАТЫЙ Город 14 СДЮШОР 14 | AP16: 14 | AW16: 23
B17: 2 | C17: 15 | J17: =IF(I17=I18,"",IF(I17>I18,C17&"-"&D17,C18&"-"&D18)) | Q17: . | V17: 10 | AO17: ПЯТНАДЦАТЫЙ ПЯТНАДЦАТЫЙ Город 15 СДЮШОР 15 | AP17: 15 | AW17: 15
B18: 31 | C18: 31 | O18: 0 | AC18: =IF(AJ11=AJ27,"",IF(AJ11>AJ27,AE10,AF26)) | AM18: . | AO18: ШЕСНАДЦАТЫЙ ШЕСНАДЦАТЫЙ Город 16 СДЮШОР 16 | AP18: 16 | AW18: 31
B19: 12 | C19: 2 | J19: =IF(I19=I20,"",IF(I19>I20,C19&"-"&D19,C20&"-"&D20)) | Q19: . | AF19: 1 место | AO19: СЕМНАДЦАТЫЙ СЕМНАДЦАТЫЙ Город 17 СДЮШОР 17 | AP19: 17 | AW19: 2
B20: 18 | C20: 18 | O20: 10 | Q20: =IF(O20=O22,"",IF(O20>O22,J19,J21)) | AD20: . | AO20: ВОСЕМНАДЦАТЫЙ ВОСЕМНАДЦАТЫЙ Город 18 СДЮШОР 18 | AP20: 18 | AW20: 18
B21: 5 | C21: 10 | J21: =IF(I21=I22,"",IF(I21>I22,C21&"-"&D21,C22&"-"&D22)) | Q21: . | V21: 0 | AO21: ДЕВЯТНАДЦАТЫЙ ДЕВЯТНАДЦАТЫЙ Город 19 СДЮШОР 19 | AP21: 19 | AW21: 10
B22: 26 | C22: 26 | O22: 0 | X22: =IF(V21=V25,"",IF(V21>V25,Q20,Q24)) | AH22: . | AO22: ДВАДЦАТЫЙ ДВАДЦАТЫЙ Город 20 СДЮШОР 20 | AP22: 20 | AW22: 26
B23: 10 | C23: 6 | J23: =IF(I23=I24,"",IF(I23>I24,C23&"-"&D23,C24&"-"&D24)) | Q23: . | AC23: 0 | AO23: ДВАДЦАТЬ ПЕРВЫЙ Город 21 СДЮШОР 21 | AP23: 21 | AW23: 6
B24: 22 | C24: 22 | O24: 10 | Q24: =IF(O24=N26,"",IF(O24>N26,J23,J25)) | AD24: . | AO24: ДВАДЦАТЬ ВТОРОЙ Город 22 СДЮШОР 22 | AP24: 22 | AW24: 22
B25: 4 | C25: 14 | J25: =IF(I25=I26,"",IF(I25>I26,C25&"-"&D25,C26&"-"&D26)) | Q25: . | V25: 10 | AO25: ДВАДЦАТЬ ТРЕТИЙ Город 23 СДЮШОР 23 | AP25: 23 | AW25: 14
B26: 30 | C26: 30 | O26: 0 | AE26: =IF(AC23=AC31,"",IF(AC23>AC31,X22,X30)) | AM26: . | AO26: ДВАДЦАТЬ ЧЕТВЕРТЫЙ Город 24 СДЮШОР 24 | AP26: 24 | AW26: 30
B27: 13 | C27: 4 | J27: =IF(I27=I28,"",IF(I27>I28,C27&"-"&D27,C28&"-"&D28)) | Q27: . | AJ27: 0 | AO27: ДВАДЦАТЬ ПЯТЫЙ Город 25 СДЮШОР 25 | AP27: 25 | AW27: 4
B28: 20 | C28: 20 | O28: 10 | Q28: =IF(O28=O30,"",IF(O28>O30,J27,J29)) | AD28: . | AO28: ДВАДЦАТЬ ШЕСТОЙ Город 26 СДЮШОР 26 | AP28: 26 | AW28: 20
B29: 8 | C29: 12 | J29: =IF(I29=I30,"",IF(I29>I30,C29&"-"&D29,C30&"-"&D30)) | Q29: . | V29: 0 | AO29: ДВАДЦАТЬ СЕДЬМОЙ Город 27 СДЮШОР 27 | AP29: 27 | AW29: 12
B30: 28 | C30: 28 | O30: 0 | X30: =IF(V29=V33,"",IF(V29>V33,Q28,Q32)) | AH30: . | AO30: ДВАДЦАТЬ ВОСЬМОЙ Город 28 СДЮШОР 28 | AP30: 28 | AW30: 28
B31: 16 | C31: 8 | J31: =IF(I31=I32,"",IF(I31>I32,C31&"-"&D31,C32&"-"&D32)) | Q31: . | AC31: 5 | AO31: ДВАДЦАТЬ ДЕВЯТЫЙ Город 29 СДЮШОР 29 | AP31: 29 | AW31: 8
B32: 24 | C32: 24 | O32: 10 | Q32: =IF(O32=N34,"",IF(O32>N34,J31,J33)) | AD32: . | AO32: ТРИДЦАТЫЙ ТРИДЦАТЫЙ Город 30 СДЮШОР 30 | AP32: 30 | AW32: 24
B33: 1 | C33: 16 | J33: =IF(I33=I34,"",IF(I33>I34,C33&"-"&D33,C34&"-"&D34)) | Q33: . | V33: 7 | AO33: ТРИДЦАТЬ ПЕРВЫЙ Город 31 СДЮШОР 31 | AP33: 31 | AW33: 16
B34: 32 | C34: 32 | O34: 0 | AO34: ТРИДЦАТЬ ВТОРОЙ Город 32 СДЮШОР 32 | AP34: 32 | AW34: 32
AP35: 33
AP36: 34
D37: Утешительная стадия соревнований | AP37: 35 | AX37: Утешительная стадия соревнований
D38: =IF(X6=C3&"-"&D3,C4&"-"&D4,IF(X6=C4&"-"&D4,C3&"-"&D3, IF(X6=C5&"-"&D5,C6&"-"&D6,IF(X6=C6&"-"&D6,C5&"-"&D5, IF(X6=C7&"-"&D7,C8&"-"&D8,IF(X6=C8&"-"&D8,C7&"-"&D7, IF(X6=C9&"-"&D9,C10&"-"&D10,IF(X6=C10&"-"&D10,C9&"-"&D9,"")))))))) | I38: 10 | J38: =IF(I38=I39,"",IF(I38>I39,D38,D39)) | Q38: . | AP38: 36
D39: =IF(X6=J3,J5,IF(X6=J5,J3, IF(X6=J7,J9,IF(X6=J9,J7, IF(X6=J11,J13,IF(X6=J13,J11, IF(X6=J15,J17,IF(X6=J17,J15,"")))))))) | I39: 0 | O39: 10 | Q39: =IF(O39=O42,"",IF(O39>O42,J38,J41)) | AB39: . | AP39: 37
V40: 0 | AP40: 38
J41: =IF(V5=V9,"",IF(V5>V9,Q8,Q4)) | Q41: . | AP41: 39
O42: 0 | X42: =IF(V40=V46,"",IF(V40>V46,Q39,Q45)) | AL42: . | AP42: 40
AC43: 0 | AP43: 41
D44: =IF(X14=C11&"-"&D11,C12&"-"&D12,IF(X14=C12&"-"&D12,C11&"-"&D11, IF(X14=C13&"-"&D13,C14&"-"&D14,IF(X14=C14&"-"&D14,C13&"-"&D13, IF(X14=C15&"-"&D15,C16&"-"&D16,IF(X14=C16&"-"&D16,C15&"-"&D15, IF(X14=C17&"-"&D17,C18&"-"&D18,IF(X14=C18&"-"&D18,C17&"-"&D17,"")))))))) | I44: 10 | J44: =IF(I44=I45,"",IF(I44>I45,D44,D45)) | Q44: . | AP44: 42
D45: =IF(X14=J11,J13,IF(X14=J13,J11, IF(X14=J15,J17,IF(X14=J17,J15, IF(X14=J19,J21,IF(X14=J21,J19, IF(X14=J23,J25,IF(X14=J25,J23,"")))))))) | I45: 0 | O45: 7 | Q45: =IF(O45=O48,"",IF(O45>O48,J44,#REF!)) | AB45: . | AP45: 43
V46: 10 | AB46: =IF(AC43=AC50,"",IF(AC43>AC50,X42,X49)) | AM46: . | AP46: 44
J47: =IF(V13=V17,"",IF(V13>V17,Q16,Q12)) | Q47: . | AB47: 3 место | AP47: 45
O48: 0 | AP48: 46
X49: =IF(AC23=AC31,"",IF(AC23>AC31,Y30,X22)) | AL49: . | AP49: 47
AC50: 10 | AP50: 48
AP51: 49
A52: 1 | AP52: 50
A53: 2 | AP53: 51
A54: 3 | AP54: 52
A55: 4 | D55: =IF(X22=C19&"-"&D19,C20&"-"&D20,IF(X22=C20&"-"&D20,C19&"-"&D19, IF(X22=C21&"-"&D21,C22&"-"&D22,IF(X22=C22&"-"&D22,C21&"-"&D21, IF(X22=C23&"-"&D23,C24&"-"&D24,IF(X22=C24&"-"&D24,C23&"-"&D23, IF(X22=C25&"-"&D25,C26&"-"&D26,IF(X22=C26&"-"&D26,C25&"-"&D25,"")))))))) | I55: 10 | J55: =IF(I55=I56,"",IF(I55>I56,D55,D56)) | Q55: . | AP55: 53
A56: 5 | D56: =IF(X22=J19,J21,IF(X22=J21,J19, IF(X22=J23,J25,IF(X22=J25,J23, IF(X22=J27,J29,IF(X22=J29,J27, IF(X22=J31,J33,IF(X22=J33,J31,"")))))))) | I56: 0 | O56: 5 | Q56: =IF(O56=O59,"",IF(O56>O59,J55,J58)) | AB56: . | AP56: 54
A57: 6 | V57: 0 | AP57: 55
A58: 7 | J58: =IF(V21=V25,"",IF(V21>V25,Q24,Q20)) | Q58: . | AP58: 56
A59: 8 | O59: 0 | X59: =IF(V57=V63,"",IF(V57>V63,Q56,Q62)) | AL59: . | AP59: 57
AC60: 5 | AP60: 58
D61: =IF(X30=C27&"-"&D27,C28&"-"&D28,IF(X30=C28&"-"&D28,C27&"-"&D27, IF(X30=C29&"-"&D29,C30&"-"&D30,IF(X30=C30&"-"&D30,C29&"-"&D29, IF(X30=C31&"-"&D31,C32&"-"&D32,IF(X30=C32&"-"&D32,C31&"-"&D31, IF(X30=C33&"-"&D33,C34&"-"&D34,IF(X30=C34&"-"&D34,C33&"-"&D33,"")))))))) | I61: 10 | J61: =IF(I61=I62,"",IF(I61>I62,D61,D62)) | Q61: . | AP61: 59
D62: =IF(X30=J27,J29,IF(X30=J29,J27, IF(X30=J31,J33,IF(X30=J33,J31, IF(X30=J35,J37,IF(X30=J37,J35, IF(X30=J39,#REF!,IF(X30=#REF!,J39,"")))))))) | I62: 0 | O62: 5 | Q62: =IF(O62=O65,"",IF(O62>O65,J61,J64)) | AB62: . | AP62: 60
V63: 5 | AB63: =IF(AC60=AC67,"",IF(AC60>AC67,X59,X66)) | AM63: . | AP63: 61
J64: =IF(V29=V33,"",IF(V29>V33,Q32,Q28)) | Q64: . | AB64: 3 место | AP64: 62
O65: 0 | AP65: 63
X66: =IF(AC7=AC15,"",IF(AC7>AC15,X14,X6)) | AL66: . | AP66: 64
AC67: 0 | AP67: 65
D130: СЕКТОР ЖЕРЕБЬЕВКИ | AX130: СЕКТОР ЖЕРЕБЬЕВКИ
A131: 1 | B131: 11 | C131: 1 | AW131: 1
A132: 2 | B132: 17 | C132: 17 | AW132: 17
A133: 3 | B133: 6 | C133: 9 | AW133: 9
A134: 4 | B134: 25 | C134: 25 | AW134: 25
A135: 5 | B135: 9 | C135: 5 | AW135: 5
A136: 6 | B136: 21 | C136: 21 | AW136: 21
A137: 7 | B137: 3 | C137: 13 | AW137: 13
A138: 8 | B138: 29 | C138: 29 | AW138: 29
A139: 9 | B139: 14 | C139: 3 | AW139: 3
A140: 10 | B140: 19 | C140: 19 | AW140: 19
A141: 11 | B141: 7 | C141: 11 | AW141: 11
A142: 12 | B142: 27 | C142: 27 | AW142: 27
... A162: 32 | B162: 32 | C162: 32 | AW162: 32
A199: 1 | C199: =IF($AJ$3=ФИО!D3,ФИО!D3,"") | D199: =IF($AJ$3=ФИО!D3,ФИО!G3&" "&ФИО!H3&" "&ФИО!N3&" "&ФИО!O3,"") | AW199: =ФИО!AX3 -> 0 | AX199: =IF($AJ$3=ФИО!AX3,ФИО!BA3&" "&ФИО!BB3&" "&ФИО!BC3,"")
A200: 2 | C200: =IF($AJ$3=ФИО!D4,ФИО!D4,"") | D200: =IF($AJ$3=ФИО!D4,ФИО!G4&" "&ФИО!H4&" "&ФИО!N4&" "&ФИО!O4,"") | AW200: =ФИО!AX4 -> 0 | AX200: =IF($AJ$3=ФИО!AX4,ФИО!BA4&" "&ФИО!BB4&" "&ФИО!BC4,"")
A201: 3 | C201: =IF($AJ$3=ФИО!D5,ФИО!D5,"") | D201: =IF($AJ$3=ФИО!D5,ФИО!G5&" "&ФИО!H5&" "&ФИО!N5&" "&ФИО!O5,"") | AW201: =ФИО!AX5 -> 0 | AX201: =IF($AJ$3=ФИО!AX5,ФИО!BA5&" "&ФИО!BB5&" "&ФИО!BC5,"")
A202: 4 | C202: =IF($AJ$3=ФИО!D6,ФИО!D6,"") | D202: =IF($AJ$3=ФИО!D6,ФИО!G6&" "&ФИО!H6&" "&ФИО!N6&" "&ФИО!O6,"") | AW202: =ФИО!AX6 -> 0 | AX202: =IF($AJ$3=ФИО!AX6,ФИО!BA6&" "&ФИО!BB6&" "&ФИО!BC6,"")
A203: 5 | C203: =IF($AJ$3=ФИО!D7,ФИО!D7,"") | D203: =IF($AJ$3=ФИО!D7,ФИО!G7&" "&ФИО!H7&" "&ФИО!N7&" "&ФИО!O7,"") | AW203: =ФИО!AX7 -> 0 | AX203: =IF($AJ$3=ФИО!AX7,ФИО!BA7&" "&ФИО!BB7&" "&ФИО!BC7,"")
A204: 6 | C204: =IF($AJ$3=ФИО!D8,ФИО!D8,"") | D204: =IF($AJ$3=ФИО!D8,ФИО!G8&" "&ФИО!H8&" "&ФИО!N8&" "&ФИО!O8,"") | AW204: =ФИО!AX8 -> 0 | AX204: =IF($AJ$3=ФИО!AX8,ФИО!BA8&" "&ФИО!BB8&" "&ФИО!BC8,"")
A205: 7 | C205: =IF($AJ$3=ФИО!D9,ФИО!D9,"") | D205: =IF($AJ$3=ФИО!D9,ФИО!G9&" "&ФИО!H9&" "&ФИО!N9&" "&ФИО!O9,"") | AW205: =ФИО!AX9 -> 0 | AX205: =IF($AJ$3=ФИО!AX9,ФИО!BA9&" "&ФИО!BB9&" "&ФИО!BC9,"")
A206: 8 | C206: =IF($AJ$3=ФИО!D10,ФИО!D10,"") | D206: =IF($AJ$3=ФИО!D10,ФИО!G10&" "&ФИО!H10&" "&ФИО!N10&" "&ФИО!O10,"") | AW206: =ФИО!AX10 -> 0 | AX206: =IF($AJ$3=ФИО!AX10,ФИО!BA10&" "&ФИО!BB10&" "&ФИО!BC10,"")
A207: 9 | C207: =IF($AJ$3=ФИО!D11,ФИО!D11,"") | D207: =IF($AJ$3=ФИО!D11,ФИО!G11&" "&ФИО!H11&" "&ФИО!N11&" "&ФИО!O11,"") | AW207: =ФИО!AX11 -> 0 | AX207: =IF($AJ$3=ФИО!AX11,ФИО!BA11&" "&ФИО!BB11&" "&ФИО!BC11,"")
A208: 10 | C208: =IF($AJ$3=ФИО!D12,ФИО!D12,"") | D208: =IF($AJ$3=ФИО!D12,ФИО!G12&" "&ФИО!H12&" "&ФИО!N12&" "&ФИО!O12,"") | AW208: =ФИО!AX12 -> 0 | AX208: =IF($AJ$3=ФИО!AX12,ФИО!BA12&" "&ФИО!BB12&" "&ФИО!BC12,"")
A209: 11 | C209: =IF($AJ$3=ФИО!D13,ФИО!D13,"") | D209: =IF($AJ$3=ФИО!D13,ФИО!G13&" "&ФИО!H13&" "&ФИО!N13&" "&ФИО!O13,"") | AW209: =ФИО!AX13 -> 0 | AX209: =IF($AJ$3=ФИО!AX13,ФИО!BA13&" "&ФИО!BB13&" "&ФИО!BC13,"")
A210: 12 | C210: =IF($AJ$3=ФИО!D14,ФИО!D14,"") | D210: =IF($AJ$3=ФИО!D14,ФИО!G14&" "&ФИО!H14&" "&ФИО!N14&" "&ФИО!O14,"") | AW210: =ФИО!AX14 -> 0 | AX210: =IF($AJ$3=ФИО!AX14,ФИО!BA14&" "&ФИО!BB14&" "&ФИО!BC14,"")
... A398: 200 | C398: =IF($AJ$3=ФИО!D202,ФИО!D202,"") | D398: =IF($AJ$3=ФИО!D202,ФИО!G202&" "&ФИО!H202&" "&ФИО!N202&" "&ФИО!O202,"") | AW398: =ФИО!AX202 -> 0 | AX398: =IF($AJ$3=ФИО!AX202,ФИО!BA202&" "&ФИО!BB202&" "&ФИО!BC202,"")

Sheet Дзюдо_16
AL2: =Установки!$C$5 -> ДЗЮДО
B3: 6 | C3: 1 | I3: 10 | J3: =IF(I3=I4,"",IF(I3>I4,C3&"-"&D3,C4&"-"&D4)) -> 1- | Q3: . | AP3: 1 | AW3: 1
B4: 9 | C4: 9 | I4: 0 | O4: 10 | Q4: =IF(O4=O6,"",IF(O4>O6,J3,J5)) -> 1- | Z4: . | AP4: 2 | AW4: 9
B5: 3 | C5: 5 | I5: 10 | J5: =IF(I5=I6,"",IF(I5>I6,C5&"-"&D5,C6&"-"&D6)) -> 5- | Q5: . | V5: 0 | AP5: 3 | AW5: 5
B6: 13 | C6: 13 | I6: 0 | O6: 0 | X6: =IF(V5=V9,"",IF(V5>V9,Q4,Q8)) -> 3- | AI6: . | AP6: 4 | AW6: 13
B7: 7 | C7: 3 | I7: 10 | J7: =IF(I7=I8,"",IF(I7>I8,C7&"-"&D7,C8&"-"&D8)) -> 3- | Q7: . | AC7: 10 | AP7: 5 | AW7: 3
B8: 11 | C8: 11 | I8: 0 | O8: 10 | Q8: =IF(O8=N10,"",IF(O8>N10,J7,J9)) -> 3- | Z8: . | AP8: 6 | AW8: 11
B9: 2 | C9: 7 | I9: 10 | J9: =IF(I9=I10,"",IF(I9>I10,C9&"-"&D9,C10&"-"&D10)) -> 7- | Q9: . | V9: 10 | AP9: 7 | AW9: 7
B10: 15 | C10: 15 | I10: 0 | O10: 0 | AB10: =IF(AC7=AC15,"",IF(AC7>AC15,X6,X14)) -> 3- | AM10: . | AP10: 8 | AW10: 15
B11: 5 | C11: 2 | I11: 10 | J11: =IF(I11=I12,"",IF(I11>I12,C11&"-"&D11,C12&"-"&D12)) -> 2- | Q11: . | AB11: 1 место | AP11: 9 | AW11: 2
B12: 10 | C12: 10 | I12: 0 | O12: 10 | Q12: =IF(O12=O14,"",IF(O12>O14,J11,J13)) -> 2- | Z12: . | AP12: 10 | AW12: 10
B13: 4 | C13: 6 | I13: 10 | J13: =IF(I13=I14,"",IF(I13>I14,C13&"-"&D13,C14&"-"&D14)) -> 6- | Q13: . | V13: 0 | AP13: 11 | AW13: 6
B14: 14 | C14: 14 | I14: 0 | O14: 0 | X14: =IF(V13=V17,"",IF(V13>V17,Q12,Q16)) -> 4- | AI14: . | AP14: 12 | AW14: 14
B15: 8 | C15: 4 | I15: 10 | J15: =IF(I15=I16,"",IF(I15>I16,C15&"-"&D15,C16&"-"&D16)) -> 4- | Q15: . | AC15: 0 | AP15: 13 | AW15: 4
B16: 12 | C16: 12 | I16: 0 | O16: 10 | Q16: =IF(O16=N18,"",IF(O16>N18,J15,J17)) -> 4- | Z16: . | AP16: 14 | AW16: 12
B17: 1 | C17: 8 | I17: 10 | J17: =IF(I17=I18,"",IF(I17>I18,C17&"-"&D17,C18&"-"&D18)) -> 8- | Q17: . | V17: 10 | AP17: 15 | AW17: 8
B18: 16 | C18: 16 | I18: 0 | O18: 0 | AP18: 16 | AW18: 16
AP19: 17
AP20: 18
D21: Утешительная стадия соревнований | AP21: 19 | AX21: Утешительная стадия соревнований
D22: =IF(Q4=C3&"-"&D3,C4&"-"&D4,IF(Q4=C4&"-"&D4,C3&"-"&D3, IF(Q4=C5&"-"&D5,C6&"-"&D6,IF(Q4=C6&"-"&D6,C5&"-"&D5,"")))) -> 9- | I22: 0 | J22: =IF(I22=I23,"",IF(I22>I23,D22,D23)) -> 5- | V22: . | AP22: 20
D23: =IF(O4=O6,"",IF(O4>O6,J5,J3)) -> 5- | I23: 10 | O23: 10 | AP23: 21
Q24: =IF(O23=O27,"",IF(O23>O27,J22,J26)) -> 5- | AE24: . | AP24: 22
V25: 10 | AP25: 23
D26: =IF(Q8=C7&"-"&D7,C8&"-"&D8,IF(Q8=C8&"-"&D8,C7&"-"&D7, IF(Q8=C9&"-"&D9,C10&"-"&D10,IF(Q8=C10&"-"&D10,C9&"-"&D9,"")))) -> 11- | I26: 0 | J26: =IF(I26=I27,"",IF(I26>I27,D26,D27)) -> 7- | V26: . | AP26: 24
D27: =IF(O8=O10,"",IF(O8>O10,J9,J7)) -> 7- | I27: 10 | O27: 0 | X27: =IF(V25=V30,"",IF(V25>V30,Q24,Q29)) -> 5- | AM27: . | AP27: 25
Y28: 3 место | AP28: 26
Q29: =IF(V13=V17,"",IF(V13>V17,Q16,Q12)) -> 2- | AF29: . | AP29: 27
V30: 0 | AP30: 28
AP31: 29
AP32: 30
A33: 1 | AP33: 31
A34: 2 | D34: =IF(Q12=C11&"-"&D11,C12&"-"&D12,IF(Q12=C12&"-"&D12,C11&"-"&D11, IF(Q12=C13&"-"&D13,C14&"-"&D14,IF(Q12=C14&"-"&D14,C13&"-"&D13,"")))) -> 10- | I34: 0 | J34: =IF(I34=I35,"",IF(I34>I35,D34,D35)) -> 6- | V34: . | AP34: 32
A35: 3 | D35: =IF(O12=O14,"",IF(O12>O14,J13,J11)) -> 6- | I35: 10 | O35: 10 | AP35: 33
A36: 4 | Q36: =IF(O35=O39,"",IF(O35>O39,J34,J38)) -> 6- | AF36: . | AP36: 34
V37: 0 | AP37: 35
D38: =IF(Q16=C15&"-"&D15,C16&"-"&D16,IF(Q16=C16&"-"&D16,C15&"-"&D15, IF(Q16=C17&"-"&D17,C18&"-"&D18,IF(Q16=C18&"-"&D18,C17&"-"&D17,"")))) -> 12- | I38: 0 | J38: =IF(I38=I39,"",IF(I38>I39,D38,D39)) -> 8- | V38: . | AP38: 36
D39: =IF(O16=O18,"",IF(O16>O18,J17,J15)) -> 8- | I39: 7 | O39: 0 | X39: =IF(V37=V42,"",IF(V37>V42,Q36,Q41)) -> 1- | AM39: . | AP39: 37
Y40: 3 место | AP40: 38
Q41: =IF(V5=V9,"",IF(V5>V9,Q8,Q4)) -> 1- | AF41: . | AP41: 39
V42: 10 | AP42: 40
AP43: 41
AP44: 42
AP45: 43
AP46: 44
AP47: 45
AP48: 46
AP49: 47
AP50: 48
AP51: 49
AP52: 50
AP53: 51
AP54: 52
... AP67: 65
D130: СЕКТОР ЖЕРЕБЬЕВКИ | AX130: СЕКТОР ЖЕРЕБЬЕВКИ
A131: 1 | B131: 6 | C131: 1 | AW131: 1
A132: 2 | B132: 9 | C132: 9 | AW132: 9
A133: 3 | B133: 3 | C133: 5 | AW133: 5
A134: 4 | B134: 13 | C134: 13 | AW134: 13
A135: 5 | B135: 7 | C135: 3 | AW135: 3
A136: 6 | B136: 11 | C136: 11 | AW136: 11
A137: 7 | B137: 2 | C137: 7 | AW137: 7
A138: 8 | B138: 15 | C138: 15 | AW138: 15
A139: 9 | B139: 5 | C139: 2 | AW139: 2
A140: 10 | B140: 10 | C140: 10 | AW140: 10
A141: 11 | B141: 4 | C141: 6 | AW141: 6
A142: 12 | B142: 14 | C142: 14 | AW142: 14
... A146: 16 | B146: 16 | C146: 16 | AW146: 16
A199: 1 | C199: =IF($AJ$3=ФИО!D3,ФИО!D3,"") | D199: =IF($AJ$3=ФИО!D3,ФИО!G3&" "&ФИО!H3&" "&ФИО!N3&" "&ФИО!O3,"") | AW199: =ФИО!AX3 -> 0 | AX199: =IF($AJ$3=ФИО!AX3,ФИО!BA3&" "&ФИО!BB3&" "&ФИО!BC3,"")
A200: 2 | C200: =IF($AJ$3=ФИО!D4,ФИО!D4,"") | D200: =IF($AJ$3=ФИО!D4,ФИО!G4&" "&ФИО!H4&" "&ФИО!N4&" "&ФИО!O4,"") | AW200: =ФИО!AX4 -> 0 | AX200: =IF($AJ$3=ФИО!AX4,ФИО!BA4&" "&ФИО!BB4&" "&ФИО!BC4,"")
A201: 3 | C201: =IF($AJ$3=ФИО!D5,ФИО!D5,"") | D201: =IF($AJ$3=ФИО!D5,ФИО!G5&" "&ФИО!H5&" "&ФИО!N5&" "&ФИО!O5,"") | AW201: =ФИО!AX5 -> 0 | AX201: =IF($AJ$3=ФИО!AX5,ФИО!BA5&" "&ФИО!BB5&" "&ФИО!BC5,"")
A202: 4 | C202: =IF($AJ$3=ФИО!D6,ФИО!D6,"") | D202: =IF($AJ$3=ФИО!D6,ФИО!G6&" "&ФИО!H6&" "&ФИО!N6&" "&ФИО!O6,"") | AW202: =ФИО!AX6 -> 0 | AX202: =IF($AJ$3=ФИО!AX6,ФИО!BA6&" "&ФИО!BB6&" "&ФИО!BC6,"")
A203: 5 | C203: =IF($AJ$3=ФИО!D7,ФИО!D7,"") | D203: =IF($AJ$3=ФИО!D7,ФИО!G7&" "&ФИО!H7&" "&ФИО!N7&" "&ФИО!O7,"") | AW203: =ФИО!AX7 -> 0 | AX203: =IF($AJ$3=ФИО!AX7,ФИО!BA7&" "&ФИО!BB7&" "&ФИО!BC7,"")
A204: 6 | C204: =IF($AJ$3=ФИО!D8,ФИО!D8,"") | D204: =IF($AJ$3=ФИО!D8,ФИО!G8&" "&ФИО!H8&" "&ФИО!N8&" "&ФИО!O8,"") | AW204: =ФИО!AX8 -> 0 | AX204: =IF($AJ$3=ФИО!AX8,ФИО!BA8&" "&ФИО!BB8&" "&ФИО!BC8,"")
A205: 7 | C205: =IF($AJ$3=ФИО!D9,ФИО!D9,"") | D205: =IF($AJ$3=ФИО!D9,ФИО!G9&" "&ФИО!H9&" "&ФИО!N9&" "&ФИО!O9,"") | AW205: =ФИО!AX9 -> 0 | AX205: =IF($AJ$3=ФИО!AX9,ФИО!BA9&" "&ФИО!BB9&" "&ФИО!BC9,"")
A206: 8 | C206: =IF($AJ$3=ФИО!D10,ФИО!D10,"") | D206: =IF($AJ$3=ФИО!D10,ФИО!G10&" "&ФИО!H10&" "&ФИО!N10&" "&ФИО!O10,"") | AW206: =ФИО!AX10 -> 0 | AX206: =IF($AJ$3=ФИО!AX10,ФИО!BA10&" "&ФИО!BB10&" "&ФИО!BC10,"")
A207: 9 | C207: =IF($AJ$3=ФИО!D11,ФИО!D11,"") | D207: =IF($AJ$3=ФИО!D11,ФИО!G11&" "&ФИО!H11&" "&ФИО!N11&" "&ФИО!O11,"") | AW207: =ФИО!AX11 -> 0 | AX207: =IF($AJ$3=ФИО!AX11,ФИО!BA11&" "&ФИО!BB11&" "&ФИО!BC11,"")
A208: 10 | C208: =IF($AJ$3=ФИО!D12,ФИО!D12,"") | D208: =IF($AJ$3=ФИО!D12,ФИО!G12&" "&ФИО!H12&" "&ФИО!N12&" "&ФИО!O12,"") | AW208: =ФИО!AX12 -> 0 | AX208: =IF($AJ$3=ФИО!AX12,ФИО!BA12&" "&ФИО!BB12&" "&ФИО!BC12,"")
A209: 11 | C209: =IF($AJ$3=ФИО!D13,ФИО!D13,"") -> 0 | D209: =IF($AJ$3=ФИО!D13,ФИО!G13&" "&ФИО!H13&" "&ФИО!N13&" "&ФИО!O13,"") -> Дубовская Елизавета Могилев МГУОР | AW209: =ФИО!AX13 -> 0 | AX209: =IF($AJ$3=ФИО!AX13,ФИО!BA13&" "&ФИО!BB13&" "&ФИО!BC13,"")
A210: 12 | C210: =IF($AJ$3=ФИО!D14,ФИО!D14,"") | D210: =IF($AJ$3=ФИО!D14,ФИО!G14&" "&ФИО!H14&" "&ФИО!N14&" "&ФИО!O14,"") | AW210: =ФИО!AX14 -> 0 | AX210: =IF($AJ$3=ФИО!AX14,ФИО!BA14&" "&ФИО!BB14&" "&ФИО!BC14,"")
... A398: 200 | C398: =IF($AJ$3=ФИО!D202,ФИО!D202,"") | D398: =IF($AJ$3=ФИО!D202,ФИО!G202&" "&ФИО!H202&" "&ФИО!N202&" "&ФИО!O202,"") | AW398: =ФИО!AX202 -> 0 | AX398: =IF($AJ$3=ФИО!AX202,ФИО!BA202&" "&ФИО!BB202&" "&ФИО!BC202,"")

Sheet Дзюдо_8
D1: Кубок А.Мельникова в программе Первенства РБ среди юниорок
F2: 28.02-1.03.2018 | G2: 28.02-1.03.2018 | H2: 28.02-1.03.2018 | I2: 28.02-1.03.2018 | J2: 28.02-1.03.2018 | K2: 28.02-1.03.2018 | L2: 28.02-1.03.2018 | M2: 28.02-1.03.2018 | N2: 28.02-1.03.2018 | O2: 28.02-1.03.2018 | P2: 16-18.01.2020 | AM2: =Установки!$C$5 -> ДЗЮДО
AJ3: 48 | AP3: 1 | AW3: 1
AP4: 2 | AW4: 5
B5: 3 | C5: 1 | D5: Романюк Елена Могилев | I5: 0 | J5: =IF(I5=I6,"",IF(I5>I6,C5&"-"&D5,C6&"-"&D6)) -> 5-Василевская Каролина Гродно | Q5: . | AP5: 3 | AW5: 3
B6: 6 | C6: 5 | D6: Василевская Каролина Гродно | I6: 10 | O6: 0 | Q6: =IF(O6=O8,"",IF(O6>O8,J5,J7)) -> 3-Сингаевская Евгения Ельск | AB6: . | AP6: 4 | AW6: 7
B7: 2 | C7: 3 | D7: Сингаевская Евгения Ельск | I7: 10 | J7: =IF(I7=I8,"",IF(I7>I8,C7&"-"&D7,C8&"-"&D8)) -> 3-Сингаевская Евгения Ельск | Q7: . | V7: 0 | AP7: 5 | AW7: 2
B8: 7 | C8: 7 | I8: 0 | O8: 10 | X8: =IF(V7=V11,"",IF(V7>V11,Q6,Q10)) -> 2-Коновалова Александра Гомель | AM8: . | AP8: 6 | AW8: 6
B9: 4 | C9: 2 | D9: Коновалова Александра Гомель | I9: 10 | J9: =IF(I9=I10,"",IF(I9>I10,C9&"-"&D9,C10&"-"&D10)) -> 2-Коновалова Александра Гомель | Q9: . | Y9: 1 место | AP9: 7 | AW9: 4
B10: 5 | C10: 6 | D10: Щербакова Ульяна Ляховичи | I10: 0 | O10: 10 | Q10: =IF(O10=O12,"",IF(O10>O12,J9,J11)) -> 2-Коновалова Александра Гомель | AB10: . | AP10: 8 | AW10: 8
B11: 1 | C11: 4 | D11: Стригун Ангелина Могилев | I11: 10 | J11: =IF(I11=I12,"",IF(I11>I12,C11&"-"&D11,C12&"-"&D12)) -> 4-Стригун Ангелина Могилев | Q11: . | V11: 10 | AP11: 9
B12: 8 | C12: 8 | I12: 0 | O12: 0 | AP12: 10
AP13: 11 | AX13: Утешительная стадия соревнований
AP14: 12
D15: Утешительная стадия соревнований | AP15: 13
D16: =IF(I5=I6,"",IF(I5>I6,C6&"-"&D6,C5&"-"&D5)) -> 1-Романюк Елена Могилев | I16: 10 | J16: =IF(I16=I17,"",IF(I16>I17,D16,D17)) -> 1-Романюк Елена Могилев | AP16: 14
D17: =IF(I8=I9,"",IF(I8>I9,C9&"-"&D9,C8&"-"&D8)) -> 7- | I17: 0 | O17: 0 | AP17: 15
Q18: =IF(O17=O21,"",IF(O17>O21,J16,J20)) -> 4-Стригун Ангелина Могилев | AP18: 16
R19: 3 место | AP19: 17
J20: =IF(O10=O12,"",IF(O10>O12,J11,J9)) -> 4-Стригун Ангелина Могилев | AP20: 18
O21: 10 | AP21: 19
AP22: 20
AP23: 21
D24: =IF(I8=I9,"",IF(I8>I9,C9&"-"&D9,C10&"-"&D10)) -> 6-Щербакова Ульяна Ляховичи | I24: 10 | J24: =IF(I24=I25,"",IF(I24>I25,D24,D25)) -> 6-Щербакова Ульяна Ляховичи | AP24: 22
D25: =IF(I11=I12,"",IF(I11>I12,C12&"-"&D12,C11&"-"&D11)) -> 8- | I25: 0 | O25: 10 | AP25: 23
Q26: =IF(O25=O29,"",IF(O25>O29,J24,J28)) -> 6-Щербакова Ульяна Ляховичи | AP26: 24
R27: 3 место | AP27: 25
J28: =IF(O6=O8,"",IF(O6>O8,J7,J5)) -> 5-Василевская Каролина Гродно | AP28: 26
O29: 0 | AP29: 27
AP30: 28
AP31: 29
D32: 1-Коновалова Александра Гомель | AP32: 30
D33: 2-Сингаевская Евгения Ельск | O33: . | AP33: 31
D34: 3-Стригун Ангелина Могилев | AP34: 32
D35: 3-Щербакова Ульяна Ляховичи | AP35: 33
D36: 5-Романюк Елена Могилев | AP36: 34
D37: 5-Василевская Каролина Гродно | AP37: 35
AP38: 36
AP39: 37
AP40: 38
AP41: 39
AP42: 40
AP43: 41
AP44: 42
AP45: 43
AP46: 44
AP47: 45
AP48: 46
D49: Главный судья Плахов В.А. | I49: Михаль Р.Н. | AP49: 47
AP50: 48
D51: Главный секретарь Муравская Т В | AP51: 49
AP52: 50
AP53: 51
AP54: 52
AP55: 53
AP56: 54
AP57: 55
AP58: 56
AP59: 57
AP60: 58
AP61: 59
AP62: 60
AP63: 61
... AP67: 65
D130: СЕКТОР ЖЕРЕБЬЕВКИ | AX130: СЕКТОР ЖЕРЕБЬЕВКИ
A131: 1 | B131: 3 | C131: 1 | AW131: 1
A132: 2 | B132: 6 | C132: 5 | AW132: 5
A133: 3 | B133: 2 | C133: 3 | AW133: 3
A134: 4 | B134: 7 | C134: 7 | AW134: 7
A135: 5 | B135: 4 | C135: 2 | AW135: 2
A136: 6 | B136: 5 | C136: 6 | AW136: 6
A137: 7 | B137: 1 | C137: 4 | AW137: 4
A138: 8 | B138: 8 | C138: 8 | AW138: 8
A199: 1 | C199: =IF($AJ$3=ФИО!D3,ФИО!D3,"") | D199: =IF($AJ$3=ФИО!D3,ФИО!G3&" "&ФИО!H3&" "&ФИО!N3&" "&ФИО!O3,"") | AW199: =ФИО!AX3 -> 0 | AX199: =IF($AJ$3=ФИО!AX3,ФИО!BA3&" "&ФИО!BB3&" "&ФИО!BC3,"")
A200: 2 | C200: =IF($AJ$3=ФИО!D4,ФИО!D4,"") | D200: =IF($AJ$3=ФИО!D4,ФИО!G4&" "&ФИО!H4&" "&ФИО!N4&" "&ФИО!O4,"") | AW200: =ФИО!AX4 -> 0 | AX200: =IF($AJ$3=ФИО!AX4,ФИО!BA4&" "&ФИО!BB4&" "&ФИО!BC4,"")
A201: 3 | C201: =IF($AJ$3=ФИО!D5,ФИО!D5,"") | D201: =IF($AJ$3=ФИО!D5,ФИО!G5&" "&ФИО!H5&" "&ФИО!N5&" "&ФИО!O5,"") | AW201: =ФИО!AX5 -> 0 | AX201: =IF($AJ$3=ФИО!AX5,ФИО!BA5&" "&ФИО!BB5&" "&ФИО!BC5,"")
A202: 4 | C202: =IF($AJ$3=ФИО!D6,ФИО!D6,"") | D202: =IF($AJ$3=ФИО!D6,ФИО!G6&" "&ФИО!H6&" "&ФИО!N6&" "&ФИО!O6,"") | AW202: =ФИО!AX6 -> 0 | AX202: =IF($AJ$3=ФИО!AX6,ФИО!BA6&" "&ФИО!BB6&" "&ФИО!BC6,"")
A203: 5 | C203: =IF($AJ$3=ФИО!D7,ФИО!D7,"") | D203: =IF($AJ$3=ФИО!D7,ФИО!G7&" "&ФИО!H7&" "&ФИО!N7&" "&ФИО!O7,"") | AW203: =ФИО!AX7 -> 0 | AX203: =IF($AJ$3=ФИО!AX7,ФИО!BA7&" "&ФИО!BB7&" "&ФИО!BC7,"")
A204: 6 | C204: =IF($AJ$3=ФИО!D8,ФИО!D8,"") | D204: =IF($AJ$3=ФИО!D8,ФИО!G8&" "&ФИО!H8&" "&ФИО!N8&" "&ФИО!O8,"") | AW204: =ФИО!AX8 -> 0 | AX204: =IF($AJ$3=ФИО!AX8,ФИО!BA8&" "&ФИО!BB8&" "&ФИО!BC8,"")
A205: 7 | C205: =IF($AJ$3=ФИО!D9,ФИО!D9,"") | D205: =IF($AJ$3=ФИО!D9,ФИО!G9&" "&ФИО!H9&" "&ФИО!N9&" "&ФИО!O9,"") | AW205: =ФИО!AX9 -> 0 | AX205: =IF($AJ$3=ФИО!AX9,ФИО!BA9&" "&ФИО!BB9&" "&ФИО!BC9,"")
A206: 8 | C206: =IF($AJ$3=ФИО!D10,ФИО!D10,"") -> 48 | D206: =IF($AJ$3=ФИО!D10,ФИО!G10&" "&ФИО!H10&" "&ФИО!N10&" "&ФИО!O10,"") -> Стригун Ангелина Могилев МГУОР | AW206: =ФИО!AX10 -> 0 | AX206: =IF($AJ$3=ФИО!AX10,ФИО!BA10&" "&ФИО!BB10&" "&ФИО!BC10,"")
A207: 9 | C207: =IF($AJ$3=ФИО!D11,ФИО!D11,"") | D207: =IF($AJ$3=ФИО!D11,ФИО!G11&" "&ФИО!H11&" "&ФИО!N11&" "&ФИО!O11,"") | AW207: =ФИО!AX11 -> 0 | AX207: =IF($AJ$3=ФИО!AX11,ФИО!BA11&" "&ФИО!BB11&" "&ФИО!BC11,"")
A208: 10 | C208: =IF($AJ$3=ФИО!D12,ФИО!D12,"") | D208: =IF($AJ$3=ФИО!D12,ФИО!G12&" "&ФИО!H12&" "&ФИО!N12&" "&ФИО!O12,"") | AW208: =ФИО!AX12 -> 0 | AX208: =IF($AJ$3=ФИО!AX12,ФИО!BA12&" "&ФИО!BB12&" "&ФИО!BC12,"")
A209: 11 | C209: =IF($AJ$3=ФИО!D13,ФИО!D13,"") | D209: =IF($AJ$3=ФИО!D13,ФИО!G13&" "&ФИО!H13&" "&ФИО!N13&" "&ФИО!O13,"") | AW209: =ФИО!AX13 -> 0 | AX209: =IF($AJ$3=ФИО!AX13,ФИО!BA13&" "&ФИО!BB13&" "&ФИО!BC13,"")
A210: 12 | C210: =IF($AJ$3=ФИО!D14,ФИО!D14,"") -> 48 | D210: =IF($AJ$3=ФИО!D14,ФИО!G14&" "&ФИО!H14&" "&ФИО!N14&" "&ФИО!O14,"") -> Романюк Елена Могилев БРУ | AW210: =ФИО!AX14 -> 0 | AX210: =IF($AJ$3=ФИО!AX14,ФИО!BA14&" "&ФИО!BB14&" "&ФИО!BC14,"")
... A398: 200 | C398: =IF($AJ$3=ФИО!D202,ФИО!D202,"") | D398: =IF($AJ$3=ФИО!D202,ФИО!G202&" "&ФИО!H202&" "&ФИО!N202&" "&ФИО!O202,"") | AW398: =ФИО!AX202 -> 0 | AX398: =IF($AJ$3=ФИО!AX202,ФИО!BA202&" "&ФИО!BB202&" "&ФИО!BC202,"")

Sheet Лист2

Sheet Лист3
